BEGIN:VCALENDAR
VERSION:2.0
PRODID:-//https://www.sandiegofamily.com///NONSGML kigkonsult.se iCalcreator 2.10.15//
METHOD:PUBLISH
BEGIN:VEVENT
UID:20260420T045911UTC-7050zgL88s@https://www.sandiegofamily.com/
DTSTAMP:20260420T045911Z
DESCRIPTION: https://www.sandiegofamily.com/things-to-do/events-calendar/ev
 ent/13061-seaworld-rides-reopen
DTSTART;VALUE=DATE:20210506
LOCATION:SeaWorld San Diego (500 Sea World Dr\, San Diego\, CA 92109\, USA)
SUMMARY:SeaWorld Rides Reopen
URL:https://www.sandiegofamily.com/things-to-do/events-calendar/event/13061
 -seaworld-rides-reopen
END:VEVENT
END:VCALENDAR
