BEGIN:VCALENDAR
VERSION:2.0
PRODID:-//https://www.sandiegofamily.com///NONSGML kigkonsult.se iCalcreator 2.10.15//
METHOD:PUBLISH
BEGIN:VEVENT
UID:20260421T095907UTC-5008KPDDgo@https://www.sandiegofamily.com/
DTSTAMP:20260421T095907Z
DESCRIPTION: https://www.sandiegofamily.com/things-to-do/events-calendar/ev
 ent/12866-free-car-washes-for-all-educators
DTSTART;VALUE=DATE:20210422
LOCATION:San Diego\, CA ()
SUMMARY:Free Car Washes for All Educators
URL:https://www.sandiegofamily.com/things-to-do/events-calendar/event/12866
 -free-car-washes-for-all-educators
END:VEVENT
END:VCALENDAR
