BEGIN:VCALENDAR
VERSION:2.0
PRODID:-//https://www.sandiegofamily.com///NONSGML kigkonsult.se iCalcreator 2.10.15//
METHOD:PUBLISH
BEGIN:VEVENT
UID:20260423T232359UTC-2284t2KJFo@https://www.sandiegofamily.com/
DTSTAMP:20260423T232359Z
DESCRIPTION: https://www.sandiegofamily.com/things-to-do/events-calendar/ev
 ent/12716-whale-dolphin-watching-tours
DTSTART;VALUE=DATE:20210413
LOCATION:Hornblower Landing\, Pier 1 (1800 N Harbor Dr\, San Diego\, CA 921
 01\, USA)
SUMMARY:Whale & Dolphin Watching Tours
URL:https://www.sandiegofamily.com/things-to-do/events-calendar/event/12716
 -whale-dolphin-watching-tours
END:VEVENT
END:VCALENDAR
