BEGIN:VCALENDAR
VERSION:2.0
PRODID:-//https://www.sandiegofamily.com///NONSGML kigkonsult.se iCalcreator 2.10.15//
METHOD:PUBLISH
BEGIN:VEVENT
UID:20260423T213823UTC-6415AWdWf2@https://www.sandiegofamily.com/
DTSTAMP:20260423T213823Z
DESCRIPTION: https://www.sandiegofamily.com/things-to-do/events-calendar/ev
 ent/12662-world-of-orchids
DTSTART;VALUE=DATE:20210419
LOCATION:San Diego Botanic Garden (230 Quail Gardens Dr\, Encinitas\, CA 92
 024\, USA)
SUMMARY:World of Orchids
URL:https://www.sandiegofamily.com/things-to-do/events-calendar/event/12662
 -world-of-orchids
END:VEVENT
END:VCALENDAR
