BEGIN:VCALENDAR
VERSION:2.0
PRODID:-//https://www.sandiegofamily.com///NONSGML kigkonsult.se iCalcreator 2.10.15//
METHOD:PUBLISH
BEGIN:VEVENT
UID:20260423T214248UTC-3539URPAgf@https://www.sandiegofamily.com/
DTSTAMP:20260423T214248Z
DESCRIPTION: https://www.sandiegofamily.com/things-to-do/events-calendar/ev
 ent/12638-egg-hunts-at-belmont-park
DTSTART;VALUE=DATE:20210404
LOCATION:Belmont Park (3146 Mission Blvd\, San Diego\, CA 92109\, USA)
SUMMARY:Egg Hunts at Belmont Park
URL:https://www.sandiegofamily.com/things-to-do/events-calendar/event/12638
 -egg-hunts-at-belmont-park
END:VEVENT
END:VCALENDAR
