BEGIN:VCALENDAR
VERSION:2.0
PRODID:-//https://www.sandiegofamily.com///NONSGML kigkonsult.se iCalcreator 2.10.15//
METHOD:PUBLISH
BEGIN:VEVENT
UID:20260423T202411UTC-1860lwxvuM@https://www.sandiegofamily.com/
DTSTAMP:20260423T202411Z
DESCRIPTION: https://www.sandiegofamily.com/things-to-do/events-calendar/ev
 ent/12425-rancho-penasquitos-scavenger-egg-hunt
DTSTART;VALUE=DATE:20210323
LOCATION:San Diego\, CA ()
SUMMARY:Rancho Penasquitos Scavenger Egg Hunt
URL:https://www.sandiegofamily.com/things-to-do/events-calendar/event/12425
 -rancho-penasquitos-scavenger-egg-hunt
END:VEVENT
END:VCALENDAR
