BEGIN:VCALENDAR
VERSION:2.0
PRODID:-//https://www.sandiegofamily.com///NONSGML kigkonsult.se iCalcreator 2.10.15//
METHOD:PUBLISH
BEGIN:VEVENT
UID:20260423T201115UTC-1422BkDcit@https://www.sandiegofamily.com/
DTSTAMP:20260423T201115Z
DESCRIPTION: https://www.sandiegofamily.com/things-to-do/events-calendar/ev
 ent/12345-birch-aquarium-outdoor-spaces-open
DTSTART;VALUE=DATE:20210325
LOCATION:Birch Aquarium at Scripps (2300 Expedition Way\, La Jolla\, CA 920
 37\, USA)
SUMMARY:Birch Aquarium Outdoor Spaces Open
URL:https://www.sandiegofamily.com/things-to-do/events-calendar/event/12345
 -birch-aquarium-outdoor-spaces-open
END:VEVENT
END:VCALENDAR
