BEGIN:VCALENDAR
VERSION:2.0
PRODID:-//https://www.sandiegofamily.com///NONSGML kigkonsult.se iCalcreator 2.10.15//
METHOD:PUBLISH
BEGIN:VEVENT
UID:20260424T002427UTC-6813Ve6eAj@https://www.sandiegofamily.com/
DTSTAMP:20260424T002427Z
DESCRIPTION: https://www.sandiegofamily.com/things-to-do/events-calendar/ev
 ent/12101-cherry-blossom-festival
DTSTART;VALUE=DATE:20210320
LOCATION:Japanese Friendship Garden (2215 Pan American Rd E\, San Diego\, C
 A 92101\, USA)
SUMMARY:Cherry Blossom Festival
URL:https://www.sandiegofamily.com/things-to-do/events-calendar/event/12101
 -cherry-blossom-festival
END:VEVENT
END:VCALENDAR
