BEGIN:VCALENDAR
VERSION:2.0
PRODID:-//https://www.sandiegofamily.com///NONSGML kigkonsult.se iCalcreator 2.10.15//
METHOD:PUBLISH
BEGIN:VEVENT
UID:20260423T202607UTC-4117Lwwcvf@https://www.sandiegofamily.com/
DTSTAMP:20260423T202607Z
DESCRIPTION: https://www.sandiegofamily.com/things-to-do/events-calendar/ev
 ent/12096-cherry-blossom-festival
DTSTART;VALUE=DATE:20210315
LOCATION:Japanese Friendship Garden (2215 Pan American Rd E\, San Diego\, C
 A 92101\, USA)
SUMMARY:Cherry Blossom Festival
URL:https://www.sandiegofamily.com/things-to-do/events-calendar/event/12096
 -cherry-blossom-festival
END:VEVENT
END:VCALENDAR
