BEGIN:VCALENDAR
VERSION:2.0
PRODID:-//https://www.sandiegofamily.com///NONSGML kigkonsult.se iCalcreator 2.10.15//
METHOD:PUBLISH
BEGIN:VEVENT
UID:20260426T024043UTC-1300RT8g5l@https://www.sandiegofamily.com/
DTSTAMP:20260426T024043Z
DESCRIPTION: https://www.sandiegofamily.com/things-to-do/events-calendar/ev
 ent/10928-nature-me-story-time
DTSTART:20210121T181500Z
DTEND:20210121T190000Z
LOCATION:Virtual Online Event ()
SUMMARY:Nature & Me Story Time
URL:https://www.sandiegofamily.com/things-to-do/events-calendar/event/10928
 -nature-me-story-time
END:VEVENT
END:VCALENDAR
