BEGIN:VCALENDAR
VERSION:2.0
PRODID:-//https://www.sandiegofamily.com///NONSGML kigkonsult.se iCalcreator 2.10.15//
METHOD:PUBLISH
BEGIN:VEVENT
UID:20260422T231428UTC-6649V788MI@https://www.sandiegofamily.com/
DTSTAMP:20260422T231428Z
DESCRIPTION: https://www.sandiegofamily.com/things-to-do/events-calendar/ev
 ent/10818-whale-dolphin-watching-cruises
DTSTART;VALUE=DATE:20210120
LOCATION:Pier 2\, downtown San Diego (970 N Harbor Dr\, San Diego\, CA 9213
 2\, USA)
SUMMARY:Whale & Dolphin Watching Cruises
URL:https://www.sandiegofamily.com/things-to-do/events-calendar/event/10818
 -whale-dolphin-watching-cruises
END:VEVENT
END:VCALENDAR
