BEGIN:VCALENDAR
VERSION:2.0
PRODID:-//https://www.sandiegofamily.com///NONSGML kigkonsult.se iCalcreator 2.10.15//
METHOD:PUBLISH
BEGIN:VEVENT
UID:20260421T145121UTC-9581iDH99G@https://www.sandiegofamily.com/
DTSTAMP:20260421T145121Z
DESCRIPTION: https://www.sandiegofamily.com/things-to-do/events-calendar/ev
 ent/10359-annual-turkey-calling-show
DTSTART:20201125T200000Z
DTEND:20201125T203000Z
LOCATION:Virtual Online Event ()
SUMMARY:Annual Turkey Calling Show
URL:https://www.sandiegofamily.com/things-to-do/events-calendar/event/10359
 -annual-turkey-calling-show
END:VEVENT
END:VCALENDAR
