BEGIN:VCALENDAR
VERSION:2.0
PRODID:-//https://www.sandiegofamily.com///NONSGML kigkonsult.se iCalcreator 2.10.15//
METHOD:PUBLISH
BEGIN:VEVENT
UID:20260424T210524UTC-4263EahfII@https://www.sandiegofamily.com/
DTSTAMP:20260424T210524Z
DESCRIPTION: https://www.sandiegofamily.com/things-to-do/events-calendar/ev
 ent/48174-spreckels-organ-society-concerts
DTSTART;VALUE=DATE:20260531
LOCATION:Spreckels Organ Pavilion\, Balboa Park (2125 Pan American Rd E\, S
 an Diego\, CA 92101\, USA)
SUMMARY:Spreckels Organ Society Concerts
URL:https://www.sandiegofamily.com/things-to-do/events-calendar/event/48174
 -spreckels-organ-society-concerts
END:VEVENT
BEGIN:VEVENT
UID:20260424T210524UTC-4265rWPMcn@https://www.sandiegofamily.com/
DTSTAMP:20260424T210524Z
DESCRIPTION: https://www.sandiegofamily.com/things-to-do/events-calendar/ev
 ent/49315-lego-galaxy
DTSTART;VALUE=DATE:20260531
LOCATION:LEGOLAND California Resort (1 Legoland Dr\, Carlsbad\, CA 92008\, 
 USA)
SUMMARY:LEGO Galaxy
URL:https://www.sandiegofamily.com/things-to-do/events-calendar/event/49315
 -lego-galaxy
END:VEVENT
BEGIN:VEVENT
UID:20260424T210524UTC-4266j8TEtl@https://www.sandiegofamily.com/
DTSTAMP:20260424T210524Z
DESCRIPTION: https://www.sandiegofamily.com/things-to-do/events-calendar/ev
 ent/49402-sesame-place
DTSTART;VALUE=DATE:20260531
LOCATION:Sesame Place San Diego (2052 Entertainment Cir\, Chula Vista\, CA 
 91911\, USA)
SUMMARY:Sesame Place
URL:https://www.sandiegofamily.com/things-to-do/events-calendar/event/49402
 -sesame-place
END:VEVENT
BEGIN:VEVENT
UID:20260424T210524UTC-4267twPT83@https://www.sandiegofamily.com/
DTSTAMP:20260424T210524Z
DESCRIPTION: https://www.sandiegofamily.com/things-to-do/events-calendar/ev
 ent/49580-belmont-in-bloom
DTSTART;VALUE=DATE:20260531
LOCATION:Belmont Park (3146 Mission Blvd\, San Diego\, CA 92109\, USA)
SUMMARY:Belmont in Bloom
URL:https://www.sandiegofamily.com/things-to-do/events-calendar/event/49580
 -belmont-in-bloom
END:VEVENT
BEGIN:VEVENT
UID:20260424T210524UTC-4267RKr7H0@https://www.sandiegofamily.com/
DTSTAMP:20260424T210524Z
DESCRIPTION: https://www.sandiegofamily.com/things-to-do/events-calendar/ev
 ent/49618-birch-after-hours
DTSTART;VALUE=DATE:20260531
LOCATION:Birch Aquarium at Scripps (2300 Expedition Way\, La Jolla\, CA 920
 37\, USA)
SUMMARY:Birch After Hours
URL:https://www.sandiegofamily.com/things-to-do/events-calendar/event/49618
 -birch-after-hours
END:VEVENT
BEGIN:VEVENT
UID:20260424T210524UTC-4268pfb8aO@https://www.sandiegofamily.com/
DTSTAMP:20260424T210524Z
DESCRIPTION: https://www.sandiegofamily.com/things-to-do/events-calendar/ev
 ent/49801-foodies-4-foster-kids
DTSTART;VALUE=DATE:20260531
LOCATION:San Diego\, CA ()
SUMMARY:Foodies 4 Foster Kids
URL:https://www.sandiegofamily.com/things-to-do/events-calendar/event/49801
 -foodies-4-foster-kids
END:VEVENT
BEGIN:VEVENT
UID:20260424T210524UTC-4269G6zWUi@https://www.sandiegofamily.com/
DTSTAMP:20260424T210524Z
DESCRIPTION: https://www.sandiegofamily.com/things-to-do/events-calendar/ev
 ent/49873-imagine-wild-mountain-yellow-legged-frog
DTSTART;VALUE=DATE:20260531
LOCATION:Birch Aquarium at Scripps (2300 Expedition Way\, La Jolla\, CA 920
 37\, USA)
SUMMARY:Imagine Wild: Mountain Yellow-legged Frog
URL:https://www.sandiegofamily.com/things-to-do/events-calendar/event/49873
 -imagine-wild-mountain-yellow-legged-frog
END:VEVENT
BEGIN:VEVENT
UID:20260424T210524UTC-4270OJLBZw@https://www.sandiegofamily.com/
DTSTAMP:20260424T210524Z
DESCRIPTION: https://www.sandiegofamily.com/things-to-do/events-calendar/ev
 ent/49950-kids-bowl-free
DTSTART;VALUE=DATE:20260531
LOCATION:San Diego\, CA ()
SUMMARY:Kids Bowl FREE
URL:https://www.sandiegofamily.com/things-to-do/events-calendar/event/49950
 -kids-bowl-free
END:VEVENT
BEGIN:VEVENT
UID:20260424T210524UTC-4271HaeFA7@https://www.sandiegofamily.com/
DTSTAMP:20260424T210524Z
DESCRIPTION: https://www.sandiegofamily.com/things-to-do/events-calendar/ev
 ent/50056-roar-snore-safari
DTSTART;VALUE=DATE:20260531
LOCATION:San Diego Zoo Safari Park (15500 San Pasqual Valley Rd\, Escondido
 \, CA 92027\, USA)
SUMMARY:Roar & Snore Safari
URL:https://www.sandiegofamily.com/things-to-do/events-calendar/event/50056
 -roar-snore-safari
END:VEVENT
BEGIN:VEVENT
UID:20260424T210524UTC-4272GHudOE@https://www.sandiegofamily.com/
DTSTAMP:20260424T210524Z
DESCRIPTION: https://www.sandiegofamily.com/things-to-do/events-calendar/ev
 ent/50087-u-pick-strawberry-fields
DTSTART;VALUE=DATE:20260531
LOCATION:Carlsbad Strawberry Fields (1050 Cannon Rd\, Carlsbad\, CA 92008\,
  USA)
SUMMARY:U-Pick Strawberry Fields
URL:https://www.sandiegofamily.com/things-to-do/events-calendar/event/50087
 -u-pick-strawberry-fields
END:VEVENT
BEGIN:VEVENT
UID:20260424T210524UTC-4273geWua8@https://www.sandiegofamily.com/
DTSTAMP:20260424T210524Z
DESCRIPTION: https://www.sandiegofamily.com/things-to-do/events-calendar/ev
 ent/50170-legoland-water-park
DTSTART;VALUE=DATE:20260531
LOCATION:LEGOLAND California Resort (1 Legoland Dr\, Carlsbad\, CA 92008\, 
 USA)
SUMMARY:LEGOLAND Water Park
URL:https://www.sandiegofamily.com/things-to-do/events-calendar/event/50170
 -legoland-water-park
END:VEVENT
BEGIN:VEVENT
UID:20260424T210524UTC-4273w5psvl@https://www.sandiegofamily.com/
DTSTAMP:20260424T210524Z
DESCRIPTION: https://www.sandiegofamily.com/things-to-do/events-calendar/ev
 ent/50204-orchids-in-the-wild
DTSTART;VALUE=DATE:20260531
LOCATION:San Diego Botanic Garden (230 Quail Gardens Dr\, Encinitas\, CA 92
 024\, USA)
SUMMARY:Orchids in the Wild
URL:https://www.sandiegofamily.com/things-to-do/events-calendar/event/50204
 -orchids-in-the-wild
END:VEVENT
BEGIN:VEVENT
UID:20260424T210524UTC-4274VUgbRB@https://www.sandiegofamily.com/
DTSTAMP:20260424T210524Z
DESCRIPTION: https://www.sandiegofamily.com/things-to-do/events-calendar/ev
 ent/50300-purpose
DTSTART;VALUE=DATE:20260531
LOCATION:La Jolla Playhouse (2910 La Jolla Village Dr\, La Jolla\, CA 92093
 \, USA)
SUMMARY:“Purpose.” 
URL:https://www.sandiegofamily.com/things-to-do/events-calendar/event/50300
 -purpose
END:VEVENT
BEGIN:VEVENT
UID:20260424T210524UTC-4275WdUAC9@https://www.sandiegofamily.com/
DTSTAMP:20260424T210524Z
DESCRIPTION: https://www.sandiegofamily.com/things-to-do/events-calendar/ev
 ent/50324-blue-star-museums-offers-free-admission
DTSTART;VALUE=DATE:20260531
LOCATION:San Diego\, CA ()
SUMMARY:Blue Star Museums offers FREE admission
URL:https://www.sandiegofamily.com/things-to-do/events-calendar/event/50324
 -blue-star-museums-offers-free-admission
END:VEVENT
BEGIN:VEVENT
UID:20260424T210524UTC-4276aN7BGm@https://www.sandiegofamily.com/
DTSTAMP:20260424T210524Z
DESCRIPTION: https://www.sandiegofamily.com/things-to-do/events-calendar/ev
 ent/50459-the-wave-waterpark-opens
DTSTART;VALUE=DATE:20260531
LOCATION:The Wave Waterpark (101 Wave Dr\, Vista\, CA 92083\, USA)
SUMMARY:The Wave Waterpark Opens
URL:https://www.sandiegofamily.com/things-to-do/events-calendar/event/50459
 -the-wave-waterpark-opens
END:VEVENT
BEGIN:VEVENT
UID:20260424T210524UTC-4277JSUKaz@https://www.sandiegofamily.com/
DTSTAMP:20260424T210524Z
DESCRIPTION: https://www.sandiegofamily.com/things-to-do/events-calendar/ev
 ent/50470-sesame-summer-splash
DTSTART;VALUE=DATE:20260531
LOCATION:Sesame Place San Diego (2052 Entertainment Cir\, Chula Vista\, CA 
 91911\, USA)
SUMMARY:Sesame Summer Splash
URL:https://www.sandiegofamily.com/things-to-do/events-calendar/event/50470
 -sesame-summer-splash
END:VEVENT
BEGIN:VEVENT
UID:20260424T210524UTC-4277HMwHKX@https://www.sandiegofamily.com/
DTSTAMP:20260424T210524Z
DESCRIPTION: https://www.sandiegofamily.com/things-to-do/events-calendar/ev
 ent/50577-the-sound-of-music
DTSTART;VALUE=DATE:20260531
LOCATION:San Diego Civic Theatre (1100 Third Ave\, San Diego\, CA 92101\, U
 SA)
SUMMARY:“The Sound of Music.” 
URL:https://www.sandiegofamily.com/things-to-do/events-calendar/event/50577
 -the-sound-of-music
END:VEVENT
BEGIN:VEVENT
UID:20260424T210524UTC-4278RME9iW@https://www.sandiegofamily.com/
DTSTAMP:20260424T210524Z
DESCRIPTION: https://www.sandiegofamily.com/things-to-do/events-calendar/ev
 ent/50581-fiesta-del-sol
DTSTART;VALUE=DATE:20260531
LOCATION:San Diego\, CA ()
SUMMARY:Fiesta del Sol
URL:https://www.sandiegofamily.com/things-to-do/events-calendar/event/50581
 -fiesta-del-sol
END:VEVENT
BEGIN:VEVENT
UID:20260424T210524UTC-42799Cf7U3@https://www.sandiegofamily.com/
DTSTAMP:20260424T210524Z
DESCRIPTION: https://www.sandiegofamily.com/things-to-do/events-calendar/ev
 ent/50584-rock-n-roll-san-diego
DTSTART;VALUE=DATE:20260531
LOCATION:San Diego\, CA ()
SUMMARY:Rock N Roll San Diego
URL:https://www.sandiegofamily.com/things-to-do/events-calendar/event/50584
 -rock-n-roll-san-diego
END:VEVENT
END:VCALENDAR
