BEGIN:VCALENDAR
VERSION:2.0
PRODID:-//https://www.sandiegofamily.com///NONSGML kigkonsult.se iCalcreator 2.10.15//
METHOD:PUBLISH
BEGIN:VEVENT
UID:20260424T133501UTC-7979FDHDZb@https://www.sandiegofamily.com/
DTSTAMP:20260424T133501Z
DESCRIPTION: https://www.sandiegofamily.com/things-to-do/events-calendar/ev
 ent/49314-lego-galaxy
DTSTART;VALUE=DATE:20260530
LOCATION:LEGOLAND California Resort (1 Legoland Dr\, Carlsbad\, CA 92008\, 
 USA)
SUMMARY:LEGO Galaxy
URL:https://www.sandiegofamily.com/things-to-do/events-calendar/event/49314
 -lego-galaxy
END:VEVENT
BEGIN:VEVENT
UID:20260424T133501UTC-7981iRVKBH@https://www.sandiegofamily.com/
DTSTAMP:20260424T133501Z
DESCRIPTION: https://www.sandiegofamily.com/things-to-do/events-calendar/ev
 ent/49401-sesame-place
DTSTART;VALUE=DATE:20260530
LOCATION:Sesame Place San Diego (2052 Entertainment Cir\, Chula Vista\, CA 
 91911\, USA)
SUMMARY:Sesame Place
URL:https://www.sandiegofamily.com/things-to-do/events-calendar/event/49401
 -sesame-place
END:VEVENT
BEGIN:VEVENT
UID:20260424T133501UTC-7981ZuVJDB@https://www.sandiegofamily.com/
DTSTAMP:20260424T133501Z
DESCRIPTION: https://www.sandiegofamily.com/things-to-do/events-calendar/ev
 ent/49579-belmont-in-bloom
DTSTART;VALUE=DATE:20260530
LOCATION:Belmont Park (3146 Mission Blvd\, San Diego\, CA 92109\, USA)
SUMMARY:Belmont in Bloom
URL:https://www.sandiegofamily.com/things-to-do/events-calendar/event/49579
 -belmont-in-bloom
END:VEVENT
BEGIN:VEVENT
UID:20260424T133501UTC-7982uRE0Vg@https://www.sandiegofamily.com/
DTSTAMP:20260424T133501Z
DESCRIPTION: https://www.sandiegofamily.com/things-to-do/events-calendar/ev
 ent/49800-foodies-4-foster-kids
DTSTART;VALUE=DATE:20260530
LOCATION:San Diego\, CA ()
SUMMARY:Foodies 4 Foster Kids
URL:https://www.sandiegofamily.com/things-to-do/events-calendar/event/49800
 -foodies-4-foster-kids
END:VEVENT
BEGIN:VEVENT
UID:20260424T133501UTC-79833cgWSC@https://www.sandiegofamily.com/
DTSTAMP:20260424T133501Z
DESCRIPTION: https://www.sandiegofamily.com/things-to-do/events-calendar/ev
 ent/49872-imagine-wild-mountain-yellow-legged-frog
DTSTART;VALUE=DATE:20260530
LOCATION:Birch Aquarium at Scripps (2300 Expedition Way\, La Jolla\, CA 920
 37\, USA)
SUMMARY:Imagine Wild: Mountain Yellow-legged Frog
URL:https://www.sandiegofamily.com/things-to-do/events-calendar/event/49872
 -imagine-wild-mountain-yellow-legged-frog
END:VEVENT
BEGIN:VEVENT
UID:20260424T133501UTC-7984DograX@https://www.sandiegofamily.com/
DTSTAMP:20260424T133501Z
DESCRIPTION: https://www.sandiegofamily.com/things-to-do/events-calendar/ev
 ent/49949-kids-bowl-free
DTSTART;VALUE=DATE:20260530
LOCATION:San Diego\, CA ()
SUMMARY:Kids Bowl FREE
URL:https://www.sandiegofamily.com/things-to-do/events-calendar/event/49949
 -kids-bowl-free
END:VEVENT
BEGIN:VEVENT
UID:20260424T133501UTC-7985o5UZP1@https://www.sandiegofamily.com/
DTSTAMP:20260424T133501Z
DESCRIPTION: https://www.sandiegofamily.com/things-to-do/events-calendar/ev
 ent/50023-overnight-adventure-program
DTSTART;VALUE=DATE:20260530
LOCATION:USS Midway Museum (910 N Harbor Dr\, San Diego\, CA 92101\, USA)
SUMMARY:Overnight Adventure Program
URL:https://www.sandiegofamily.com/things-to-do/events-calendar/event/50023
 -overnight-adventure-program
END:VEVENT
BEGIN:VEVENT
UID:20260424T133501UTC-7986v6ufu3@https://www.sandiegofamily.com/
DTSTAMP:20260424T133501Z
DESCRIPTION: https://www.sandiegofamily.com/things-to-do/events-calendar/ev
 ent/50034-movies-on-the-beach
DTSTART;VALUE=DATE:20260530
LOCATION:Hotel del Coronado  (1500 Orange Ave.\, Coronado)
SUMMARY:Movies on the Beach
URL:https://www.sandiegofamily.com/things-to-do/events-calendar/event/50034
 -movies-on-the-beach
END:VEVENT
BEGIN:VEVENT
UID:20260424T133501UTC-7986XESP2F@https://www.sandiegofamily.com/
DTSTAMP:20260424T133501Z
DESCRIPTION: https://www.sandiegofamily.com/things-to-do/events-calendar/ev
 ent/50055-roar-snore-safari
DTSTART;VALUE=DATE:20260530
LOCATION:San Diego Zoo Safari Park (15500 San Pasqual Valley Rd\, Escondido
 \, CA 92027\, USA)
SUMMARY:Roar & Snore Safari
URL:https://www.sandiegofamily.com/things-to-do/events-calendar/event/50055
 -roar-snore-safari
END:VEVENT
BEGIN:VEVENT
UID:20260424T133501UTC-7987u6MU65@https://www.sandiegofamily.com/
DTSTAMP:20260424T133501Z
DESCRIPTION: https://www.sandiegofamily.com/things-to-do/events-calendar/ev
 ent/50086-u-pick-strawberry-fields
DTSTART;VALUE=DATE:20260530
LOCATION:Carlsbad Strawberry Fields (1050 Cannon Rd\, Carlsbad\, CA 92008\,
  USA)
SUMMARY:U-Pick Strawberry Fields
URL:https://www.sandiegofamily.com/things-to-do/events-calendar/event/50086
 -u-pick-strawberry-fields
END:VEVENT
BEGIN:VEVENT
UID:20260424T133501UTC-7988VHFEpv@https://www.sandiegofamily.com/
DTSTAMP:20260424T133501Z
DESCRIPTION: https://www.sandiegofamily.com/things-to-do/events-calendar/ev
 ent/50169-legoland-water-park
DTSTART;VALUE=DATE:20260530
LOCATION:LEGOLAND California Resort (1 Legoland Dr\, Carlsbad\, CA 92008\, 
 USA)
SUMMARY:LEGOLAND Water Park
URL:https://www.sandiegofamily.com/things-to-do/events-calendar/event/50169
 -legoland-water-park
END:VEVENT
BEGIN:VEVENT
UID:20260424T133501UTC-7989DUm0ui@https://www.sandiegofamily.com/
DTSTAMP:20260424T133501Z
DESCRIPTION: https://www.sandiegofamily.com/things-to-do/events-calendar/ev
 ent/50203-orchids-in-the-wild
DTSTART;VALUE=DATE:20260530
LOCATION:San Diego Botanic Garden (230 Quail Gardens Dr\, Encinitas\, CA 92
 024\, USA)
SUMMARY:Orchids in the Wild
URL:https://www.sandiegofamily.com/things-to-do/events-calendar/event/50203
 -orchids-in-the-wild
END:VEVENT
BEGIN:VEVENT
UID:20260424T133501UTC-79905fuURx@https://www.sandiegofamily.com/
DTSTAMP:20260424T133501Z
DESCRIPTION: https://www.sandiegofamily.com/things-to-do/events-calendar/ev
 ent/50213-concert-series-on-the-deck
DTSTART;VALUE=DATE:20260530
LOCATION:Santee Lakes (9310 Fanita Pkwy\, Santee\, CA 92071\, USA)
SUMMARY:Concert Series on the Deck
URL:https://www.sandiegofamily.com/things-to-do/events-calendar/event/50213
 -concert-series-on-the-deck
END:VEVENT
BEGIN:VEVENT
UID:20260424T133501UTC-7990dWMAkb@https://www.sandiegofamily.com/
DTSTAMP:20260424T133501Z
DESCRIPTION: https://www.sandiegofamily.com/things-to-do/events-calendar/ev
 ent/50232-a-book-and-a-ballerina
DTSTART;VALUE=DATE:20260530
LOCATION:San Diego\, CA ()
SUMMARY:“A Book and a Ballerina.” 
URL:https://www.sandiegofamily.com/things-to-do/events-calendar/event/50232
 -a-book-and-a-ballerina
END:VEVENT
BEGIN:VEVENT
UID:20260424T133501UTC-7991DiK46d@https://www.sandiegofamily.com/
DTSTAMP:20260424T133501Z
DESCRIPTION: https://www.sandiegofamily.com/things-to-do/events-calendar/ev
 ent/50299-purpose
DTSTART;VALUE=DATE:20260530
LOCATION:La Jolla Playhouse (2910 La Jolla Village Dr\, La Jolla\, CA 92093
 \, USA)
SUMMARY:“Purpose.” 
URL:https://www.sandiegofamily.com/things-to-do/events-calendar/event/50299
 -purpose
END:VEVENT
BEGIN:VEVENT
UID:20260424T133501UTC-7992sczAs1@https://www.sandiegofamily.com/
DTSTAMP:20260424T133501Z
DESCRIPTION: https://www.sandiegofamily.com/things-to-do/events-calendar/ev
 ent/50323-blue-star-museums-offers-free-admission
DTSTART;VALUE=DATE:20260530
LOCATION:San Diego\, CA ()
SUMMARY:Blue Star Museums offers FREE admission
URL:https://www.sandiegofamily.com/things-to-do/events-calendar/event/50323
 -blue-star-museums-offers-free-admission
END:VEVENT
BEGIN:VEVENT
UID:20260424T133501UTC-7993PtHRMI@https://www.sandiegofamily.com/
DTSTAMP:20260424T133501Z
DESCRIPTION: https://www.sandiegofamily.com/things-to-do/events-calendar/ev
 ent/50458-the-wave-waterpark-opens
DTSTART;VALUE=DATE:20260530
LOCATION:The Wave Waterpark (101 Wave Dr\, Vista\, CA 92083\, USA)
SUMMARY:The Wave Waterpark Opens
URL:https://www.sandiegofamily.com/things-to-do/events-calendar/event/50458
 -the-wave-waterpark-opens
END:VEVENT
BEGIN:VEVENT
UID:20260424T133501UTC-7993SET8Uo@https://www.sandiegofamily.com/
DTSTAMP:20260424T133501Z
DESCRIPTION: https://www.sandiegofamily.com/things-to-do/events-calendar/ev
 ent/50469-sesame-summer-splash
DTSTART;VALUE=DATE:20260530
LOCATION:Sesame Place San Diego (2052 Entertainment Cir\, Chula Vista\, CA 
 91911\, USA)
SUMMARY:Sesame Summer Splash
URL:https://www.sandiegofamily.com/things-to-do/events-calendar/event/50469
 -sesame-summer-splash
END:VEVENT
BEGIN:VEVENT
UID:20260424T133501UTC-7994UEo7EB@https://www.sandiegofamily.com/
DTSTAMP:20260424T133501Z
DESCRIPTION: https://www.sandiegofamily.com/things-to-do/events-calendar/ev
 ent/50576-the-sound-of-music
DTSTART;VALUE=DATE:20260530
LOCATION:San Diego Civic Theatre (1100 Third Ave\, San Diego\, CA 92101\, U
 SA)
SUMMARY:“The Sound of Music.” 
URL:https://www.sandiegofamily.com/things-to-do/events-calendar/event/50576
 -the-sound-of-music
END:VEVENT
BEGIN:VEVENT
UID:20260424T133501UTC-7995zBpjSv@https://www.sandiegofamily.com/
DTSTAMP:20260424T133501Z
DESCRIPTION: https://www.sandiegofamily.com/things-to-do/events-calendar/ev
 ent/50580-fiesta-del-sol
DTSTART;VALUE=DATE:20260530
LOCATION:San Diego\, CA ()
SUMMARY:Fiesta del Sol
URL:https://www.sandiegofamily.com/things-to-do/events-calendar/event/50580
 -fiesta-del-sol
END:VEVENT
BEGIN:VEVENT
UID:20260424T133501UTC-7996pSRPOW@https://www.sandiegofamily.com/
DTSTAMP:20260424T133501Z
DESCRIPTION: https://www.sandiegofamily.com/things-to-do/events-calendar/ev
 ent/50582-kids-markets
DTSTART;VALUE=DATE:20260530
LOCATION:Belmont Park (3146 Mission Blvd\, San Diego\, CA 92109\, USA)
SUMMARY:Kids Markets
URL:https://www.sandiegofamily.com/things-to-do/events-calendar/event/50582
 -kids-markets
END:VEVENT
BEGIN:VEVENT
UID:20260424T133501UTC-7997h0Pzdd@https://www.sandiegofamily.com/
DTSTAMP:20260424T133501Z
DESCRIPTION: https://www.sandiegofamily.com/things-to-do/events-calendar/ev
 ent/50583-rock-n-roll-san-diego
DTSTART;VALUE=DATE:20260530
LOCATION:San Diego\, CA ()
SUMMARY:Rock N Roll San Diego
URL:https://www.sandiegofamily.com/things-to-do/events-calendar/event/50583
 -rock-n-roll-san-diego
END:VEVENT
END:VCALENDAR
