BEGIN:VCALENDAR
VERSION:2.0
PRODID:-//https://www.sandiegofamily.com///NONSGML kigkonsult.se iCalcreator 2.10.15//
METHOD:PUBLISH
BEGIN:VEVENT
UID:20260424T132716UTC-54532N2ulC@https://www.sandiegofamily.com/
DTSTAMP:20260424T132716Z
DESCRIPTION: https://www.sandiegofamily.com/things-to-do/events-calendar/ev
 ent/49309-lego-galaxy
DTSTART;VALUE=DATE:20260525
LOCATION:LEGOLAND California Resort (1 Legoland Dr\, Carlsbad\, CA 92008\, 
 USA)
SUMMARY:LEGO Galaxy
URL:https://www.sandiegofamily.com/things-to-do/events-calendar/event/49309
 -lego-galaxy
END:VEVENT
BEGIN:VEVENT
UID:20260424T132716UTC-5455uwMX1v@https://www.sandiegofamily.com/
DTSTAMP:20260424T132716Z
DESCRIPTION: https://www.sandiegofamily.com/things-to-do/events-calendar/ev
 ent/49499-story-time-with-seadragons
DTSTART;VALUE=DATE:20260525
LOCATION:Birch Aquarium at Scripps (2300 Expedition Way\, La Jolla\, CA 920
 37\, USA)
SUMMARY:Story Time with Seadragons
URL:https://www.sandiegofamily.com/things-to-do/events-calendar/event/49499
 -story-time-with-seadragons
END:VEVENT
BEGIN:VEVENT
UID:20260424T132716UTC-5456XeRMj7@https://www.sandiegofamily.com/
DTSTAMP:20260424T132716Z
DESCRIPTION: https://www.sandiegofamily.com/things-to-do/events-calendar/ev
 ent/49574-belmont-in-bloom
DTSTART;VALUE=DATE:20260525
LOCATION:Belmont Park (3146 Mission Blvd\, San Diego\, CA 92109\, USA)
SUMMARY:Belmont in Bloom
URL:https://www.sandiegofamily.com/things-to-do/events-calendar/event/49574
 -belmont-in-bloom
END:VEVENT
BEGIN:VEVENT
UID:20260424T132716UTC-5457GHt3xB@https://www.sandiegofamily.com/
DTSTAMP:20260424T132716Z
DESCRIPTION: https://www.sandiegofamily.com/things-to-do/events-calendar/ev
 ent/49795-foodies-4-foster-kids
DTSTART;VALUE=DATE:20260525
LOCATION:San Diego\, CA ()
SUMMARY:Foodies 4 Foster Kids
URL:https://www.sandiegofamily.com/things-to-do/events-calendar/event/49795
 -foodies-4-foster-kids
END:VEVENT
BEGIN:VEVENT
UID:20260424T132716UTC-54579GST2v@https://www.sandiegofamily.com/
DTSTAMP:20260424T132716Z
DESCRIPTION: https://www.sandiegofamily.com/things-to-do/events-calendar/ev
 ent/49867-imagine-wild-mountain-yellow-legged-frog
DTSTART;VALUE=DATE:20260525
LOCATION:Birch Aquarium at Scripps (2300 Expedition Way\, La Jolla\, CA 920
 37\, USA)
SUMMARY:Imagine Wild: Mountain Yellow-legged Frog
URL:https://www.sandiegofamily.com/things-to-do/events-calendar/event/49867
 -imagine-wild-mountain-yellow-legged-frog
END:VEVENT
BEGIN:VEVENT
UID:20260424T132716UTC-5458k6X4O1@https://www.sandiegofamily.com/
DTSTAMP:20260424T132716Z
DESCRIPTION: https://www.sandiegofamily.com/things-to-do/events-calendar/ev
 ent/49917-padres-home-games
DTSTART;VALUE=DATE:20260525
LOCATION:Petco Park (100 Park Blvd\, San Diego\, CA 92101\, USA)
SUMMARY:Padres Home Games
URL:https://www.sandiegofamily.com/things-to-do/events-calendar/event/49917
 -padres-home-games
END:VEVENT
BEGIN:VEVENT
UID:20260424T132716UTC-5459SapaEK@https://www.sandiegofamily.com/
DTSTAMP:20260424T132716Z
DESCRIPTION: https://www.sandiegofamily.com/things-to-do/events-calendar/ev
 ent/49944-kids-bowl-free
DTSTART;VALUE=DATE:20260525
LOCATION:San Diego\, CA ()
SUMMARY:Kids Bowl FREE
URL:https://www.sandiegofamily.com/things-to-do/events-calendar/event/49944
 -kids-bowl-free
END:VEVENT
BEGIN:VEVENT
UID:20260424T132716UTC-5460XK0mlx@https://www.sandiegofamily.com/
DTSTAMP:20260424T132716Z
DESCRIPTION: https://www.sandiegofamily.com/things-to-do/events-calendar/ev
 ent/50081-u-pick-strawberry-fields
DTSTART;VALUE=DATE:20260525
LOCATION:Carlsbad Strawberry Fields (1050 Cannon Rd\, Carlsbad\, CA 92008\,
  USA)
SUMMARY:U-Pick Strawberry Fields
URL:https://www.sandiegofamily.com/things-to-do/events-calendar/event/50081
 -u-pick-strawberry-fields
END:VEVENT
BEGIN:VEVENT
UID:20260424T132716UTC-5461LAu7Cm@https://www.sandiegofamily.com/
DTSTAMP:20260424T132716Z
DESCRIPTION: https://www.sandiegofamily.com/things-to-do/events-calendar/ev
 ent/50142-spring-camping-series
DTSTART;VALUE=DATE:20260525
LOCATION:Lake Poway (14644 Lake Poway Rd\, Poway\, CA 92064\, USA)
SUMMARY:Spring Camping Series
URL:https://www.sandiegofamily.com/things-to-do/events-calendar/event/50142
 -spring-camping-series
END:VEVENT
BEGIN:VEVENT
UID:20260424T132716UTC-5461kiODia@https://www.sandiegofamily.com/
DTSTAMP:20260424T132716Z
DESCRIPTION: https://www.sandiegofamily.com/things-to-do/events-calendar/ev
 ent/50199-orchids-in-the-wild
DTSTART;VALUE=DATE:20260525
LOCATION:San Diego Botanic Garden (230 Quail Gardens Dr\, Encinitas\, CA 92
 024\, USA)
SUMMARY:Orchids in the Wild
URL:https://www.sandiegofamily.com/things-to-do/events-calendar/event/50199
 -orchids-in-the-wild
END:VEVENT
BEGIN:VEVENT
UID:20260424T132716UTC-54622pXv4D@https://www.sandiegofamily.com/
DTSTAMP:20260424T132716Z
DESCRIPTION: https://www.sandiegofamily.com/things-to-do/events-calendar/ev
 ent/50318-blue-star-museums-offers-free-admission
DTSTART;VALUE=DATE:20260525
LOCATION:San Diego\, CA ()
SUMMARY:Blue Star Museums offers FREE admission
URL:https://www.sandiegofamily.com/things-to-do/events-calendar/event/50318
 -blue-star-museums-offers-free-admission
END:VEVENT
BEGIN:VEVENT
UID:20260424T132716UTC-5463pAgbmp@https://www.sandiegofamily.com/
DTSTAMP:20260424T132716Z
DESCRIPTION: https://www.sandiegofamily.com/things-to-do/events-calendar/ev
 ent/50446-uss-midway-legacy-week
DTSTART;VALUE=DATE:20260525
LOCATION:USS Midway Museum (910 N Harbor Dr\, San Diego\, CA 92101\, USA)
SUMMARY:USS Midway Legacy Week
URL:https://www.sandiegofamily.com/things-to-do/events-calendar/event/50446
 -uss-midway-legacy-week
END:VEVENT
BEGIN:VEVENT
UID:20260424T132716UTC-5464i4N4G2@https://www.sandiegofamily.com/
DTSTAMP:20260424T132716Z
DESCRIPTION: https://www.sandiegofamily.com/things-to-do/events-calendar/ev
 ent/50464-sesame-summer-splash
DTSTART;VALUE=DATE:20260525
LOCATION:Sesame Place San Diego (2052 Entertainment Cir\, Chula Vista\, CA 
 91911\, USA)
SUMMARY:Sesame Summer Splash
URL:https://www.sandiegofamily.com/things-to-do/events-calendar/event/50464
 -sesame-summer-splash
END:VEVENT
BEGIN:VEVENT
UID:20260424T132716UTC-5465xzZf8t@https://www.sandiegofamily.com/
DTSTAMP:20260424T132716Z
DESCRIPTION: https://www.sandiegofamily.com/things-to-do/events-calendar/ev
 ent/50570-national-parks-fee-free-days
DTSTART;VALUE=DATE:20260525
LOCATION:San Diego\, CA ()
SUMMARY:National Parks Fee FREE Days
URL:https://www.sandiegofamily.com/things-to-do/events-calendar/event/50570
 -national-parks-fee-free-days
END:VEVENT
BEGIN:VEVENT
UID:20260424T132716UTC-5465HSb8CS@https://www.sandiegofamily.com/
DTSTAMP:20260424T132716Z
DESCRIPTION: https://www.sandiegofamily.com/things-to-do/events-calendar/ev
 ent/50571-military-fire-law-day-at-the-wave-waterpark
DTSTART;VALUE=DATE:20260525
LOCATION:The Wave Waterpark (101 Wave Dr\, Vista\, CA 92083\, USA)
SUMMARY:Military\, Fire & Law Day at The Wave Waterpark
URL:https://www.sandiegofamily.com/things-to-do/events-calendar/event/50571
 -military-fire-law-day-at-the-wave-waterpark
END:VEVENT
END:VCALENDAR
