BEGIN:VCALENDAR
VERSION:2.0
PRODID:-//https://www.sandiegofamily.com///NONSGML kigkonsult.se iCalcreator 2.10.15//
METHOD:PUBLISH
BEGIN:VEVENT
UID:20260424T235415UTC-0239LoCWUK@https://www.sandiegofamily.com/
DTSTAMP:20260424T235415Z
DESCRIPTION: https://www.sandiegofamily.com/things-to-do/events-calendar/ev
 ent/49307-lego-galaxy
DTSTART;VALUE=DATE:20260523
LOCATION:LEGOLAND California Resort (1 Legoland Dr\, Carlsbad\, CA 92008\, 
 USA)
SUMMARY:LEGO Galaxy
URL:https://www.sandiegofamily.com/things-to-do/events-calendar/event/49307
 -lego-galaxy
END:VEVENT
BEGIN:VEVENT
UID:20260424T235415UTC-0241BoFbPw@https://www.sandiegofamily.com/
DTSTAMP:20260424T235415Z
DESCRIPTION: https://www.sandiegofamily.com/things-to-do/events-calendar/ev
 ent/49399-sesame-place
DTSTART;VALUE=DATE:20260523
LOCATION:Sesame Place San Diego (2052 Entertainment Cir\, Chula Vista\, CA 
 91911\, USA)
SUMMARY:Sesame Place
URL:https://www.sandiegofamily.com/things-to-do/events-calendar/event/49399
 -sesame-place
END:VEVENT
BEGIN:VEVENT
UID:20260424T235415UTC-02425wgEGX@https://www.sandiegofamily.com/
DTSTAMP:20260424T235415Z
DESCRIPTION: https://www.sandiegofamily.com/things-to-do/events-calendar/ev
 ent/49471-free-legoland-tickets-for-first-responders
DTSTART;VALUE=DATE:20260523
LOCATION:LEGOLAND California Resort (1 Legoland Dr\, Carlsbad\, CA 92008\, 
 USA)
SUMMARY:FREE LEGOLAND Tickets for First Responders
URL:https://www.sandiegofamily.com/things-to-do/events-calendar/event/49471
 -free-legoland-tickets-for-first-responders
END:VEVENT
BEGIN:VEVENT
UID:20260424T235415UTC-0243AJ5r2K@https://www.sandiegofamily.com/
DTSTAMP:20260424T235415Z
DESCRIPTION: https://www.sandiegofamily.com/things-to-do/events-calendar/ev
 ent/49572-belmont-in-bloom
DTSTART;VALUE=DATE:20260523
LOCATION:Belmont Park (3146 Mission Blvd\, San Diego\, CA 92109\, USA)
SUMMARY:Belmont in Bloom
URL:https://www.sandiegofamily.com/things-to-do/events-calendar/event/49572
 -belmont-in-bloom
END:VEVENT
BEGIN:VEVENT
UID:20260424T235415UTC-0244U2DOTK@https://www.sandiegofamily.com/
DTSTAMP:20260424T235415Z
DESCRIPTION: https://www.sandiegofamily.com/things-to-do/events-calendar/ev
 ent/49793-foodies-4-foster-kids
DTSTART;VALUE=DATE:20260523
LOCATION:San Diego\, CA ()
SUMMARY:Foodies 4 Foster Kids
URL:https://www.sandiegofamily.com/things-to-do/events-calendar/event/49793
 -foodies-4-foster-kids
END:VEVENT
BEGIN:VEVENT
UID:20260424T235415UTC-024631V2Su@https://www.sandiegofamily.com/
DTSTAMP:20260424T235415Z
DESCRIPTION: https://www.sandiegofamily.com/things-to-do/events-calendar/ev
 ent/49865-imagine-wild-mountain-yellow-legged-frog
DTSTART;VALUE=DATE:20260523
LOCATION:Birch Aquarium at Scripps (2300 Expedition Way\, La Jolla\, CA 920
 37\, USA)
SUMMARY:Imagine Wild: Mountain Yellow-legged Frog
URL:https://www.sandiegofamily.com/things-to-do/events-calendar/event/49865
 -imagine-wild-mountain-yellow-legged-frog
END:VEVENT
BEGIN:VEVENT
UID:20260424T235415UTC-0247ZMmrVM@https://www.sandiegofamily.com/
DTSTAMP:20260424T235415Z
DESCRIPTION: https://www.sandiegofamily.com/things-to-do/events-calendar/ev
 ent/49915-padres-home-games
DTSTART;VALUE=DATE:20260523
LOCATION:Petco Park (100 Park Blvd\, San Diego\, CA 92101\, USA)
SUMMARY:Padres Home Games
URL:https://www.sandiegofamily.com/things-to-do/events-calendar/event/49915
 -padres-home-games
END:VEVENT
BEGIN:VEVENT
UID:20260424T235415UTC-0248VGvBuI@https://www.sandiegofamily.com/
DTSTAMP:20260424T235415Z
DESCRIPTION: https://www.sandiegofamily.com/things-to-do/events-calendar/ev
 ent/49942-kids-bowl-free
DTSTART;VALUE=DATE:20260523
LOCATION:San Diego\, CA ()
SUMMARY:Kids Bowl FREE
URL:https://www.sandiegofamily.com/things-to-do/events-calendar/event/49942
 -kids-bowl-free
END:VEVENT
BEGIN:VEVENT
UID:20260424T235415UTC-0249dx7iCE@https://www.sandiegofamily.com/
DTSTAMP:20260424T235415Z
DESCRIPTION: https://www.sandiegofamily.com/things-to-do/events-calendar/ev
 ent/50031-movies-on-the-beach
DTSTART;VALUE=DATE:20260523
LOCATION:Hotel del Coronado  (1500 Orange Ave.\, Coronado)
SUMMARY:Movies on the Beach
URL:https://www.sandiegofamily.com/things-to-do/events-calendar/event/50031
 -movies-on-the-beach
END:VEVENT
BEGIN:VEVENT
UID:20260424T235415UTC-0250SINh4r@https://www.sandiegofamily.com/
DTSTAMP:20260424T235415Z
DESCRIPTION: https://www.sandiegofamily.com/things-to-do/events-calendar/ev
 ent/50053-roar-snore-safari
DTSTART;VALUE=DATE:20260523
LOCATION:San Diego Zoo Safari Park (15500 San Pasqual Valley Rd\, Escondido
 \, CA 92027\, USA)
SUMMARY:Roar & Snore Safari
URL:https://www.sandiegofamily.com/things-to-do/events-calendar/event/50053
 -roar-snore-safari
END:VEVENT
BEGIN:VEVENT
UID:20260424T235415UTC-025164gtfu@https://www.sandiegofamily.com/
DTSTAMP:20260424T235415Z
DESCRIPTION: https://www.sandiegofamily.com/things-to-do/events-calendar/ev
 ent/50079-u-pick-strawberry-fields
DTSTART;VALUE=DATE:20260523
LOCATION:Carlsbad Strawberry Fields (1050 Cannon Rd\, Carlsbad\, CA 92008\,
  USA)
SUMMARY:U-Pick Strawberry Fields
URL:https://www.sandiegofamily.com/things-to-do/events-calendar/event/50079
 -u-pick-strawberry-fields
END:VEVENT
BEGIN:VEVENT
UID:20260424T235415UTC-02522cW15k@https://www.sandiegofamily.com/
DTSTAMP:20260424T235415Z
DESCRIPTION: https://www.sandiegofamily.com/things-to-do/events-calendar/ev
 ent/50140-spring-camping-series
DTSTART;VALUE=DATE:20260523
LOCATION:Lake Poway (14644 Lake Poway Rd\, Poway\, CA 92064\, USA)
SUMMARY:Spring Camping Series
URL:https://www.sandiegofamily.com/things-to-do/events-calendar/event/50140
 -spring-camping-series
END:VEVENT
BEGIN:VEVENT
UID:20260424T235415UTC-02536wWbk3@https://www.sandiegofamily.com/
DTSTAMP:20260424T235415Z
DESCRIPTION: https://www.sandiegofamily.com/things-to-do/events-calendar/ev
 ent/50157-san-diego-fc-soccer-team
DTSTART;VALUE=DATE:20260523
LOCATION:Snapdragon Stadium (2101 Stadium Way\, San Diego\, CA 92108\, USA)
SUMMARY:San Diego FC Soccer Team
URL:https://www.sandiegofamily.com/things-to-do/events-calendar/event/50157
 -san-diego-fc-soccer-team
END:VEVENT
BEGIN:VEVENT
UID:20260424T235415UTC-0254utVuGE@https://www.sandiegofamily.com/
DTSTAMP:20260424T235415Z
DESCRIPTION: https://www.sandiegofamily.com/things-to-do/events-calendar/ev
 ent/50167-legoland-water-park
DTSTART;VALUE=DATE:20260523
LOCATION:LEGOLAND California Resort (1 Legoland Dr\, Carlsbad\, CA 92008\, 
 USA)
SUMMARY:LEGOLAND Water Park
URL:https://www.sandiegofamily.com/things-to-do/events-calendar/event/50167
 -legoland-water-park
END:VEVENT
BEGIN:VEVENT
UID:20260424T235415UTC-0255Z2FskG@https://www.sandiegofamily.com/
DTSTAMP:20260424T235415Z
DESCRIPTION: https://www.sandiegofamily.com/things-to-do/events-calendar/ev
 ent/50197-orchids-in-the-wild
DTSTART;VALUE=DATE:20260523
LOCATION:San Diego Botanic Garden (230 Quail Gardens Dr\, Encinitas\, CA 92
 024\, USA)
SUMMARY:Orchids in the Wild
URL:https://www.sandiegofamily.com/things-to-do/events-calendar/event/50197
 -orchids-in-the-wild
END:VEVENT
BEGIN:VEVENT
UID:20260424T235415UTC-0256NHTvWw@https://www.sandiegofamily.com/
DTSTAMP:20260424T235415Z
DESCRIPTION: https://www.sandiegofamily.com/things-to-do/events-calendar/ev
 ent/50212-concert-series-on-the-deck
DTSTART;VALUE=DATE:20260523
LOCATION:Santee Lakes (9310 Fanita Pkwy\, Santee\, CA 92071\, USA)
SUMMARY:Concert Series on the Deck
URL:https://www.sandiegofamily.com/things-to-do/events-calendar/event/50212
 -concert-series-on-the-deck
END:VEVENT
BEGIN:VEVENT
UID:20260424T235415UTC-0257rjkLlL@https://www.sandiegofamily.com/
DTSTAMP:20260424T235415Z
DESCRIPTION: https://www.sandiegofamily.com/things-to-do/events-calendar/ev
 ent/50293-purpose
DTSTART;VALUE=DATE:20260523
LOCATION:La Jolla Playhouse (2910 La Jolla Village Dr\, La Jolla\, CA 92093
 \, USA)
SUMMARY:“Purpose.” 
URL:https://www.sandiegofamily.com/things-to-do/events-calendar/event/50293
 -purpose
END:VEVENT
BEGIN:VEVENT
UID:20260424T235415UTC-0258bGuOpJ@https://www.sandiegofamily.com/
DTSTAMP:20260424T235415Z
DESCRIPTION: https://www.sandiegofamily.com/things-to-do/events-calendar/ev
 ent/50316-blue-star-museums-offers-free-admission
DTSTART;VALUE=DATE:20260523
LOCATION:San Diego\, CA ()
SUMMARY:Blue Star Museums offers FREE admission
URL:https://www.sandiegofamily.com/things-to-do/events-calendar/event/50316
 -blue-star-museums-offers-free-admission
END:VEVENT
BEGIN:VEVENT
UID:20260424T235415UTC-0259IS7CfU@https://www.sandiegofamily.com/
DTSTAMP:20260424T235415Z
DESCRIPTION: https://www.sandiegofamily.com/things-to-do/events-calendar/ev
 ent/50444-uss-midway-legacy-week
DTSTART;VALUE=DATE:20260523
LOCATION:USS Midway Museum (910 N Harbor Dr\, San Diego\, CA 92101\, USA)
SUMMARY:USS Midway Legacy Week
URL:https://www.sandiegofamily.com/things-to-do/events-calendar/event/50444
 -uss-midway-legacy-week
END:VEVENT
BEGIN:VEVENT
UID:20260424T235415UTC-0260LUOe3f@https://www.sandiegofamily.com/
DTSTAMP:20260424T235415Z
DESCRIPTION: https://www.sandiegofamily.com/things-to-do/events-calendar/ev
 ent/50448-padres-star-wars-weekend
DTSTART;VALUE=DATE:20260523
LOCATION:Petco Park (100 Park Blvd\, San Diego\, CA 92101\, USA)
SUMMARY:Padres Star Wars Weekend
URL:https://www.sandiegofamily.com/things-to-do/events-calendar/event/50448
 -padres-star-wars-weekend
END:VEVENT
BEGIN:VEVENT
UID:20260424T235415UTC-0261LcsTd0@https://www.sandiegofamily.com/
DTSTAMP:20260424T235415Z
DESCRIPTION: https://www.sandiegofamily.com/things-to-do/events-calendar/ev
 ent/50452-top-gun-40th-celebration
DTSTART;VALUE=DATE:20260523
LOCATION:USS Midway Museum (910 N Harbor Dr\, San Diego\, CA 92101\, USA)
SUMMARY:Top Gun 40th Celebration
URL:https://www.sandiegofamily.com/things-to-do/events-calendar/event/50452
 -top-gun-40th-celebration
END:VEVENT
BEGIN:VEVENT
UID:20260424T235415UTC-0262ln3bJl@https://www.sandiegofamily.com/
DTSTAMP:20260424T235415Z
DESCRIPTION: https://www.sandiegofamily.com/things-to-do/events-calendar/ev
 ent/50453-santee-street-fair
DTSTART;VALUE=DATE:20260523
LOCATION:Santee (10845 Woodside Ave\, Santee\, CA 92071\, USA)
SUMMARY:Santee Street Fair
URL:https://www.sandiegofamily.com/things-to-do/events-calendar/event/50453
 -santee-street-fair
END:VEVENT
BEGIN:VEVENT
UID:20260424T235415UTC-0263Ph1oNb@https://www.sandiegofamily.com/
DTSTAMP:20260424T235415Z
DESCRIPTION: https://www.sandiegofamily.com/things-to-do/events-calendar/ev
 ent/50454-valley-center-western-days-parade
DTSTART;VALUE=DATE:20260523
LOCATION:Valley Center (Valley Center\, CA\, USA)
SUMMARY:Valley Center Western Days Parade
URL:https://www.sandiegofamily.com/things-to-do/events-calendar/event/50454
 -valley-center-western-days-parade
END:VEVENT
BEGIN:VEVENT
UID:20260424T235415UTC-0264FdTJzO@https://www.sandiegofamily.com/
DTSTAMP:20260424T235415Z
DESCRIPTION: https://www.sandiegofamily.com/things-to-do/events-calendar/ev
 ent/50455-butterfly-exhibit-with-flutterby-ranch
DTSTART;VALUE=DATE:20260523
LOCATION:Belmont Park (3146 Mission Blvd\, San Diego\, CA 92109\, USA)
SUMMARY:Butterfly Exhibit with FlutterBy Ranch
URL:https://www.sandiegofamily.com/things-to-do/events-calendar/event/50455
 -butterfly-exhibit-with-flutterby-ranch
END:VEVENT
BEGIN:VEVENT
UID:20260424T235415UTC-02652V0VH1@https://www.sandiegofamily.com/
DTSTAMP:20260424T235415Z
DESCRIPTION: https://www.sandiegofamily.com/things-to-do/events-calendar/ev
 ent/50456-the-wave-waterpark-opens
DTSTART;VALUE=DATE:20260523
LOCATION:The Wave Waterpark (101 Wave Dr\, Vista\, CA 92083\, USA)
SUMMARY:The Wave Waterpark Opens
URL:https://www.sandiegofamily.com/things-to-do/events-calendar/event/50456
 -the-wave-waterpark-opens
END:VEVENT
BEGIN:VEVENT
UID:20260424T235415UTC-0266JAOZKX@https://www.sandiegofamily.com/
DTSTAMP:20260424T235415Z
DESCRIPTION: https://www.sandiegofamily.com/things-to-do/events-calendar/ev
 ent/50462-sesame-summer-splash
DTSTART;VALUE=DATE:20260523
LOCATION:Sesame Place San Diego (2052 Entertainment Cir\, Chula Vista\, CA 
 91911\, USA)
SUMMARY:Sesame Summer Splash
URL:https://www.sandiegofamily.com/things-to-do/events-calendar/event/50462
 -sesame-summer-splash
END:VEVENT
END:VCALENDAR
