BEGIN:VCALENDAR
VERSION:2.0
PRODID:-//https://www.sandiegofamily.com///NONSGML kigkonsult.se iCalcreator 2.10.15//
METHOD:PUBLISH
BEGIN:VEVENT
UID:20260424T235345UTC-0406n8EwVU@https://www.sandiegofamily.com/
DTSTAMP:20260424T235345Z
DESCRIPTION: https://www.sandiegofamily.com/things-to-do/events-calendar/ev
 ent/49306-lego-galaxy
DTSTART;VALUE=DATE:20260522
LOCATION:LEGOLAND California Resort (1 Legoland Dr\, Carlsbad\, CA 92008\, 
 USA)
SUMMARY:LEGO Galaxy
URL:https://www.sandiegofamily.com/things-to-do/events-calendar/event/49306
 -lego-galaxy
END:VEVENT
BEGIN:VEVENT
UID:20260424T235345UTC-04074ivdfi@https://www.sandiegofamily.com/
DTSTAMP:20260424T235345Z
DESCRIPTION: https://www.sandiegofamily.com/things-to-do/events-calendar/ev
 ent/49470-free-legoland-tickets-for-first-responders
DTSTART;VALUE=DATE:20260522
LOCATION:LEGOLAND California Resort (1 Legoland Dr\, Carlsbad\, CA 92008\, 
 USA)
SUMMARY:FREE LEGOLAND Tickets for First Responders
URL:https://www.sandiegofamily.com/things-to-do/events-calendar/event/49470
 -free-legoland-tickets-for-first-responders
END:VEVENT
BEGIN:VEVENT
UID:20260424T235345UTC-0408XHFbNn@https://www.sandiegofamily.com/
DTSTAMP:20260424T235345Z
DESCRIPTION: https://www.sandiegofamily.com/things-to-do/events-calendar/ev
 ent/49498-story-time-with-seadragons
DTSTART;VALUE=DATE:20260522
LOCATION:Birch Aquarium at Scripps (2300 Expedition Way\, La Jolla\, CA 920
 37\, USA)
SUMMARY:Story Time with Seadragons
URL:https://www.sandiegofamily.com/things-to-do/events-calendar/event/49498
 -story-time-with-seadragons
END:VEVENT
BEGIN:VEVENT
UID:20260424T235345UTC-0409cwvhUn@https://www.sandiegofamily.com/
DTSTAMP:20260424T235345Z
DESCRIPTION: https://www.sandiegofamily.com/things-to-do/events-calendar/ev
 ent/49571-belmont-in-bloom
DTSTART;VALUE=DATE:20260522
LOCATION:Belmont Park (3146 Mission Blvd\, San Diego\, CA 92109\, USA)
SUMMARY:Belmont in Bloom
URL:https://www.sandiegofamily.com/things-to-do/events-calendar/event/49571
 -belmont-in-bloom
END:VEVENT
BEGIN:VEVENT
UID:20260424T235345UTC-0410tpUorl@https://www.sandiegofamily.com/
DTSTAMP:20260424T235345Z
DESCRIPTION: https://www.sandiegofamily.com/things-to-do/events-calendar/ev
 ent/49792-foodies-4-foster-kids
DTSTART;VALUE=DATE:20260522
LOCATION:San Diego\, CA ()
SUMMARY:Foodies 4 Foster Kids
URL:https://www.sandiegofamily.com/things-to-do/events-calendar/event/49792
 -foodies-4-foster-kids
END:VEVENT
BEGIN:VEVENT
UID:20260424T235345UTC-0411xuv5UM@https://www.sandiegofamily.com/
DTSTAMP:20260424T235345Z
DESCRIPTION: https://www.sandiegofamily.com/things-to-do/events-calendar/ev
 ent/49864-imagine-wild-mountain-yellow-legged-frog
DTSTART;VALUE=DATE:20260522
LOCATION:Birch Aquarium at Scripps (2300 Expedition Way\, La Jolla\, CA 920
 37\, USA)
SUMMARY:Imagine Wild: Mountain Yellow-legged Frog
URL:https://www.sandiegofamily.com/things-to-do/events-calendar/event/49864
 -imagine-wild-mountain-yellow-legged-frog
END:VEVENT
BEGIN:VEVENT
UID:20260424T235345UTC-04116IUVtN@https://www.sandiegofamily.com/
DTSTAMP:20260424T235345Z
DESCRIPTION: https://www.sandiegofamily.com/things-to-do/events-calendar/ev
 ent/49914-padres-home-games
DTSTART;VALUE=DATE:20260522
LOCATION:Petco Park (100 Park Blvd\, San Diego\, CA 92101\, USA)
SUMMARY:Padres Home Games
URL:https://www.sandiegofamily.com/things-to-do/events-calendar/event/49914
 -padres-home-games
END:VEVENT
BEGIN:VEVENT
UID:20260424T235345UTC-0412bui42p@https://www.sandiegofamily.com/
DTSTAMP:20260424T235345Z
DESCRIPTION: https://www.sandiegofamily.com/things-to-do/events-calendar/ev
 ent/49941-kids-bowl-free
DTSTART;VALUE=DATE:20260522
LOCATION:San Diego\, CA ()
SUMMARY:Kids Bowl FREE
URL:https://www.sandiegofamily.com/things-to-do/events-calendar/event/49941
 -kids-bowl-free
END:VEVENT
BEGIN:VEVENT
UID:20260424T235345UTC-0413cVVVIm@https://www.sandiegofamily.com/
DTSTAMP:20260424T235345Z
DESCRIPTION: https://www.sandiegofamily.com/things-to-do/events-calendar/ev
 ent/50030-movies-on-the-beach
DTSTART;VALUE=DATE:20260522
LOCATION:Hotel del Coronado  (1500 Orange Ave.\, Coronado)
SUMMARY:Movies on the Beach
URL:https://www.sandiegofamily.com/things-to-do/events-calendar/event/50030
 -movies-on-the-beach
END:VEVENT
BEGIN:VEVENT
UID:20260424T235345UTC-0414c2DtZP@https://www.sandiegofamily.com/
DTSTAMP:20260424T235345Z
DESCRIPTION: https://www.sandiegofamily.com/things-to-do/events-calendar/ev
 ent/50078-u-pick-strawberry-fields
DTSTART;VALUE=DATE:20260522
LOCATION:Carlsbad Strawberry Fields (1050 Cannon Rd\, Carlsbad\, CA 92008\,
  USA)
SUMMARY:U-Pick Strawberry Fields
URL:https://www.sandiegofamily.com/things-to-do/events-calendar/event/50078
 -u-pick-strawberry-fields
END:VEVENT
BEGIN:VEVENT
UID:20260424T235345UTC-0415TGpg1K@https://www.sandiegofamily.com/
DTSTAMP:20260424T235345Z
DESCRIPTION: https://www.sandiegofamily.com/things-to-do/events-calendar/ev
 ent/50139-spring-camping-series
DTSTART;VALUE=DATE:20260522
LOCATION:Lake Poway (14644 Lake Poway Rd\, Poway\, CA 92064\, USA)
SUMMARY:Spring Camping Series
URL:https://www.sandiegofamily.com/things-to-do/events-calendar/event/50139
 -spring-camping-series
END:VEVENT
BEGIN:VEVENT
UID:20260424T235345UTC-0415o2dp79@https://www.sandiegofamily.com/
DTSTAMP:20260424T235345Z
DESCRIPTION: https://www.sandiegofamily.com/things-to-do/events-calendar/ev
 ent/50196-orchids-in-the-wild
DTSTART;VALUE=DATE:20260522
LOCATION:San Diego Botanic Garden (230 Quail Gardens Dr\, Encinitas\, CA 92
 024\, USA)
SUMMARY:Orchids in the Wild
URL:https://www.sandiegofamily.com/things-to-do/events-calendar/event/50196
 -orchids-in-the-wild
END:VEVENT
BEGIN:VEVENT
UID:20260424T235345UTC-0416vSvCZU@https://www.sandiegofamily.com/
DTSTAMP:20260424T235345Z
DESCRIPTION: https://www.sandiegofamily.com/things-to-do/events-calendar/ev
 ent/50292-purpose
DTSTART;VALUE=DATE:20260522
LOCATION:La Jolla Playhouse (2910 La Jolla Village Dr\, La Jolla\, CA 92093
 \, USA)
SUMMARY:“Purpose.” 
URL:https://www.sandiegofamily.com/things-to-do/events-calendar/event/50292
 -purpose
END:VEVENT
BEGIN:VEVENT
UID:20260424T235345UTC-0417Jlev74@https://www.sandiegofamily.com/
DTSTAMP:20260424T235345Z
DESCRIPTION: https://www.sandiegofamily.com/things-to-do/events-calendar/ev
 ent/50315-blue-star-museums-offers-free-admission
DTSTART;VALUE=DATE:20260522
LOCATION:San Diego\, CA ()
SUMMARY:Blue Star Museums offers FREE admission
URL:https://www.sandiegofamily.com/things-to-do/events-calendar/event/50315
 -blue-star-museums-offers-free-admission
END:VEVENT
BEGIN:VEVENT
UID:20260424T235345UTC-0418lvZNgV@https://www.sandiegofamily.com/
DTSTAMP:20260424T235345Z
DESCRIPTION: https://www.sandiegofamily.com/things-to-do/events-calendar/ev
 ent/50443-uss-midway-legacy-week
DTSTART;VALUE=DATE:20260522
LOCATION:USS Midway Museum (910 N Harbor Dr\, San Diego\, CA 92101\, USA)
SUMMARY:USS Midway Legacy Week
URL:https://www.sandiegofamily.com/things-to-do/events-calendar/event/50443
 -uss-midway-legacy-week
END:VEVENT
BEGIN:VEVENT
UID:20260424T235345UTC-0419viKxFC@https://www.sandiegofamily.com/
DTSTAMP:20260424T235345Z
DESCRIPTION: https://www.sandiegofamily.com/things-to-do/events-calendar/ev
 ent/50447-padres-star-wars-weekend
DTSTART;VALUE=DATE:20260522
LOCATION:Petco Park (100 Park Blvd\, San Diego\, CA 92101\, USA)
SUMMARY:Padres Star Wars Weekend
URL:https://www.sandiegofamily.com/things-to-do/events-calendar/event/50447
 -padres-star-wars-weekend
END:VEVENT
BEGIN:VEVENT
UID:20260424T235345UTC-0420iMEnj0@https://www.sandiegofamily.com/
DTSTAMP:20260424T235345Z
DESCRIPTION: https://www.sandiegofamily.com/things-to-do/events-calendar/ev
 ent/50450-lakeside-bike-rodeo
DTSTART;VALUE=DATE:20260522
LOCATION:San Diego\, CA ()
SUMMARY:Lakeside Bike Rodeo
URL:https://www.sandiegofamily.com/things-to-do/events-calendar/event/50450
 -lakeside-bike-rodeo
END:VEVENT
BEGIN:VEVENT
UID:20260424T235345UTC-0421Buiki2@https://www.sandiegofamily.com/
DTSTAMP:20260424T235345Z
DESCRIPTION: https://www.sandiegofamily.com/things-to-do/events-calendar/ev
 ent/50451-top-gun-40th-celebration
DTSTART;VALUE=DATE:20260522
LOCATION:USS Midway Museum (910 N Harbor Dr\, San Diego\, CA 92101\, USA)
SUMMARY:Top Gun 40th Celebration
URL:https://www.sandiegofamily.com/things-to-do/events-calendar/event/50451
 -top-gun-40th-celebration
END:VEVENT
END:VCALENDAR
