BEGIN:VCALENDAR
VERSION:2.0
PRODID:-//https://www.sandiegofamily.com///NONSGML kigkonsult.se iCalcreator 2.10.15//
METHOD:PUBLISH
BEGIN:VEVENT
UID:20260424T133446UTC-83780epPL6@https://www.sandiegofamily.com/
DTSTAMP:20260424T133446Z
DESCRIPTION: https://www.sandiegofamily.com/things-to-do/events-calendar/ev
 ent/49304-lego-galaxy
DTSTART;VALUE=DATE:20260520
LOCATION:LEGOLAND California Resort (1 Legoland Dr\, Carlsbad\, CA 92008\, 
 USA)
SUMMARY:LEGO Galaxy
URL:https://www.sandiegofamily.com/things-to-do/events-calendar/event/49304
 -lego-galaxy
END:VEVENT
BEGIN:VEVENT
UID:20260424T133446UTC-8380Obp6bm@https://www.sandiegofamily.com/
DTSTAMP:20260424T133446Z
DESCRIPTION: https://www.sandiegofamily.com/things-to-do/events-calendar/ev
 ent/49468-free-legoland-tickets-for-first-responders
DTSTART;VALUE=DATE:20260520
LOCATION:LEGOLAND California Resort (1 Legoland Dr\, Carlsbad\, CA 92008\, 
 USA)
SUMMARY:FREE LEGOLAND Tickets for First Responders
URL:https://www.sandiegofamily.com/things-to-do/events-calendar/event/49468
 -free-legoland-tickets-for-first-responders
END:VEVENT
BEGIN:VEVENT
UID:20260424T133446UTC-8381wIl1bU@https://www.sandiegofamily.com/
DTSTAMP:20260424T133446Z
DESCRIPTION: https://www.sandiegofamily.com/things-to-do/events-calendar/ev
 ent/49497-story-time-with-seadragons
DTSTART;VALUE=DATE:20260520
LOCATION:Birch Aquarium at Scripps (2300 Expedition Way\, La Jolla\, CA 920
 37\, USA)
SUMMARY:Story Time with Seadragons
URL:https://www.sandiegofamily.com/things-to-do/events-calendar/event/49497
 -story-time-with-seadragons
END:VEVENT
BEGIN:VEVENT
UID:20260424T133446UTC-8381FOUsLx@https://www.sandiegofamily.com/
DTSTAMP:20260424T133446Z
DESCRIPTION: https://www.sandiegofamily.com/things-to-do/events-calendar/ev
 ent/49569-belmont-in-bloom
DTSTART;VALUE=DATE:20260520
LOCATION:Belmont Park (3146 Mission Blvd\, San Diego\, CA 92109\, USA)
SUMMARY:Belmont in Bloom
URL:https://www.sandiegofamily.com/things-to-do/events-calendar/event/49569
 -belmont-in-bloom
END:VEVENT
BEGIN:VEVENT
UID:20260424T133446UTC-8382VxAzoz@https://www.sandiegofamily.com/
DTSTAMP:20260424T133446Z
DESCRIPTION: https://www.sandiegofamily.com/things-to-do/events-calendar/ev
 ent/49790-foodies-4-foster-kids
DTSTART;VALUE=DATE:20260520
LOCATION:San Diego\, CA ()
SUMMARY:Foodies 4 Foster Kids
URL:https://www.sandiegofamily.com/things-to-do/events-calendar/event/49790
 -foodies-4-foster-kids
END:VEVENT
BEGIN:VEVENT
UID:20260424T133446UTC-8383JftdU6@https://www.sandiegofamily.com/
DTSTAMP:20260424T133446Z
DESCRIPTION: https://www.sandiegofamily.com/things-to-do/events-calendar/ev
 ent/49862-imagine-wild-mountain-yellow-legged-frog
DTSTART;VALUE=DATE:20260520
LOCATION:Birch Aquarium at Scripps (2300 Expedition Way\, La Jolla\, CA 920
 37\, USA)
SUMMARY:Imagine Wild: Mountain Yellow-legged Frog
URL:https://www.sandiegofamily.com/things-to-do/events-calendar/event/49862
 -imagine-wild-mountain-yellow-legged-frog
END:VEVENT
BEGIN:VEVENT
UID:20260424T133446UTC-8384d5hs0E@https://www.sandiegofamily.com/
DTSTAMP:20260424T133446Z
DESCRIPTION: https://www.sandiegofamily.com/things-to-do/events-calendar/ev
 ent/49913-padres-home-games
DTSTART;VALUE=DATE:20260520
LOCATION:Petco Park (100 Park Blvd\, San Diego\, CA 92101\, USA)
SUMMARY:Padres Home Games
URL:https://www.sandiegofamily.com/things-to-do/events-calendar/event/49913
 -padres-home-games
END:VEVENT
BEGIN:VEVENT
UID:20260424T133446UTC-83855gTP2R@https://www.sandiegofamily.com/
DTSTAMP:20260424T133446Z
DESCRIPTION: https://www.sandiegofamily.com/things-to-do/events-calendar/ev
 ent/49939-kids-bowl-free
DTSTART;VALUE=DATE:20260520
LOCATION:San Diego\, CA ()
SUMMARY:Kids Bowl FREE
URL:https://www.sandiegofamily.com/things-to-do/events-calendar/event/49939
 -kids-bowl-free
END:VEVENT
BEGIN:VEVENT
UID:20260424T133446UTC-83864fpln2@https://www.sandiegofamily.com/
DTSTAMP:20260424T133446Z
DESCRIPTION: https://www.sandiegofamily.com/things-to-do/events-calendar/ev
 ent/50076-u-pick-strawberry-fields
DTSTART;VALUE=DATE:20260520
LOCATION:Carlsbad Strawberry Fields (1050 Cannon Rd\, Carlsbad\, CA 92008\,
  USA)
SUMMARY:U-Pick Strawberry Fields
URL:https://www.sandiegofamily.com/things-to-do/events-calendar/event/50076
 -u-pick-strawberry-fields
END:VEVENT
BEGIN:VEVENT
UID:20260424T133446UTC-8387WPUA0e@https://www.sandiegofamily.com/
DTSTAMP:20260424T133446Z
DESCRIPTION: https://www.sandiegofamily.com/things-to-do/events-calendar/ev
 ent/50137-spring-camping-series
DTSTART;VALUE=DATE:20260520
LOCATION:Lake Poway (14644 Lake Poway Rd\, Poway\, CA 92064\, USA)
SUMMARY:Spring Camping Series
URL:https://www.sandiegofamily.com/things-to-do/events-calendar/event/50137
 -spring-camping-series
END:VEVENT
BEGIN:VEVENT
UID:20260424T133446UTC-83878eLL0d@https://www.sandiegofamily.com/
DTSTAMP:20260424T133446Z
DESCRIPTION: https://www.sandiegofamily.com/things-to-do/events-calendar/ev
 ent/50194-orchids-in-the-wild
DTSTART;VALUE=DATE:20260520
LOCATION:San Diego Botanic Garden (230 Quail Gardens Dr\, Encinitas\, CA 92
 024\, USA)
SUMMARY:Orchids in the Wild
URL:https://www.sandiegofamily.com/things-to-do/events-calendar/event/50194
 -orchids-in-the-wild
END:VEVENT
BEGIN:VEVENT
UID:20260424T133446UTC-83880cz4Ui@https://www.sandiegofamily.com/
DTSTAMP:20260424T133446Z
DESCRIPTION: https://www.sandiegofamily.com/things-to-do/events-calendar/ev
 ent/50230-a-book-and-a-ballerina
DTSTART;VALUE=DATE:20260520
LOCATION:San Diego\, CA ()
SUMMARY:“A Book and a Ballerina.” 
URL:https://www.sandiegofamily.com/things-to-do/events-calendar/event/50230
 -a-book-and-a-ballerina
END:VEVENT
BEGIN:VEVENT
UID:20260424T133446UTC-8389UBOt64@https://www.sandiegofamily.com/
DTSTAMP:20260424T133446Z
DESCRIPTION: https://www.sandiegofamily.com/things-to-do/events-calendar/ev
 ent/50239-cajon-cruise
DTSTART;VALUE=DATE:20260520
LOCATION:El Cajon (1017 S Mollison Ave\, El Cajon\, CA 92020\, USA)
SUMMARY:Cajon Cruise
URL:https://www.sandiegofamily.com/things-to-do/events-calendar/event/50239
 -cajon-cruise
END:VEVENT
BEGIN:VEVENT
UID:20260424T133446UTC-8390w26DNs@https://www.sandiegofamily.com/
DTSTAMP:20260424T133446Z
DESCRIPTION: https://www.sandiegofamily.com/things-to-do/events-calendar/ev
 ent/50290-purpose
DTSTART;VALUE=DATE:20260520
LOCATION:La Jolla Playhouse (2910 La Jolla Village Dr\, La Jolla\, CA 92093
 \, USA)
SUMMARY:“Purpose.” 
URL:https://www.sandiegofamily.com/things-to-do/events-calendar/event/50290
 -purpose
END:VEVENT
BEGIN:VEVENT
UID:20260424T133446UTC-8390N5DcmL@https://www.sandiegofamily.com/
DTSTAMP:20260424T133446Z
DESCRIPTION: https://www.sandiegofamily.com/things-to-do/events-calendar/ev
 ent/50313-blue-star-museums-offers-free-admission
DTSTART;VALUE=DATE:20260520
LOCATION:San Diego\, CA ()
SUMMARY:Blue Star Museums offers FREE admission
URL:https://www.sandiegofamily.com/things-to-do/events-calendar/event/50313
 -blue-star-museums-offers-free-admission
END:VEVENT
BEGIN:VEVENT
UID:20260424T133446UTC-8391UUIlNu@https://www.sandiegofamily.com/
DTSTAMP:20260424T133446Z
DESCRIPTION: https://www.sandiegofamily.com/things-to-do/events-calendar/ev
 ent/50437-red-shoe-day
DTSTART;VALUE=DATE:20260520
LOCATION:San Diego\, CA ()
SUMMARY:Red Shoe Day
URL:https://www.sandiegofamily.com/things-to-do/events-calendar/event/50437
 -red-shoe-day
END:VEVENT
BEGIN:VEVENT
UID:20260424T133446UTC-8392cbWizL@https://www.sandiegofamily.com/
DTSTAMP:20260424T133446Z
DESCRIPTION: https://www.sandiegofamily.com/things-to-do/events-calendar/ev
 ent/50438-coast-of-pb-restaurant-walk
DTSTART;VALUE=DATE:20260520
LOCATION:Pacific Beach (Ingraham St\, San Diego\, CA 92109\, USA)
SUMMARY:Coast of PB Restaurant Walk
URL:https://www.sandiegofamily.com/things-to-do/events-calendar/event/50438
 -coast-of-pb-restaurant-walk
END:VEVENT
END:VCALENDAR
