BEGIN:VCALENDAR
VERSION:2.0
PRODID:-//https://www.sandiegofamily.com///NONSGML kigkonsult.se iCalcreator 2.10.15//
METHOD:PUBLISH
BEGIN:VEVENT
UID:20260424T133346UTC-8165DSJKVg@https://www.sandiegofamily.com/
DTSTAMP:20260424T133346Z
DESCRIPTION: https://www.sandiegofamily.com/things-to-do/events-calendar/ev
 ent/48224-residents-free-days-at-balboa-park
DTSTART;VALUE=DATE:20260519
LOCATION:Balboa Park (Balboa Park\, San Diego\, CA\, USA)
SUMMARY:Residents FREE Days at Balboa Park
URL:https://www.sandiegofamily.com/things-to-do/events-calendar/event/48224
 -residents-free-days-at-balboa-park
END:VEVENT
BEGIN:VEVENT
UID:20260424T133346UTC-8166EdTwah@https://www.sandiegofamily.com/
DTSTAMP:20260424T133346Z
DESCRIPTION: https://www.sandiegofamily.com/things-to-do/events-calendar/ev
 ent/49303-lego-galaxy
DTSTART;VALUE=DATE:20260519
LOCATION:LEGOLAND California Resort (1 Legoland Dr\, Carlsbad\, CA 92008\, 
 USA)
SUMMARY:LEGO Galaxy
URL:https://www.sandiegofamily.com/things-to-do/events-calendar/event/49303
 -lego-galaxy
END:VEVENT
BEGIN:VEVENT
UID:20260424T133346UTC-8167UPd1UE@https://www.sandiegofamily.com/
DTSTAMP:20260424T133346Z
DESCRIPTION: https://www.sandiegofamily.com/things-to-do/events-calendar/ev
 ent/49467-free-legoland-tickets-for-first-responders
DTSTART;VALUE=DATE:20260519
LOCATION:LEGOLAND California Resort (1 Legoland Dr\, Carlsbad\, CA 92008\, 
 USA)
SUMMARY:FREE LEGOLAND Tickets for First Responders
URL:https://www.sandiegofamily.com/things-to-do/events-calendar/event/49467
 -free-legoland-tickets-for-first-responders
END:VEVENT
BEGIN:VEVENT
UID:20260424T133346UTC-81686tuvS0@https://www.sandiegofamily.com/
DTSTAMP:20260424T133346Z
DESCRIPTION: https://www.sandiegofamily.com/things-to-do/events-calendar/ev
 ent/49568-belmont-in-bloom
DTSTART;VALUE=DATE:20260519
LOCATION:Belmont Park (3146 Mission Blvd\, San Diego\, CA 92109\, USA)
SUMMARY:Belmont in Bloom
URL:https://www.sandiegofamily.com/things-to-do/events-calendar/event/49568
 -belmont-in-bloom
END:VEVENT
BEGIN:VEVENT
UID:20260424T133346UTC-8169l9VT88@https://www.sandiegofamily.com/
DTSTAMP:20260424T133346Z
DESCRIPTION: https://www.sandiegofamily.com/things-to-do/events-calendar/ev
 ent/49789-foodies-4-foster-kids
DTSTART;VALUE=DATE:20260519
LOCATION:San Diego\, CA ()
SUMMARY:Foodies 4 Foster Kids
URL:https://www.sandiegofamily.com/things-to-do/events-calendar/event/49789
 -foodies-4-foster-kids
END:VEVENT
BEGIN:VEVENT
UID:20260424T133346UTC-8170KGJTVZ@https://www.sandiegofamily.com/
DTSTAMP:20260424T133346Z
DESCRIPTION: https://www.sandiegofamily.com/things-to-do/events-calendar/ev
 ent/49861-imagine-wild-mountain-yellow-legged-frog
DTSTART;VALUE=DATE:20260519
LOCATION:Birch Aquarium at Scripps (2300 Expedition Way\, La Jolla\, CA 920
 37\, USA)
SUMMARY:Imagine Wild: Mountain Yellow-legged Frog
URL:https://www.sandiegofamily.com/things-to-do/events-calendar/event/49861
 -imagine-wild-mountain-yellow-legged-frog
END:VEVENT
BEGIN:VEVENT
UID:20260424T133346UTC-81715CaUSj@https://www.sandiegofamily.com/
DTSTAMP:20260424T133346Z
DESCRIPTION: https://www.sandiegofamily.com/things-to-do/events-calendar/ev
 ent/49912-padres-home-games
DTSTART;VALUE=DATE:20260519
LOCATION:Petco Park (100 Park Blvd\, San Diego\, CA 92101\, USA)
SUMMARY:Padres Home Games
URL:https://www.sandiegofamily.com/things-to-do/events-calendar/event/49912
 -padres-home-games
END:VEVENT
BEGIN:VEVENT
UID:20260424T133346UTC-8172ImnB6o@https://www.sandiegofamily.com/
DTSTAMP:20260424T133346Z
DESCRIPTION: https://www.sandiegofamily.com/things-to-do/events-calendar/ev
 ent/49938-kids-bowl-free
DTSTART;VALUE=DATE:20260519
LOCATION:San Diego\, CA ()
SUMMARY:Kids Bowl FREE
URL:https://www.sandiegofamily.com/things-to-do/events-calendar/event/49938
 -kids-bowl-free
END:VEVENT
BEGIN:VEVENT
UID:20260424T133346UTC-8172nJArJ7@https://www.sandiegofamily.com/
DTSTAMP:20260424T133346Z
DESCRIPTION: https://www.sandiegofamily.com/things-to-do/events-calendar/ev
 ent/50075-u-pick-strawberry-fields
DTSTART;VALUE=DATE:20260519
LOCATION:Carlsbad Strawberry Fields (1050 Cannon Rd\, Carlsbad\, CA 92008\,
  USA)
SUMMARY:U-Pick Strawberry Fields
URL:https://www.sandiegofamily.com/things-to-do/events-calendar/event/50075
 -u-pick-strawberry-fields
END:VEVENT
BEGIN:VEVENT
UID:20260424T133346UTC-8173NrmPl8@https://www.sandiegofamily.com/
DTSTAMP:20260424T133346Z
DESCRIPTION: https://www.sandiegofamily.com/things-to-do/events-calendar/ev
 ent/50136-spring-camping-series
DTSTART;VALUE=DATE:20260519
LOCATION:Lake Poway (14644 Lake Poway Rd\, Poway\, CA 92064\, USA)
SUMMARY:Spring Camping Series
URL:https://www.sandiegofamily.com/things-to-do/events-calendar/event/50136
 -spring-camping-series
END:VEVENT
BEGIN:VEVENT
UID:20260424T133346UTC-81747FuVoT@https://www.sandiegofamily.com/
DTSTAMP:20260424T133346Z
DESCRIPTION: https://www.sandiegofamily.com/things-to-do/events-calendar/ev
 ent/50289-purpose
DTSTART;VALUE=DATE:20260519
LOCATION:La Jolla Playhouse (2910 La Jolla Village Dr\, La Jolla\, CA 92093
 \, USA)
SUMMARY:“Purpose.” 
URL:https://www.sandiegofamily.com/things-to-do/events-calendar/event/50289
 -purpose
END:VEVENT
BEGIN:VEVENT
UID:20260424T133346UTC-8175CCGOZb@https://www.sandiegofamily.com/
DTSTAMP:20260424T133346Z
DESCRIPTION: https://www.sandiegofamily.com/things-to-do/events-calendar/ev
 ent/50312-blue-star-museums-offers-free-admission
DTSTART;VALUE=DATE:20260519
LOCATION:San Diego\, CA ()
SUMMARY:Blue Star Museums offers FREE admission
URL:https://www.sandiegofamily.com/things-to-do/events-calendar/event/50312
 -blue-star-museums-offers-free-admission
END:VEVENT
END:VCALENDAR
