BEGIN:VCALENDAR
VERSION:2.0
PRODID:-//https://www.sandiegofamily.com///NONSGML kigkonsult.se iCalcreator 2.10.15//
METHOD:PUBLISH
BEGIN:VEVENT
UID:20260424T132709UTC-4491klhigT@https://www.sandiegofamily.com/
DTSTAMP:20260424T132709Z
DESCRIPTION: https://www.sandiegofamily.com/things-to-do/events-calendar/ev
 ent/49302-lego-galaxy
DTSTART;VALUE=DATE:20260518
LOCATION:LEGOLAND California Resort (1 Legoland Dr\, Carlsbad\, CA 92008\, 
 USA)
SUMMARY:LEGO Galaxy
URL:https://www.sandiegofamily.com/things-to-do/events-calendar/event/49302
 -lego-galaxy
END:VEVENT
BEGIN:VEVENT
UID:20260424T132709UTC-44929LhHed@https://www.sandiegofamily.com/
DTSTAMP:20260424T132709Z
DESCRIPTION: https://www.sandiegofamily.com/things-to-do/events-calendar/ev
 ent/49466-free-legoland-tickets-for-first-responders
DTSTART;VALUE=DATE:20260518
LOCATION:LEGOLAND California Resort (1 Legoland Dr\, Carlsbad\, CA 92008\, 
 USA)
SUMMARY:FREE LEGOLAND Tickets for First Responders
URL:https://www.sandiegofamily.com/things-to-do/events-calendar/event/49466
 -free-legoland-tickets-for-first-responders
END:VEVENT
BEGIN:VEVENT
UID:20260424T132709UTC-4493ifVCoV@https://www.sandiegofamily.com/
DTSTAMP:20260424T132709Z
DESCRIPTION: https://www.sandiegofamily.com/things-to-do/events-calendar/ev
 ent/49496-story-time-with-seadragons
DTSTART;VALUE=DATE:20260518
LOCATION:Birch Aquarium at Scripps (2300 Expedition Way\, La Jolla\, CA 920
 37\, USA)
SUMMARY:Story Time with Seadragons
URL:https://www.sandiegofamily.com/things-to-do/events-calendar/event/49496
 -story-time-with-seadragons
END:VEVENT
BEGIN:VEVENT
UID:20260424T132709UTC-44940OjDNZ@https://www.sandiegofamily.com/
DTSTAMP:20260424T132709Z
DESCRIPTION: https://www.sandiegofamily.com/things-to-do/events-calendar/ev
 ent/49567-belmont-in-bloom
DTSTART;VALUE=DATE:20260518
LOCATION:Belmont Park (3146 Mission Blvd\, San Diego\, CA 92109\, USA)
SUMMARY:Belmont in Bloom
URL:https://www.sandiegofamily.com/things-to-do/events-calendar/event/49567
 -belmont-in-bloom
END:VEVENT
BEGIN:VEVENT
UID:20260424T132709UTC-4495BipTAU@https://www.sandiegofamily.com/
DTSTAMP:20260424T132709Z
DESCRIPTION: https://www.sandiegofamily.com/things-to-do/events-calendar/ev
 ent/49788-foodies-4-foster-kids
DTSTART;VALUE=DATE:20260518
LOCATION:San Diego\, CA ()
SUMMARY:Foodies 4 Foster Kids
URL:https://www.sandiegofamily.com/things-to-do/events-calendar/event/49788
 -foodies-4-foster-kids
END:VEVENT
BEGIN:VEVENT
UID:20260424T132709UTC-4496n7vtjZ@https://www.sandiegofamily.com/
DTSTAMP:20260424T132709Z
DESCRIPTION: https://www.sandiegofamily.com/things-to-do/events-calendar/ev
 ent/49819-the-big-exchange
DTSTART;VALUE=DATE:20260518
LOCATION:San Diego\, CA ()
SUMMARY:The Big Exchange
URL:https://www.sandiegofamily.com/things-to-do/events-calendar/event/49819
 -the-big-exchange
END:VEVENT
BEGIN:VEVENT
UID:20260424T132709UTC-4497Clz9ev@https://www.sandiegofamily.com/
DTSTAMP:20260424T132709Z
DESCRIPTION: https://www.sandiegofamily.com/things-to-do/events-calendar/ev
 ent/49860-imagine-wild-mountain-yellow-legged-frog
DTSTART;VALUE=DATE:20260518
LOCATION:Birch Aquarium at Scripps (2300 Expedition Way\, La Jolla\, CA 920
 37\, USA)
SUMMARY:Imagine Wild: Mountain Yellow-legged Frog
URL:https://www.sandiegofamily.com/things-to-do/events-calendar/event/49860
 -imagine-wild-mountain-yellow-legged-frog
END:VEVENT
BEGIN:VEVENT
UID:20260424T132709UTC-4498uesDa8@https://www.sandiegofamily.com/
DTSTAMP:20260424T132709Z
DESCRIPTION: https://www.sandiegofamily.com/things-to-do/events-calendar/ev
 ent/49911-padres-home-games
DTSTART;VALUE=DATE:20260518
LOCATION:Petco Park (100 Park Blvd\, San Diego\, CA 92101\, USA)
SUMMARY:Padres Home Games
URL:https://www.sandiegofamily.com/things-to-do/events-calendar/event/49911
 -padres-home-games
END:VEVENT
BEGIN:VEVENT
UID:20260424T132709UTC-4498JUU6Uu@https://www.sandiegofamily.com/
DTSTAMP:20260424T132709Z
DESCRIPTION: https://www.sandiegofamily.com/things-to-do/events-calendar/ev
 ent/49937-kids-bowl-free
DTSTART;VALUE=DATE:20260518
LOCATION:San Diego\, CA ()
SUMMARY:Kids Bowl FREE
URL:https://www.sandiegofamily.com/things-to-do/events-calendar/event/49937
 -kids-bowl-free
END:VEVENT
BEGIN:VEVENT
UID:20260424T132709UTC-44998WHoOn@https://www.sandiegofamily.com/
DTSTAMP:20260424T132709Z
DESCRIPTION: https://www.sandiegofamily.com/things-to-do/events-calendar/ev
 ent/50074-u-pick-strawberry-fields
DTSTART;VALUE=DATE:20260518
LOCATION:Carlsbad Strawberry Fields (1050 Cannon Rd\, Carlsbad\, CA 92008\,
  USA)
SUMMARY:U-Pick Strawberry Fields
URL:https://www.sandiegofamily.com/things-to-do/events-calendar/event/50074
 -u-pick-strawberry-fields
END:VEVENT
BEGIN:VEVENT
UID:20260424T132709UTC-4500UmTPvE@https://www.sandiegofamily.com/
DTSTAMP:20260424T132709Z
DESCRIPTION: https://www.sandiegofamily.com/things-to-do/events-calendar/ev
 ent/50135-spring-camping-series
DTSTART;VALUE=DATE:20260518
LOCATION:Lake Poway (14644 Lake Poway Rd\, Poway\, CA 92064\, USA)
SUMMARY:Spring Camping Series
URL:https://www.sandiegofamily.com/things-to-do/events-calendar/event/50135
 -spring-camping-series
END:VEVENT
BEGIN:VEVENT
UID:20260424T132709UTC-4501dEwS6X@https://www.sandiegofamily.com/
DTSTAMP:20260424T132709Z
DESCRIPTION: https://www.sandiegofamily.com/things-to-do/events-calendar/ev
 ent/50193-orchids-in-the-wild
DTSTART;VALUE=DATE:20260518
LOCATION:San Diego Botanic Garden (230 Quail Gardens Dr\, Encinitas\, CA 92
 024\, USA)
SUMMARY:Orchids in the Wild
URL:https://www.sandiegofamily.com/things-to-do/events-calendar/event/50193
 -orchids-in-the-wild
END:VEVENT
BEGIN:VEVENT
UID:20260424T132709UTC-4502p5k3ju@https://www.sandiegofamily.com/
DTSTAMP:20260424T132709Z
DESCRIPTION: https://www.sandiegofamily.com/things-to-do/events-calendar/ev
 ent/50311-blue-star-museums-offers-free-admission
DTSTART;VALUE=DATE:20260518
LOCATION:San Diego\, CA ()
SUMMARY:Blue Star Museums offers FREE admission
URL:https://www.sandiegofamily.com/things-to-do/events-calendar/event/50311
 -blue-star-museums-offers-free-admission
END:VEVENT
END:VCALENDAR
