BEGIN:VCALENDAR
VERSION:2.0
PRODID:-//https://www.sandiegofamily.com///NONSGML kigkonsult.se iCalcreator 2.10.15//
METHOD:PUBLISH
BEGIN:VEVENT
UID:20260424T192851UTC-10627lVlHV@https://www.sandiegofamily.com/
DTSTAMP:20260424T192851Z
DESCRIPTION: https://www.sandiegofamily.com/things-to-do/events-calendar/ev
 ent/48172-spreckels-organ-society-concerts
DTSTART;VALUE=DATE:20260517
LOCATION:Spreckels Organ Pavilion\, Balboa Park (2125 Pan American Rd E\, S
 an Diego\, CA 92101\, USA)
SUMMARY:Spreckels Organ Society Concerts
URL:https://www.sandiegofamily.com/things-to-do/events-calendar/event/48172
 -spreckels-organ-society-concerts
END:VEVENT
BEGIN:VEVENT
UID:20260424T192851UTC-1064mjHWeS@https://www.sandiegofamily.com/
DTSTAMP:20260424T192851Z
DESCRIPTION: https://www.sandiegofamily.com/things-to-do/events-calendar/ev
 ent/49301-lego-galaxy
DTSTART;VALUE=DATE:20260517
LOCATION:LEGOLAND California Resort (1 Legoland Dr\, Carlsbad\, CA 92008\, 
 USA)
SUMMARY:LEGO Galaxy
URL:https://www.sandiegofamily.com/things-to-do/events-calendar/event/49301
 -lego-galaxy
END:VEVENT
BEGIN:VEVENT
UID:20260424T192851UTC-1064azXsVD@https://www.sandiegofamily.com/
DTSTAMP:20260424T192851Z
DESCRIPTION: https://www.sandiegofamily.com/things-to-do/events-calendar/ev
 ent/49398-sesame-place
DTSTART;VALUE=DATE:20260517
LOCATION:Sesame Place San Diego (2052 Entertainment Cir\, Chula Vista\, CA 
 91911\, USA)
SUMMARY:Sesame Place
URL:https://www.sandiegofamily.com/things-to-do/events-calendar/event/49398
 -sesame-place
END:VEVENT
BEGIN:VEVENT
UID:20260424T192851UTC-1065gI9mUR@https://www.sandiegofamily.com/
DTSTAMP:20260424T192851Z
DESCRIPTION: https://www.sandiegofamily.com/things-to-do/events-calendar/ev
 ent/49465-free-legoland-tickets-for-first-responders
DTSTART;VALUE=DATE:20260517
LOCATION:LEGOLAND California Resort (1 Legoland Dr\, Carlsbad\, CA 92008\, 
 USA)
SUMMARY:FREE LEGOLAND Tickets for First Responders
URL:https://www.sandiegofamily.com/things-to-do/events-calendar/event/49465
 -free-legoland-tickets-for-first-responders
END:VEVENT
BEGIN:VEVENT
UID:20260424T192851UTC-1066ibsHF5@https://www.sandiegofamily.com/
DTSTAMP:20260424T192851Z
DESCRIPTION: https://www.sandiegofamily.com/things-to-do/events-calendar/ev
 ent/49566-belmont-in-bloom
DTSTART;VALUE=DATE:20260517
LOCATION:Belmont Park (3146 Mission Blvd\, San Diego\, CA 92109\, USA)
SUMMARY:Belmont in Bloom
URL:https://www.sandiegofamily.com/things-to-do/events-calendar/event/49566
 -belmont-in-bloom
END:VEVENT
BEGIN:VEVENT
UID:20260424T192851UTC-1067ittgI6@https://www.sandiegofamily.com/
DTSTAMP:20260424T192851Z
DESCRIPTION: https://www.sandiegofamily.com/things-to-do/events-calendar/ev
 ent/49616-birch-after-hours
DTSTART;VALUE=DATE:20260517
LOCATION:Birch Aquarium at Scripps (2300 Expedition Way\, La Jolla\, CA 920
 37\, USA)
SUMMARY:Birch After Hours
URL:https://www.sandiegofamily.com/things-to-do/events-calendar/event/49616
 -birch-after-hours
END:VEVENT
BEGIN:VEVENT
UID:20260424T192851UTC-1068WKmIEo@https://www.sandiegofamily.com/
DTSTAMP:20260424T192851Z
DESCRIPTION: https://www.sandiegofamily.com/things-to-do/events-calendar/ev
 ent/49787-foodies-4-foster-kids
DTSTART;VALUE=DATE:20260517
LOCATION:San Diego\, CA ()
SUMMARY:Foodies 4 Foster Kids
URL:https://www.sandiegofamily.com/things-to-do/events-calendar/event/49787
 -foodies-4-foster-kids
END:VEVENT
BEGIN:VEVENT
UID:20260424T192851UTC-10695aG2uc@https://www.sandiegofamily.com/
DTSTAMP:20260424T192851Z
DESCRIPTION: https://www.sandiegofamily.com/things-to-do/events-calendar/ev
 ent/49818-the-big-exchange
DTSTART;VALUE=DATE:20260517
LOCATION:San Diego\, CA ()
SUMMARY:The Big Exchange
URL:https://www.sandiegofamily.com/things-to-do/events-calendar/event/49818
 -the-big-exchange
END:VEVENT
BEGIN:VEVENT
UID:20260424T192851UTC-1070xTkiwT@https://www.sandiegofamily.com/
DTSTAMP:20260424T192851Z
DESCRIPTION: https://www.sandiegofamily.com/things-to-do/events-calendar/ev
 ent/49841-beau-jest
DTSTART;VALUE=DATE:20260517
LOCATION:North Coast Repertory Theatre (987 Lomas Santa Fe Dr\, Solana Beac
 h\, CA 92075\, USA)
SUMMARY:“Beau Jest.”
URL:https://www.sandiegofamily.com/things-to-do/events-calendar/event/49841
 -beau-jest
END:VEVENT
BEGIN:VEVENT
UID:20260424T192851UTC-10704fzd3i@https://www.sandiegofamily.com/
DTSTAMP:20260424T192851Z
DESCRIPTION: https://www.sandiegofamily.com/things-to-do/events-calendar/ev
 ent/49859-imagine-wild-mountain-yellow-legged-frog
DTSTART;VALUE=DATE:20260517
LOCATION:Birch Aquarium at Scripps (2300 Expedition Way\, La Jolla\, CA 920
 37\, USA)
SUMMARY:Imagine Wild: Mountain Yellow-legged Frog
URL:https://www.sandiegofamily.com/things-to-do/events-calendar/event/49859
 -imagine-wild-mountain-yellow-legged-frog
END:VEVENT
BEGIN:VEVENT
UID:20260424T192851UTC-1071DTRMtv@https://www.sandiegofamily.com/
DTSTAMP:20260424T192851Z
DESCRIPTION: https://www.sandiegofamily.com/things-to-do/events-calendar/ev
 ent/49936-kids-bowl-free
DTSTART;VALUE=DATE:20260517
LOCATION:San Diego\, CA ()
SUMMARY:Kids Bowl FREE
URL:https://www.sandiegofamily.com/things-to-do/events-calendar/event/49936
 -kids-bowl-free
END:VEVENT
BEGIN:VEVENT
UID:20260424T192851UTC-1072cGOxEE@https://www.sandiegofamily.com/
DTSTAMP:20260424T192851Z
DESCRIPTION: https://www.sandiegofamily.com/things-to-do/events-calendar/ev
 ent/50046-viva-la-musica
DTSTART;VALUE=DATE:20260517
LOCATION:SeaWorld San Diego (500 Sea World Dr\, San Diego\, CA 92109\, USA)
SUMMARY:Viva La Musica
URL:https://www.sandiegofamily.com/things-to-do/events-calendar/event/50046
 -viva-la-musica
END:VEVENT
BEGIN:VEVENT
UID:20260424T192851UTC-1073L6m4lC@https://www.sandiegofamily.com/
DTSTAMP:20260424T192851Z
DESCRIPTION: https://www.sandiegofamily.com/things-to-do/events-calendar/ev
 ent/50073-u-pick-strawberry-fields
DTSTART;VALUE=DATE:20260517
LOCATION:Carlsbad Strawberry Fields (1050 Cannon Rd\, Carlsbad\, CA 92008\,
  USA)
SUMMARY:U-Pick Strawberry Fields
URL:https://www.sandiegofamily.com/things-to-do/events-calendar/event/50073
 -u-pick-strawberry-fields
END:VEVENT
BEGIN:VEVENT
UID:20260424T192851UTC-1074kRm3eM@https://www.sandiegofamily.com/
DTSTAMP:20260424T192851Z
DESCRIPTION: https://www.sandiegofamily.com/things-to-do/events-calendar/ev
 ent/50134-spring-camping-series
DTSTART;VALUE=DATE:20260517
LOCATION:Lake Poway (14644 Lake Poway Rd\, Poway\, CA 92064\, USA)
SUMMARY:Spring Camping Series
URL:https://www.sandiegofamily.com/things-to-do/events-calendar/event/50134
 -spring-camping-series
END:VEVENT
BEGIN:VEVENT
UID:20260424T192851UTC-10746vmLwu@https://www.sandiegofamily.com/
DTSTAMP:20260424T192851Z
DESCRIPTION: https://www.sandiegofamily.com/things-to-do/events-calendar/ev
 ent/50166-legoland-water-park
DTSTART;VALUE=DATE:20260517
LOCATION:LEGOLAND California Resort (1 Legoland Dr\, Carlsbad\, CA 92008\, 
 USA)
SUMMARY:LEGOLAND Water Park
URL:https://www.sandiegofamily.com/things-to-do/events-calendar/event/50166
 -legoland-water-park
END:VEVENT
BEGIN:VEVENT
UID:20260424T192851UTC-1075uvij3C@https://www.sandiegofamily.com/
DTSTAMP:20260424T192851Z
DESCRIPTION: https://www.sandiegofamily.com/things-to-do/events-calendar/ev
 ent/50175-fern-street-circus
DTSTART;VALUE=DATE:20260517
LOCATION:San Diego\, CA ()
SUMMARY:Fern Street Circus
URL:https://www.sandiegofamily.com/things-to-do/events-calendar/event/50175
 -fern-street-circus
END:VEVENT
BEGIN:VEVENT
UID:20260424T192851UTC-1076HcgD8x@https://www.sandiegofamily.com/
DTSTAMP:20260424T192851Z
DESCRIPTION: https://www.sandiegofamily.com/things-to-do/events-calendar/ev
 ent/50192-orchids-in-the-wild
DTSTART;VALUE=DATE:20260517
LOCATION:San Diego Botanic Garden (230 Quail Gardens Dr\, Encinitas\, CA 92
 024\, USA)
SUMMARY:Orchids in the Wild
URL:https://www.sandiegofamily.com/things-to-do/events-calendar/event/50192
 -orchids-in-the-wild
END:VEVENT
BEGIN:VEVENT
UID:20260424T192851UTC-1077akkLNL@https://www.sandiegofamily.com/
DTSTAMP:20260424T192851Z
DESCRIPTION: https://www.sandiegofamily.com/things-to-do/events-calendar/ev
 ent/50288-purpose
DTSTART;VALUE=DATE:20260517
LOCATION:La Jolla Playhouse (2910 La Jolla Village Dr\, La Jolla\, CA 92093
 \, USA)
SUMMARY:“Purpose.” 
URL:https://www.sandiegofamily.com/things-to-do/events-calendar/event/50288
 -purpose
END:VEVENT
BEGIN:VEVENT
UID:20260424T192851UTC-1078edVGv7@https://www.sandiegofamily.com/
DTSTAMP:20260424T192851Z
DESCRIPTION: https://www.sandiegofamily.com/things-to-do/events-calendar/ev
 ent/50310-blue-star-museums-offers-free-admission
DTSTART;VALUE=DATE:20260517
LOCATION:San Diego\, CA ()
SUMMARY:Blue Star Museums offers FREE admission
URL:https://www.sandiegofamily.com/things-to-do/events-calendar/event/50310
 -blue-star-museums-offers-free-admission
END:VEVENT
BEGIN:VEVENT
UID:20260424T192851UTC-10796xirjD@https://www.sandiegofamily.com/
DTSTAMP:20260424T192851Z
DESCRIPTION: https://www.sandiegofamily.com/things-to-do/events-calendar/ev
 ent/50430-community-band-festival
DTSTART;VALUE=DATE:20260517
LOCATION:Old Poway Park (14134 Midland Rd\, Poway\, CA 92064\, USA)
SUMMARY:Community Band Festival
URL:https://www.sandiegofamily.com/things-to-do/events-calendar/event/50430
 -community-band-festival
END:VEVENT
BEGIN:VEVENT
UID:20260424T192851UTC-1079kP0Ttt@https://www.sandiegofamily.com/
DTSTAMP:20260424T192851Z
DESCRIPTION: https://www.sandiegofamily.com/things-to-do/events-calendar/ev
 ent/50435-rady-childrens-walkabout-at-seaworld
DTSTART;VALUE=DATE:20260517
LOCATION:SeaWorld San Diego (500 Sea World Dr\, San Diego\, CA 92109\, USA)
SUMMARY:Rady Children’s Walkabout at SeaWorld
URL:https://www.sandiegofamily.com/things-to-do/events-calendar/event/50435
 -rady-childrens-walkabout-at-seaworld
END:VEVENT
BEGIN:VEVENT
UID:20260424T192851UTC-1080DgMcIH@https://www.sandiegofamily.com/
DTSTAMP:20260424T192851Z
DESCRIPTION: https://www.sandiegofamily.com/things-to-do/events-calendar/ev
 ent/50436-mountain-lion-101
DTSTART;VALUE=DATE:20260517
LOCATION:San Diego\, CA ()
SUMMARY:Mountain Lion 101
URL:https://www.sandiegofamily.com/things-to-do/events-calendar/event/50436
 -mountain-lion-101
END:VEVENT
END:VCALENDAR
