BEGIN:VCALENDAR
VERSION:2.0
PRODID:-//https://www.sandiegofamily.com///NONSGML kigkonsult.se iCalcreator 2.10.15//
METHOD:PUBLISH
BEGIN:VEVENT
UID:20260425T031144UTC-4892bPueBB@https://www.sandiegofamily.com/
DTSTAMP:20260425T031144Z
DESCRIPTION: https://www.sandiegofamily.com/things-to-do/events-calendar/ev
 ent/49300-lego-galaxy
DTSTART;VALUE=DATE:20260516
LOCATION:LEGOLAND California Resort (1 Legoland Dr\, Carlsbad\, CA 92008\, 
 USA)
SUMMARY:LEGO Galaxy
URL:https://www.sandiegofamily.com/things-to-do/events-calendar/event/49300
 -lego-galaxy
END:VEVENT
BEGIN:VEVENT
UID:20260425T031144UTC-4893x38xGX@https://www.sandiegofamily.com/
DTSTAMP:20260425T031144Z
DESCRIPTION: https://www.sandiegofamily.com/things-to-do/events-calendar/ev
 ent/49397-sesame-place
DTSTART;VALUE=DATE:20260516
LOCATION:Sesame Place San Diego (2052 Entertainment Cir\, Chula Vista\, CA 
 91911\, USA)
SUMMARY:Sesame Place
URL:https://www.sandiegofamily.com/things-to-do/events-calendar/event/49397
 -sesame-place
END:VEVENT
BEGIN:VEVENT
UID:20260425T031144UTC-4894e4wJua@https://www.sandiegofamily.com/
DTSTAMP:20260425T031144Z
DESCRIPTION: https://www.sandiegofamily.com/things-to-do/events-calendar/ev
 ent/49464-free-legoland-tickets-for-first-responders
DTSTART;VALUE=DATE:20260516
LOCATION:LEGOLAND California Resort (1 Legoland Dr\, Carlsbad\, CA 92008\, 
 USA)
SUMMARY:FREE LEGOLAND Tickets for First Responders
URL:https://www.sandiegofamily.com/things-to-do/events-calendar/event/49464
 -free-legoland-tickets-for-first-responders
END:VEVENT
BEGIN:VEVENT
UID:20260425T031144UTC-4895nOgbDu@https://www.sandiegofamily.com/
DTSTAMP:20260425T031144Z
DESCRIPTION: https://www.sandiegofamily.com/things-to-do/events-calendar/ev
 ent/49565-belmont-in-bloom
DTSTART;VALUE=DATE:20260516
LOCATION:Belmont Park (3146 Mission Blvd\, San Diego\, CA 92109\, USA)
SUMMARY:Belmont in Bloom
URL:https://www.sandiegofamily.com/things-to-do/events-calendar/event/49565
 -belmont-in-bloom
END:VEVENT
BEGIN:VEVENT
UID:20260425T031144UTC-4896uJe28F@https://www.sandiegofamily.com/
DTSTAMP:20260425T031144Z
DESCRIPTION: https://www.sandiegofamily.com/things-to-do/events-calendar/ev
 ent/49768-the-cher-show
DTSTART;VALUE=DATE:20260516
LOCATION:Moonlight Amphitheater (1250 Vale Terrace Dr\, Vista\, CA 92084\, 
 USA)
SUMMARY:“The Cher Show.” 
URL:https://www.sandiegofamily.com/things-to-do/events-calendar/event/49768
 -the-cher-show
END:VEVENT
BEGIN:VEVENT
UID:20260425T031144UTC-48975GEFAH@https://www.sandiegofamily.com/
DTSTAMP:20260425T031144Z
DESCRIPTION: https://www.sandiegofamily.com/things-to-do/events-calendar/ev
 ent/49786-foodies-4-foster-kids
DTSTART;VALUE=DATE:20260516
LOCATION:San Diego\, CA ()
SUMMARY:Foodies 4 Foster Kids
URL:https://www.sandiegofamily.com/things-to-do/events-calendar/event/49786
 -foodies-4-foster-kids
END:VEVENT
BEGIN:VEVENT
UID:20260425T031144UTC-4897UMRjPb@https://www.sandiegofamily.com/
DTSTAMP:20260425T031144Z
DESCRIPTION: https://www.sandiegofamily.com/things-to-do/events-calendar/ev
 ent/49817-the-big-exchange
DTSTART;VALUE=DATE:20260516
LOCATION:San Diego\, CA ()
SUMMARY:The Big Exchange
URL:https://www.sandiegofamily.com/things-to-do/events-calendar/event/49817
 -the-big-exchange
END:VEVENT
BEGIN:VEVENT
UID:20260425T031144UTC-4898Bjx8cE@https://www.sandiegofamily.com/
DTSTAMP:20260425T031144Z
DESCRIPTION: https://www.sandiegofamily.com/things-to-do/events-calendar/ev
 ent/49840-beau-jest
DTSTART;VALUE=DATE:20260516
LOCATION:North Coast Repertory Theatre (987 Lomas Santa Fe Dr\, Solana Beac
 h\, CA 92075\, USA)
SUMMARY:“Beau Jest.”
URL:https://www.sandiegofamily.com/things-to-do/events-calendar/event/49840
 -beau-jest
END:VEVENT
BEGIN:VEVENT
UID:20260425T031144UTC-4899sEZmMg@https://www.sandiegofamily.com/
DTSTAMP:20260425T031144Z
DESCRIPTION: https://www.sandiegofamily.com/things-to-do/events-calendar/ev
 ent/49858-imagine-wild-mountain-yellow-legged-frog
DTSTART;VALUE=DATE:20260516
LOCATION:Birch Aquarium at Scripps (2300 Expedition Way\, La Jolla\, CA 920
 37\, USA)
SUMMARY:Imagine Wild: Mountain Yellow-legged Frog
URL:https://www.sandiegofamily.com/things-to-do/events-calendar/event/49858
 -imagine-wild-mountain-yellow-legged-frog
END:VEVENT
BEGIN:VEVENT
UID:20260425T031144UTC-4900UTMsU8@https://www.sandiegofamily.com/
DTSTAMP:20260425T031144Z
DESCRIPTION: https://www.sandiegofamily.com/things-to-do/events-calendar/ev
 ent/49935-kids-bowl-free
DTSTART;VALUE=DATE:20260516
LOCATION:San Diego\, CA ()
SUMMARY:Kids Bowl FREE
URL:https://www.sandiegofamily.com/things-to-do/events-calendar/event/49935
 -kids-bowl-free
END:VEVENT
BEGIN:VEVENT
UID:20260425T031144UTC-4901nvsTfk@https://www.sandiegofamily.com/
DTSTAMP:20260425T031144Z
DESCRIPTION: https://www.sandiegofamily.com/things-to-do/events-calendar/ev
 ent/50029-movies-on-the-beach
DTSTART;VALUE=DATE:20260516
LOCATION:Hotel del Coronado  (1500 Orange Ave.\, Coronado)
SUMMARY:Movies on the Beach
URL:https://www.sandiegofamily.com/things-to-do/events-calendar/event/50029
 -movies-on-the-beach
END:VEVENT
BEGIN:VEVENT
UID:20260425T031144UTC-4901r4vO12@https://www.sandiegofamily.com/
DTSTAMP:20260425T031144Z
DESCRIPTION: https://www.sandiegofamily.com/things-to-do/events-calendar/ev
 ent/50045-viva-la-musica
DTSTART;VALUE=DATE:20260516
LOCATION:SeaWorld San Diego (500 Sea World Dr\, San Diego\, CA 92109\, USA)
SUMMARY:Viva La Musica
URL:https://www.sandiegofamily.com/things-to-do/events-calendar/event/50045
 -viva-la-musica
END:VEVENT
BEGIN:VEVENT
UID:20260425T031144UTC-49023BGVUA@https://www.sandiegofamily.com/
DTSTAMP:20260425T031144Z
DESCRIPTION: https://www.sandiegofamily.com/things-to-do/events-calendar/ev
 ent/50052-roar-snore-safari
DTSTART;VALUE=DATE:20260516
LOCATION:San Diego Zoo Safari Park (15500 San Pasqual Valley Rd\, Escondido
 \, CA 92027\, USA)
SUMMARY:Roar & Snore Safari
URL:https://www.sandiegofamily.com/things-to-do/events-calendar/event/50052
 -roar-snore-safari
END:VEVENT
BEGIN:VEVENT
UID:20260425T031144UTC-4903WjI6wX@https://www.sandiegofamily.com/
DTSTAMP:20260425T031144Z
DESCRIPTION: https://www.sandiegofamily.com/things-to-do/events-calendar/ev
 ent/50072-u-pick-strawberry-fields
DTSTART;VALUE=DATE:20260516
LOCATION:Carlsbad Strawberry Fields (1050 Cannon Rd\, Carlsbad\, CA 92008\,
  USA)
SUMMARY:U-Pick Strawberry Fields
URL:https://www.sandiegofamily.com/things-to-do/events-calendar/event/50072
 -u-pick-strawberry-fields
END:VEVENT
BEGIN:VEVENT
UID:20260425T031144UTC-4904t6grUl@https://www.sandiegofamily.com/
DTSTAMP:20260425T031144Z
DESCRIPTION: https://www.sandiegofamily.com/things-to-do/events-calendar/ev
 ent/50133-spring-camping-series
DTSTART;VALUE=DATE:20260516
LOCATION:Lake Poway (14644 Lake Poway Rd\, Poway\, CA 92064\, USA)
SUMMARY:Spring Camping Series
URL:https://www.sandiegofamily.com/things-to-do/events-calendar/event/50133
 -spring-camping-series
END:VEVENT
BEGIN:VEVENT
UID:20260425T031144UTC-4905xe8U9C@https://www.sandiegofamily.com/
DTSTAMP:20260425T031144Z
DESCRIPTION: https://www.sandiegofamily.com/things-to-do/events-calendar/ev
 ent/50156-san-diego-fc-soccer-team
DTSTART;VALUE=DATE:20260516
LOCATION:Snapdragon Stadium (2101 Stadium Way\, San Diego\, CA 92108\, USA)
SUMMARY:San Diego FC Soccer Team
URL:https://www.sandiegofamily.com/things-to-do/events-calendar/event/50156
 -san-diego-fc-soccer-team
END:VEVENT
BEGIN:VEVENT
UID:20260425T031144UTC-49065VvduV@https://www.sandiegofamily.com/
DTSTAMP:20260425T031144Z
DESCRIPTION: https://www.sandiegofamily.com/things-to-do/events-calendar/ev
 ent/50165-legoland-water-park
DTSTART;VALUE=DATE:20260516
LOCATION:LEGOLAND California Resort (1 Legoland Dr\, Carlsbad\, CA 92008\, 
 USA)
SUMMARY:LEGOLAND Water Park
URL:https://www.sandiegofamily.com/things-to-do/events-calendar/event/50165
 -legoland-water-park
END:VEVENT
BEGIN:VEVENT
UID:20260425T031144UTC-4907uWBfx1@https://www.sandiegofamily.com/
DTSTAMP:20260425T031144Z
DESCRIPTION: https://www.sandiegofamily.com/things-to-do/events-calendar/ev
 ent/50174-fern-street-circus
DTSTART;VALUE=DATE:20260516
LOCATION:San Diego\, CA ()
SUMMARY:Fern Street Circus
URL:https://www.sandiegofamily.com/things-to-do/events-calendar/event/50174
 -fern-street-circus
END:VEVENT
BEGIN:VEVENT
UID:20260425T031144UTC-4907rCtju9@https://www.sandiegofamily.com/
DTSTAMP:20260425T031144Z
DESCRIPTION: https://www.sandiegofamily.com/things-to-do/events-calendar/ev
 ent/50191-orchids-in-the-wild
DTSTART;VALUE=DATE:20260516
LOCATION:San Diego Botanic Garden (230 Quail Gardens Dr\, Encinitas\, CA 92
 024\, USA)
SUMMARY:Orchids in the Wild
URL:https://www.sandiegofamily.com/things-to-do/events-calendar/event/50191
 -orchids-in-the-wild
END:VEVENT
BEGIN:VEVENT
UID:20260425T031144UTC-4908joui6g@https://www.sandiegofamily.com/
DTSTAMP:20260425T031144Z
DESCRIPTION: https://www.sandiegofamily.com/things-to-do/events-calendar/ev
 ent/50211-concert-series-on-the-deck
DTSTART;VALUE=DATE:20260516
LOCATION:Santee Lakes (9310 Fanita Pkwy\, Santee\, CA 92071\, USA)
SUMMARY:Concert Series on the Deck
URL:https://www.sandiegofamily.com/things-to-do/events-calendar/event/50211
 -concert-series-on-the-deck
END:VEVENT
BEGIN:VEVENT
UID:20260425T031144UTC-4909tDBIrt@https://www.sandiegofamily.com/
DTSTAMP:20260425T031144Z
DESCRIPTION: https://www.sandiegofamily.com/things-to-do/events-calendar/ev
 ent/50287-purpose
DTSTART;VALUE=DATE:20260516
LOCATION:La Jolla Playhouse (2910 La Jolla Village Dr\, La Jolla\, CA 92093
 \, USA)
SUMMARY:“Purpose.” 
URL:https://www.sandiegofamily.com/things-to-do/events-calendar/event/50287
 -purpose
END:VEVENT
BEGIN:VEVENT
UID:20260425T031144UTC-4910evwhaV@https://www.sandiegofamily.com/
DTSTAMP:20260425T031144Z
DESCRIPTION: https://www.sandiegofamily.com/things-to-do/events-calendar/ev
 ent/50309-blue-star-museums-offers-free-admission
DTSTART;VALUE=DATE:20260516
LOCATION:San Diego\, CA ()
SUMMARY:Blue Star Museums offers FREE admission
URL:https://www.sandiegofamily.com/things-to-do/events-calendar/event/50309
 -blue-star-museums-offers-free-admission
END:VEVENT
BEGIN:VEVENT
UID:20260425T031144UTC-4910k3jljk@https://www.sandiegofamily.com/
DTSTAMP:20260425T031144Z
DESCRIPTION: https://www.sandiegofamily.com/things-to-do/events-calendar/ev
 ent/50424-asian-pacific-cultural-festival
DTSTART;VALUE=DATE:20260516
LOCATION:Balboa Park (Balboa Park\, San Diego\, CA\, USA)
SUMMARY:Asian Pacific Cultural Festival
URL:https://www.sandiegofamily.com/things-to-do/events-calendar/event/50424
 -asian-pacific-cultural-festival
END:VEVENT
BEGIN:VEVENT
UID:20260425T031144UTC-4911LUskme@https://www.sandiegofamily.com/
DTSTAMP:20260425T031144Z
DESCRIPTION: https://www.sandiegofamily.com/things-to-do/events-calendar/ev
 ent/50425-junior-science-club-will-it-work
DTSTART;VALUE=DATE:20260516
LOCATION:Fleet Science Center\, Balboa Park (1875 El Prado\, San Diego\, CA
  92101\, USA)
SUMMARY:Junior Science Club: Will It Work?
URL:https://www.sandiegofamily.com/things-to-do/events-calendar/event/50425
 -junior-science-club-will-it-work
END:VEVENT
BEGIN:VEVENT
UID:20260425T031144UTC-4912tno1FI@https://www.sandiegofamily.com/
DTSTAMP:20260425T031144Z
DESCRIPTION: https://www.sandiegofamily.com/things-to-do/events-calendar/ev
 ent/50426-family-discovery-walk-reptiles-amphibians
DTSTART;VALUE=DATE:20260516
LOCATION:Mission Trails Regional Park (1 Father Junipero Serra Trail\, San 
 Diego\, CA 92119\, USA)
SUMMARY:Family Discovery Walk: Reptiles & Amphibians
URL:https://www.sandiegofamily.com/things-to-do/events-calendar/event/50426
 -family-discovery-walk-reptiles-amphibians
END:VEVENT
BEGIN:VEVENT
UID:20260425T031144UTC-49139dVjUo@https://www.sandiegofamily.com/
DTSTAMP:20260425T031144Z
DESCRIPTION: https://www.sandiegofamily.com/things-to-do/events-calendar/ev
 ent/50427-ob-kite-festival
DTSTART;VALUE=DATE:20260516
LOCATION:Robb Field (2525 Bacon St\, San Diego\, CA 92107\, USA)
SUMMARY:OB Kite Festival
URL:https://www.sandiegofamily.com/things-to-do/events-calendar/event/50427
 -ob-kite-festival
END:VEVENT
BEGIN:VEVENT
UID:20260425T031144UTC-491471iAVb@https://www.sandiegofamily.com/
DTSTAMP:20260425T031144Z
DESCRIPTION: https://www.sandiegofamily.com/things-to-do/events-calendar/ev
 ent/50428-hillcrest-classic-car-show
DTSTART;VALUE=DATE:20260516
LOCATION:San Diego\, CA ()
SUMMARY:Hillcrest Classic Car Show
URL:https://www.sandiegofamily.com/things-to-do/events-calendar/event/50428
 -hillcrest-classic-car-show
END:VEVENT
BEGIN:VEVENT
UID:20260425T031144UTC-4914I4CtLX@https://www.sandiegofamily.com/
DTSTAMP:20260425T031144Z
DESCRIPTION: https://www.sandiegofamily.com/things-to-do/events-calendar/ev
 ent/50429-community-band-festival
DTSTART;VALUE=DATE:20260516
LOCATION:Old Poway Park (14134 Midland Rd\, Poway\, CA 92064\, USA)
SUMMARY:Community Band Festival
URL:https://www.sandiegofamily.com/things-to-do/events-calendar/event/50429
 -community-band-festival
END:VEVENT
BEGIN:VEVENT
UID:20260425T031144UTC-49156L68eI@https://www.sandiegofamily.com/
DTSTAMP:20260425T031144Z
DESCRIPTION: https://www.sandiegofamily.com/things-to-do/events-calendar/ev
 ent/50431-accessibility-mornings-at-the-fleet
DTSTART;VALUE=DATE:20260516
LOCATION:Fleet Science Center\, Balboa Park (1875 El Prado\, San Diego\, CA
  92101\, USA)
SUMMARY:Accessibility Mornings at the Fleet
URL:https://www.sandiegofamily.com/things-to-do/events-calendar/event/50431
 -accessibility-mornings-at-the-fleet
END:VEVENT
BEGIN:VEVENT
UID:20260425T031144UTC-4916BAsoFG@https://www.sandiegofamily.com/
DTSTAMP:20260425T031144Z
DESCRIPTION: https://www.sandiegofamily.com/things-to-do/events-calendar/ev
 ent/50432-san-diego-super-bloom
DTSTART;VALUE=DATE:20260516
LOCATION:San Diego\, CA ()
SUMMARY:San Diego Super Bloom
URL:https://www.sandiegofamily.com/things-to-do/events-calendar/event/50432
 -san-diego-super-bloom
END:VEVENT
BEGIN:VEVENT
UID:20260425T031144UTC-4917NZRzkv@https://www.sandiegofamily.com/
DTSTAMP:20260425T031144Z
DESCRIPTION: https://www.sandiegofamily.com/things-to-do/events-calendar/ev
 ent/50433-antique-truck-show
DTSTART;VALUE=DATE:20260516
LOCATION:Southern California Railway Museum (2201 S A St\, Perris\, CA 9257
 0\, USA)
SUMMARY:Antique Truck Show
URL:https://www.sandiegofamily.com/things-to-do/events-calendar/event/50433
 -antique-truck-show
END:VEVENT
BEGIN:VEVENT
UID:20260425T031144UTC-4918dzPWfH@https://www.sandiegofamily.com/
DTSTAMP:20260425T031144Z
DESCRIPTION: https://www.sandiegofamily.com/things-to-do/events-calendar/ev
 ent/50434-goldenpalooza-community-music-arts-festival
DTSTART;VALUE=DATE:20260516
LOCATION:San Diego\, CA ()
SUMMARY:Goldenpalooza Community Music & Arts Festival
URL:https://www.sandiegofamily.com/things-to-do/events-calendar/event/50434
 -goldenpalooza-community-music-arts-festival
END:VEVENT
END:VCALENDAR
