BEGIN:VCALENDAR
VERSION:2.0
PRODID:-//https://www.sandiegofamily.com///NONSGML kigkonsult.se iCalcreator 2.10.15//
METHOD:PUBLISH
BEGIN:VEVENT
UID:20260424T133401UTC-7807n8pNdw@https://www.sandiegofamily.com/
DTSTAMP:20260424T133401Z
DESCRIPTION: https://www.sandiegofamily.com/things-to-do/events-calendar/ev
 ent/48171-spreckels-organ-society-concerts
DTSTART;VALUE=DATE:20260510
LOCATION:Spreckels Organ Pavilion\, Balboa Park (2125 Pan American Rd E\, S
 an Diego\, CA 92101\, USA)
SUMMARY:Spreckels Organ Society Concerts
URL:https://www.sandiegofamily.com/things-to-do/events-calendar/event/48171
 -spreckels-organ-society-concerts
END:VEVENT
BEGIN:VEVENT
UID:20260424T133401UTC-7809vvw62U@https://www.sandiegofamily.com/
DTSTAMP:20260424T133401Z
DESCRIPTION: https://www.sandiegofamily.com/things-to-do/events-calendar/ev
 ent/48867-the-flower-fields-at-carlsbad-ranch
DTSTART;VALUE=DATE:20260510
LOCATION:The Flower Fields at Carlsbad Ranch (5704 Paseo Del Norte\, Carlsb
 ad\, CA 92008\, USA)
SUMMARY:The Flower Fields at Carlsbad Ranch
URL:https://www.sandiegofamily.com/things-to-do/events-calendar/event/48867
 -the-flower-fields-at-carlsbad-ranch
END:VEVENT
BEGIN:VEVENT
UID:20260424T133401UTC-7810gv7kfu@https://www.sandiegofamily.com/
DTSTAMP:20260424T133401Z
DESCRIPTION: https://www.sandiegofamily.com/things-to-do/events-calendar/ev
 ent/49294-lego-galaxy
DTSTART;VALUE=DATE:20260510
LOCATION:LEGOLAND California Resort (1 Legoland Dr\, Carlsbad\, CA 92008\, 
 USA)
SUMMARY:LEGO Galaxy
URL:https://www.sandiegofamily.com/things-to-do/events-calendar/event/49294
 -lego-galaxy
END:VEVENT
BEGIN:VEVENT
UID:20260424T133401UTC-7810h1eCg0@https://www.sandiegofamily.com/
DTSTAMP:20260424T133401Z
DESCRIPTION: https://www.sandiegofamily.com/things-to-do/events-calendar/ev
 ent/49396-sesame-place
DTSTART;VALUE=DATE:20260510
LOCATION:Sesame Place San Diego (2052 Entertainment Cir\, Chula Vista\, CA 
 91911\, USA)
SUMMARY:Sesame Place
URL:https://www.sandiegofamily.com/things-to-do/events-calendar/event/49396
 -sesame-place
END:VEVENT
BEGIN:VEVENT
UID:20260424T133401UTC-7811Ork3uE@https://www.sandiegofamily.com/
DTSTAMP:20260424T133401Z
DESCRIPTION: https://www.sandiegofamily.com/things-to-do/events-calendar/ev
 ent/49458-free-legoland-tickets-for-first-responders
DTSTART;VALUE=DATE:20260510
LOCATION:LEGOLAND California Resort (1 Legoland Dr\, Carlsbad\, CA 92008\, 
 USA)
SUMMARY:FREE LEGOLAND Tickets for First Responders
URL:https://www.sandiegofamily.com/things-to-do/events-calendar/event/49458
 -free-legoland-tickets-for-first-responders
END:VEVENT
BEGIN:VEVENT
UID:20260424T133401UTC-7812Z3tCLe@https://www.sandiegofamily.com/
DTSTAMP:20260424T133401Z
DESCRIPTION: https://www.sandiegofamily.com/things-to-do/events-calendar/ev
 ent/49559-belmont-in-bloom
DTSTART;VALUE=DATE:20260510
LOCATION:Belmont Park (3146 Mission Blvd\, San Diego\, CA 92109\, USA)
SUMMARY:Belmont in Bloom
URL:https://www.sandiegofamily.com/things-to-do/events-calendar/event/49559
 -belmont-in-bloom
END:VEVENT
BEGIN:VEVENT
UID:20260424T133401UTC-7813JBKism@https://www.sandiegofamily.com/
DTSTAMP:20260424T133401Z
DESCRIPTION: https://www.sandiegofamily.com/things-to-do/events-calendar/ev
 ent/49615-birch-after-hours
DTSTART;VALUE=DATE:20260510
LOCATION:Birch Aquarium at Scripps (2300 Expedition Way\, La Jolla\, CA 920
 37\, USA)
SUMMARY:Birch After Hours
URL:https://www.sandiegofamily.com/things-to-do/events-calendar/event/49615
 -birch-after-hours
END:VEVENT
BEGIN:VEVENT
UID:20260424T133401UTC-7814fFUjKJ@https://www.sandiegofamily.com/
DTSTAMP:20260424T133401Z
DESCRIPTION: https://www.sandiegofamily.com/things-to-do/events-calendar/ev
 ent/49727-shrek-the-musical
DTSTART;VALUE=DATE:20260510
LOCATION:Casa del Prado Theatre\, Balboa Park (1600 Village Pl\, San Diego\
 , CA 92101\, USA)
SUMMARY:“Shrek the Musical.” 
URL:https://www.sandiegofamily.com/things-to-do/events-calendar/event/49727
 -shrek-the-musical
END:VEVENT
BEGIN:VEVENT
UID:20260424T133401UTC-78156ecc8g@https://www.sandiegofamily.com/
DTSTAMP:20260424T133401Z
DESCRIPTION: https://www.sandiegofamily.com/things-to-do/events-calendar/ev
 ent/49764-the-cher-show
DTSTART;VALUE=DATE:20260510
LOCATION:Moonlight Amphitheater (1250 Vale Terrace Dr\, Vista\, CA 92084\, 
 USA)
SUMMARY:“The Cher Show.” 
URL:https://www.sandiegofamily.com/things-to-do/events-calendar/event/49764
 -the-cher-show
END:VEVENT
BEGIN:VEVENT
UID:20260424T133401UTC-7816VvFlHh@https://www.sandiegofamily.com/
DTSTAMP:20260424T133401Z
DESCRIPTION: https://www.sandiegofamily.com/things-to-do/events-calendar/ev
 ent/49780-foodies-4-foster-kids
DTSTART;VALUE=DATE:20260510
LOCATION:San Diego\, CA ()
SUMMARY:Foodies 4 Foster Kids
URL:https://www.sandiegofamily.com/things-to-do/events-calendar/event/49780
 -foodies-4-foster-kids
END:VEVENT
BEGIN:VEVENT
UID:20260424T133401UTC-7816uJ3Wkj@https://www.sandiegofamily.com/
DTSTAMP:20260424T133401Z
DESCRIPTION: https://www.sandiegofamily.com/things-to-do/events-calendar/ev
 ent/49811-the-big-exchange
DTSTART;VALUE=DATE:20260510
LOCATION:San Diego\, CA ()
SUMMARY:The Big Exchange
URL:https://www.sandiegofamily.com/things-to-do/events-calendar/event/49811
 -the-big-exchange
END:VEVENT
BEGIN:VEVENT
UID:20260424T133401UTC-7817vpepTs@https://www.sandiegofamily.com/
DTSTAMP:20260424T133401Z
DESCRIPTION: https://www.sandiegofamily.com/things-to-do/events-calendar/ev
 ent/49836-beau-jest
DTSTART;VALUE=DATE:20260510
LOCATION:North Coast Repertory Theatre (987 Lomas Santa Fe Dr\, Solana Beac
 h\, CA 92075\, USA)
SUMMARY:“Beau Jest.”
URL:https://www.sandiegofamily.com/things-to-do/events-calendar/event/49836
 -beau-jest
END:VEVENT
BEGIN:VEVENT
UID:20260424T133401UTC-7818CmUS8c@https://www.sandiegofamily.com/
DTSTAMP:20260424T133401Z
DESCRIPTION: https://www.sandiegofamily.com/things-to-do/events-calendar/ev
 ent/49852-imagine-wild-mountain-yellow-legged-frog
DTSTART;VALUE=DATE:20260510
LOCATION:Birch Aquarium at Scripps (2300 Expedition Way\, La Jolla\, CA 920
 37\, USA)
SUMMARY:Imagine Wild: Mountain Yellow-legged Frog
URL:https://www.sandiegofamily.com/things-to-do/events-calendar/event/49852
 -imagine-wild-mountain-yellow-legged-frog
END:VEVENT
BEGIN:VEVENT
UID:20260424T133401UTC-7819G7BV9s@https://www.sandiegofamily.com/
DTSTAMP:20260424T133401Z
DESCRIPTION: https://www.sandiegofamily.com/things-to-do/events-calendar/ev
 ent/49910-padres-home-games
DTSTART;VALUE=DATE:20260510
LOCATION:Petco Park (100 Park Blvd\, San Diego\, CA 92101\, USA)
SUMMARY:Padres Home Games
URL:https://www.sandiegofamily.com/things-to-do/events-calendar/event/49910
 -padres-home-games
END:VEVENT
BEGIN:VEVENT
UID:20260424T133401UTC-7820ghmE8v@https://www.sandiegofamily.com/
DTSTAMP:20260424T133401Z
DESCRIPTION: https://www.sandiegofamily.com/things-to-do/events-calendar/ev
 ent/49929-kids-bowl-free
DTSTART;VALUE=DATE:20260510
LOCATION:San Diego\, CA ()
SUMMARY:Kids Bowl FREE
URL:https://www.sandiegofamily.com/things-to-do/events-calendar/event/49929
 -kids-bowl-free
END:VEVENT
BEGIN:VEVENT
UID:20260424T133401UTC-7820el7ltZ@https://www.sandiegofamily.com/
DTSTAMP:20260424T133401Z
DESCRIPTION: https://www.sandiegofamily.com/things-to-do/events-calendar/ev
 ent/50043-viva-la-musica
DTSTART;VALUE=DATE:20260510
LOCATION:SeaWorld San Diego (500 Sea World Dr\, San Diego\, CA 92109\, USA)
SUMMARY:Viva La Musica
URL:https://www.sandiegofamily.com/things-to-do/events-calendar/event/50043
 -viva-la-musica
END:VEVENT
BEGIN:VEVENT
UID:20260424T133401UTC-78217C9RRT@https://www.sandiegofamily.com/
DTSTAMP:20260424T133401Z
DESCRIPTION: https://www.sandiegofamily.com/things-to-do/events-calendar/ev
 ent/50066-u-pick-strawberry-fields
DTSTART;VALUE=DATE:20260510
LOCATION:Carlsbad Strawberry Fields (1050 Cannon Rd\, Carlsbad\, CA 92008\,
  USA)
SUMMARY:U-Pick Strawberry Fields
URL:https://www.sandiegofamily.com/things-to-do/events-calendar/event/50066
 -u-pick-strawberry-fields
END:VEVENT
BEGIN:VEVENT
UID:20260424T133401UTC-78220m3U67@https://www.sandiegofamily.com/
DTSTAMP:20260424T133401Z
DESCRIPTION: https://www.sandiegofamily.com/things-to-do/events-calendar/ev
 ent/50127-spring-camping-series
DTSTART;VALUE=DATE:20260510
LOCATION:Lake Poway (14644 Lake Poway Rd\, Poway\, CA 92064\, USA)
SUMMARY:Spring Camping Series
URL:https://www.sandiegofamily.com/things-to-do/events-calendar/event/50127
 -spring-camping-series
END:VEVENT
BEGIN:VEVENT
UID:20260424T133401UTC-7823wBJ73m@https://www.sandiegofamily.com/
DTSTAMP:20260424T133401Z
DESCRIPTION: https://www.sandiegofamily.com/things-to-do/events-calendar/ev
 ent/50164-legoland-water-park
DTSTART;VALUE=DATE:20260510
LOCATION:LEGOLAND California Resort (1 Legoland Dr\, Carlsbad\, CA 92008\, 
 USA)
SUMMARY:LEGOLAND Water Park
URL:https://www.sandiegofamily.com/things-to-do/events-calendar/event/50164
 -legoland-water-park
END:VEVENT
BEGIN:VEVENT
UID:20260424T133401UTC-7823u51veG@https://www.sandiegofamily.com/
DTSTAMP:20260424T133401Z
DESCRIPTION: https://www.sandiegofamily.com/things-to-do/events-calendar/ev
 ent/50186-orchids-in-the-wild
DTSTART;VALUE=DATE:20260510
LOCATION:San Diego Botanic Garden (230 Quail Gardens Dr\, Encinitas\, CA 92
 024\, USA)
SUMMARY:Orchids in the Wild
URL:https://www.sandiegofamily.com/things-to-do/events-calendar/event/50186
 -orchids-in-the-wild
END:VEVENT
BEGIN:VEVENT
UID:20260424T133401UTC-7824o0HFpB@https://www.sandiegofamily.com/
DTSTAMP:20260424T133401Z
DESCRIPTION: https://www.sandiegofamily.com/things-to-do/events-calendar/ev
 ent/50218-kidsfest
DTSTART;VALUE=DATE:20260510
LOCATION:Petco Park (100 Park Blvd\, San Diego\, CA 92101\, USA)
SUMMARY:KidsFest
URL:https://www.sandiegofamily.com/things-to-do/events-calendar/event/50218
 -kidsfest
END:VEVENT
BEGIN:VEVENT
UID:20260424T133401UTC-78251olRmJ@https://www.sandiegofamily.com/
DTSTAMP:20260424T133401Z
DESCRIPTION: https://www.sandiegofamily.com/things-to-do/events-calendar/ev
 ent/50257-mothers-day-teas
DTSTART;VALUE=DATE:20260510
LOCATION:Julian CA (2811 Washington St\, Julian\, CA 92036\, USA)
SUMMARY:Mother’s Day Teas
URL:https://www.sandiegofamily.com/things-to-do/events-calendar/event/50257
 -mothers-day-teas
END:VEVENT
BEGIN:VEVENT
UID:20260424T133401UTC-7826TzakKu@https://www.sandiegofamily.com/
DTSTAMP:20260424T133401Z
DESCRIPTION: https://www.sandiegofamily.com/things-to-do/events-calendar/ev
 ent/50263-gator-by-the-bay
DTSTART;VALUE=DATE:20260510
LOCATION:Spanish Landing Park (3900 N Harbor Dr\, San Diego\, CA 92101\, US
 A)
SUMMARY:Gator By the Bay
URL:https://www.sandiegofamily.com/things-to-do/events-calendar/event/50263
 -gator-by-the-bay
END:VEVENT
BEGIN:VEVENT
UID:20260424T133401UTC-78277AL4xB@https://www.sandiegofamily.com/
DTSTAMP:20260424T133401Z
DESCRIPTION: https://www.sandiegofamily.com/things-to-do/events-calendar/ev
 ent/50269-balboa-park-pow-wow
DTSTART;VALUE=DATE:20260510
LOCATION:San Diego\, CA ()
SUMMARY:Balboa Park Pow Wow
URL:https://www.sandiegofamily.com/things-to-do/events-calendar/event/50269
 -balboa-park-pow-wow
END:VEVENT
BEGIN:VEVENT
UID:20260424T133401UTC-7827vphdIw@https://www.sandiegofamily.com/
DTSTAMP:20260424T133401Z
DESCRIPTION: https://www.sandiegofamily.com/things-to-do/events-calendar/ev
 ent/50271-spring-antique-craft-fair
DTSTART;VALUE=DATE:20260510
LOCATION:Summers Past Farms (15602 Olde Hwy 80\, El Cajon\, CA 92021\, USA)
SUMMARY:Spring Antique & Craft Fair
URL:https://www.sandiegofamily.com/things-to-do/events-calendar/event/50271
 -spring-antique-craft-fair
END:VEVENT
BEGIN:VEVENT
UID:20260424T133401UTC-7828oL0fR2@https://www.sandiegofamily.com/
DTSTAMP:20260424T133401Z
DESCRIPTION: https://www.sandiegofamily.com/things-to-do/events-calendar/ev
 ent/50276-spring-arts-crafts-fair
DTSTART;VALUE=DATE:20260510
LOCATION:Bernardo Winery (13330 Paseo Del Verano Norte\, San Diego\, CA 921
 28\, USA)
SUMMARY:Spring Arts & Crafts Fair
URL:https://www.sandiegofamily.com/things-to-do/events-calendar/event/50276
 -spring-arts-crafts-fair
END:VEVENT
BEGIN:VEVENT
UID:20260424T133401UTC-7829P11ugC@https://www.sandiegofamily.com/
DTSTAMP:20260424T133401Z
DESCRIPTION: https://www.sandiegofamily.com/things-to-do/events-calendar/ev
 ent/50278-moms-day-wakeup-hike
DTSTART;VALUE=DATE:20260510
LOCATION:Blue Sky Ecological Reserve (16275 Espola Rd\, Poway\, CA 92064\, 
 USA)
SUMMARY:Mom’s Day Wakeup Hike
URL:https://www.sandiegofamily.com/things-to-do/events-calendar/event/50278
 -moms-day-wakeup-hike
END:VEVENT
BEGIN:VEVENT
UID:20260424T133401UTC-7830kfdBh5@https://www.sandiegofamily.com/
DTSTAMP:20260424T133401Z
DESCRIPTION: https://www.sandiegofamily.com/things-to-do/events-calendar/ev
 ent/50279-mothers-day-brunch-cruise
DTSTART;VALUE=DATE:20260510
LOCATION:San Diego\, CA ()
SUMMARY:Mother’s Day Brunch Cruise
URL:https://www.sandiegofamily.com/things-to-do/events-calendar/event/50279
 -mothers-day-brunch-cruise
END:VEVENT
BEGIN:VEVENT
UID:20260424T133401UTC-7831SzH0oV@https://www.sandiegofamily.com/
DTSTAMP:20260424T133401Z
DESCRIPTION: https://www.sandiegofamily.com/things-to-do/events-calendar/ev
 ent/50280-mothers-day-cruises-with-the-gondola-company
DTSTART;VALUE=DATE:20260510
LOCATION:San Diego\, CA ()
SUMMARY:Mother’s Day Cruises with The Gondola Company
URL:https://www.sandiegofamily.com/things-to-do/events-calendar/event/50280
 -mothers-day-cruises-with-the-gondola-company
END:VEVENT
BEGIN:VEVENT
UID:20260424T133401UTC-7831rVGK9v@https://www.sandiegofamily.com/
DTSTAMP:20260424T133401Z
DESCRIPTION: https://www.sandiegofamily.com/things-to-do/events-calendar/ev
 ent/50281-mothers-day-brunch-cruise
DTSTART;VALUE=DATE:20260510
LOCATION:San Diego\, CA ()
SUMMARY:Mother’s Day Brunch Cruise
URL:https://www.sandiegofamily.com/things-to-do/events-calendar/event/50281
 -mothers-day-brunch-cruise
END:VEVENT
END:VCALENDAR
