BEGIN:VCALENDAR
VERSION:2.0
PRODID:-//https://www.sandiegofamily.com///NONSGML kigkonsult.se iCalcreator 2.10.15//
METHOD:PUBLISH
BEGIN:VEVENT
UID:20260424T133416UTC-8444GnZvak@https://www.sandiegofamily.com/
DTSTAMP:20260424T133416Z
DESCRIPTION: https://www.sandiegofamily.com/things-to-do/events-calendar/ev
 ent/48222-residents-free-days-at-balboa-park
DTSTART;VALUE=DATE:20260505
LOCATION:Balboa Park (Balboa Park\, San Diego\, CA\, USA)
SUMMARY:Residents FREE Days at Balboa Park
URL:https://www.sandiegofamily.com/things-to-do/events-calendar/event/48222
 -residents-free-days-at-balboa-park
END:VEVENT
BEGIN:VEVENT
UID:20260424T133416UTC-8446l8BN1L@https://www.sandiegofamily.com/
DTSTAMP:20260424T133416Z
DESCRIPTION: https://www.sandiegofamily.com/things-to-do/events-calendar/ev
 ent/48862-the-flower-fields-at-carlsbad-ranch
DTSTART;VALUE=DATE:20260505
LOCATION:The Flower Fields at Carlsbad Ranch (5704 Paseo Del Norte\, Carlsb
 ad\, CA 92008\, USA)
SUMMARY:The Flower Fields at Carlsbad Ranch
URL:https://www.sandiegofamily.com/things-to-do/events-calendar/event/48862
 -the-flower-fields-at-carlsbad-ranch
END:VEVENT
BEGIN:VEVENT
UID:20260424T133416UTC-8446idKzVC@https://www.sandiegofamily.com/
DTSTAMP:20260424T133416Z
DESCRIPTION: https://www.sandiegofamily.com/things-to-do/events-calendar/ev
 ent/49289-lego-galaxy
DTSTART;VALUE=DATE:20260505
LOCATION:LEGOLAND California Resort (1 Legoland Dr\, Carlsbad\, CA 92008\, 
 USA)
SUMMARY:LEGO Galaxy
URL:https://www.sandiegofamily.com/things-to-do/events-calendar/event/49289
 -lego-galaxy
END:VEVENT
BEGIN:VEVENT
UID:20260424T133416UTC-84474bP5Fg@https://www.sandiegofamily.com/
DTSTAMP:20260424T133416Z
DESCRIPTION: https://www.sandiegofamily.com/things-to-do/events-calendar/ev
 ent/49453-free-legoland-tickets-for-first-responders
DTSTART;VALUE=DATE:20260505
LOCATION:LEGOLAND California Resort (1 Legoland Dr\, Carlsbad\, CA 92008\, 
 USA)
SUMMARY:FREE LEGOLAND Tickets for First Responders
URL:https://www.sandiegofamily.com/things-to-do/events-calendar/event/49453
 -free-legoland-tickets-for-first-responders
END:VEVENT
BEGIN:VEVENT
UID:20260424T133416UTC-8448buTozk@https://www.sandiegofamily.com/
DTSTAMP:20260424T133416Z
DESCRIPTION: https://www.sandiegofamily.com/things-to-do/events-calendar/ev
 ent/49554-belmont-in-bloom
DTSTART;VALUE=DATE:20260505
LOCATION:Belmont Park (3146 Mission Blvd\, San Diego\, CA 92109\, USA)
SUMMARY:Belmont in Bloom
URL:https://www.sandiegofamily.com/things-to-do/events-calendar/event/49554
 -belmont-in-bloom
END:VEVENT
BEGIN:VEVENT
UID:20260424T133416UTC-84493ZL7xZ@https://www.sandiegofamily.com/
DTSTAMP:20260424T133416Z
DESCRIPTION: https://www.sandiegofamily.com/things-to-do/events-calendar/ev
 ent/49775-foodies-4-foster-kids
DTSTART;VALUE=DATE:20260505
LOCATION:San Diego\, CA ()
SUMMARY:Foodies 4 Foster Kids
URL:https://www.sandiegofamily.com/things-to-do/events-calendar/event/49775
 -foodies-4-foster-kids
END:VEVENT
BEGIN:VEVENT
UID:20260424T133416UTC-8450teD8MH@https://www.sandiegofamily.com/
DTSTAMP:20260424T133416Z
DESCRIPTION: https://www.sandiegofamily.com/things-to-do/events-calendar/ev
 ent/49806-the-big-exchange
DTSTART;VALUE=DATE:20260505
LOCATION:San Diego\, CA ()
SUMMARY:The Big Exchange
URL:https://www.sandiegofamily.com/things-to-do/events-calendar/event/49806
 -the-big-exchange
END:VEVENT
BEGIN:VEVENT
UID:20260424T133416UTC-8451uTZHWL@https://www.sandiegofamily.com/
DTSTAMP:20260424T133416Z
DESCRIPTION: https://www.sandiegofamily.com/things-to-do/events-calendar/ev
 ent/49847-imagine-wild-mountain-yellow-legged-frog
DTSTART;VALUE=DATE:20260505
LOCATION:Birch Aquarium at Scripps (2300 Expedition Way\, La Jolla\, CA 920
 37\, USA)
SUMMARY:Imagine Wild: Mountain Yellow-legged Frog
URL:https://www.sandiegofamily.com/things-to-do/events-calendar/event/49847
 -imagine-wild-mountain-yellow-legged-frog
END:VEVENT
BEGIN:VEVENT
UID:20260424T133416UTC-8451whd9XJ@https://www.sandiegofamily.com/
DTSTAMP:20260424T133416Z
DESCRIPTION: https://www.sandiegofamily.com/things-to-do/events-calendar/ev
 ent/49924-kids-bowl-free
DTSTART;VALUE=DATE:20260505
LOCATION:San Diego\, CA ()
SUMMARY:Kids Bowl FREE
URL:https://www.sandiegofamily.com/things-to-do/events-calendar/event/49924
 -kids-bowl-free
END:VEVENT
BEGIN:VEVENT
UID:20260424T133416UTC-8452EzG4pV@https://www.sandiegofamily.com/
DTSTAMP:20260424T133416Z
DESCRIPTION: https://www.sandiegofamily.com/things-to-do/events-calendar/ev
 ent/50061-u-pick-strawberry-fields
DTSTART;VALUE=DATE:20260505
LOCATION:Carlsbad Strawberry Fields (1050 Cannon Rd\, Carlsbad\, CA 92008\,
  USA)
SUMMARY:U-Pick Strawberry Fields
URL:https://www.sandiegofamily.com/things-to-do/events-calendar/event/50061
 -u-pick-strawberry-fields
END:VEVENT
BEGIN:VEVENT
UID:20260424T133416UTC-8453Z6T3tD@https://www.sandiegofamily.com/
DTSTAMP:20260424T133416Z
DESCRIPTION: https://www.sandiegofamily.com/things-to-do/events-calendar/ev
 ent/50122-spring-camping-series
DTSTART;VALUE=DATE:20260505
LOCATION:Lake Poway (14644 Lake Poway Rd\, Poway\, CA 92064\, USA)
SUMMARY:Spring Camping Series
URL:https://www.sandiegofamily.com/things-to-do/events-calendar/event/50122
 -spring-camping-series
END:VEVENT
BEGIN:VEVENT
UID:20260424T133416UTC-8454j5GkM1@https://www.sandiegofamily.com/
DTSTAMP:20260424T133416Z
DESCRIPTION: https://www.sandiegofamily.com/things-to-do/events-calendar/ev
 ent/50224-cinco-de-mayo-fiesta
DTSTART;VALUE=DATE:20260505
LOCATION:Rancho Bernardo (17010 Pomerado Rd\, San Diego\, CA 92128\, USA)
SUMMARY:Cinco de Mayo Fiesta
URL:https://www.sandiegofamily.com/things-to-do/events-calendar/event/50224
 -cinco-de-mayo-fiesta
END:VEVENT
BEGIN:VEVENT
UID:20260424T133416UTC-8455Nv0vZt@https://www.sandiegofamily.com/
DTSTAMP:20260424T133416Z
DESCRIPTION: https://www.sandiegofamily.com/things-to-do/events-calendar/ev
 ent/50225-a-book-and-a-ballerina
DTSTART;VALUE=DATE:20260505
LOCATION:San Diego\, CA ()
SUMMARY:“A Book and a Ballerina.” 
URL:https://www.sandiegofamily.com/things-to-do/events-calendar/event/50225
 -a-book-and-a-ballerina
END:VEVENT
BEGIN:VEVENT
UID:20260424T133416UTC-84551pMVVm@https://www.sandiegofamily.com/
DTSTAMP:20260424T133416Z
DESCRIPTION: https://www.sandiegofamily.com/things-to-do/events-calendar/ev
 ent/50233-mj---the-musical
DTSTART;VALUE=DATE:20260505
LOCATION:San Diego Civic Theatre (1100 Third Ave\, San Diego\, CA 92101\, U
 SA)
SUMMARY:“MJ – The Musical.” 
URL:https://www.sandiegofamily.com/things-to-do/events-calendar/event/50233
 -mj---the-musical
END:VEVENT
END:VCALENDAR
