BEGIN:VCALENDAR
VERSION:2.0
PRODID:-//https://www.sandiegofamily.com///NONSGML kigkonsult.se iCalcreator 2.10.15//
METHOD:PUBLISH
BEGIN:VEVENT
UID:20260424T132726UTC-0307g6l36a@https://www.sandiegofamily.com/
DTSTAMP:20260424T132726Z
DESCRIPTION: https://www.sandiegofamily.com/things-to-do/events-calendar/ev
 ent/48861-the-flower-fields-at-carlsbad-ranch
DTSTART;VALUE=DATE:20260504
LOCATION:The Flower Fields at Carlsbad Ranch (5704 Paseo Del Norte\, Carlsb
 ad\, CA 92008\, USA)
SUMMARY:The Flower Fields at Carlsbad Ranch
URL:https://www.sandiegofamily.com/things-to-do/events-calendar/event/48861
 -the-flower-fields-at-carlsbad-ranch
END:VEVENT
BEGIN:VEVENT
UID:20260424T132726UTC-03099j9D82@https://www.sandiegofamily.com/
DTSTAMP:20260424T132726Z
DESCRIPTION: https://www.sandiegofamily.com/things-to-do/events-calendar/ev
 ent/49288-lego-galaxy
DTSTART;VALUE=DATE:20260504
LOCATION:LEGOLAND California Resort (1 Legoland Dr\, Carlsbad\, CA 92008\, 
 USA)
SUMMARY:LEGO Galaxy
URL:https://www.sandiegofamily.com/things-to-do/events-calendar/event/49288
 -lego-galaxy
END:VEVENT
BEGIN:VEVENT
UID:20260424T132726UTC-0310Ba21VJ@https://www.sandiegofamily.com/
DTSTAMP:20260424T132726Z
DESCRIPTION: https://www.sandiegofamily.com/things-to-do/events-calendar/ev
 ent/49452-free-legoland-tickets-for-first-responders
DTSTART;VALUE=DATE:20260504
LOCATION:LEGOLAND California Resort (1 Legoland Dr\, Carlsbad\, CA 92008\, 
 USA)
SUMMARY:FREE LEGOLAND Tickets for First Responders
URL:https://www.sandiegofamily.com/things-to-do/events-calendar/event/49452
 -free-legoland-tickets-for-first-responders
END:VEVENT
BEGIN:VEVENT
UID:20260424T132726UTC-03117JCwOr@https://www.sandiegofamily.com/
DTSTAMP:20260424T132726Z
DESCRIPTION: https://www.sandiegofamily.com/things-to-do/events-calendar/ev
 ent/49490-story-time-with-seadragons
DTSTART;VALUE=DATE:20260504
LOCATION:Birch Aquarium at Scripps (2300 Expedition Way\, La Jolla\, CA 920
 37\, USA)
SUMMARY:Story Time with Seadragons
URL:https://www.sandiegofamily.com/things-to-do/events-calendar/event/49490
 -story-time-with-seadragons
END:VEVENT
BEGIN:VEVENT
UID:20260424T132726UTC-03124lz6wf@https://www.sandiegofamily.com/
DTSTAMP:20260424T132726Z
DESCRIPTION: https://www.sandiegofamily.com/things-to-do/events-calendar/ev
 ent/49553-belmont-in-bloom
DTSTART;VALUE=DATE:20260504
LOCATION:Belmont Park (3146 Mission Blvd\, San Diego\, CA 92109\, USA)
SUMMARY:Belmont in Bloom
URL:https://www.sandiegofamily.com/things-to-do/events-calendar/event/49553
 -belmont-in-bloom
END:VEVENT
BEGIN:VEVENT
UID:20260424T132726UTC-0312RAWjZ4@https://www.sandiegofamily.com/
DTSTAMP:20260424T132726Z
DESCRIPTION: https://www.sandiegofamily.com/things-to-do/events-calendar/ev
 ent/49774-foodies-4-foster-kids
DTSTART;VALUE=DATE:20260504
LOCATION:San Diego\, CA ()
SUMMARY:Foodies 4 Foster Kids
URL:https://www.sandiegofamily.com/things-to-do/events-calendar/event/49774
 -foodies-4-foster-kids
END:VEVENT
BEGIN:VEVENT
UID:20260424T132726UTC-0313iPFgzg@https://www.sandiegofamily.com/
DTSTAMP:20260424T132726Z
DESCRIPTION: https://www.sandiegofamily.com/things-to-do/events-calendar/ev
 ent/49805-the-big-exchange
DTSTART;VALUE=DATE:20260504
LOCATION:San Diego\, CA ()
SUMMARY:The Big Exchange
URL:https://www.sandiegofamily.com/things-to-do/events-calendar/event/49805
 -the-big-exchange
END:VEVENT
BEGIN:VEVENT
UID:20260424T132726UTC-0314f8uPDI@https://www.sandiegofamily.com/
DTSTAMP:20260424T132726Z
DESCRIPTION: https://www.sandiegofamily.com/things-to-do/events-calendar/ev
 ent/49846-imagine-wild-mountain-yellow-legged-frog
DTSTART;VALUE=DATE:20260504
LOCATION:Birch Aquarium at Scripps (2300 Expedition Way\, La Jolla\, CA 920
 37\, USA)
SUMMARY:Imagine Wild: Mountain Yellow-legged Frog
URL:https://www.sandiegofamily.com/things-to-do/events-calendar/event/49846
 -imagine-wild-mountain-yellow-legged-frog
END:VEVENT
BEGIN:VEVENT
UID:20260424T132726UTC-0315mSeuix@https://www.sandiegofamily.com/
DTSTAMP:20260424T132726Z
DESCRIPTION: https://www.sandiegofamily.com/things-to-do/events-calendar/ev
 ent/49923-kids-bowl-free
DTSTART;VALUE=DATE:20260504
LOCATION:San Diego\, CA ()
SUMMARY:Kids Bowl FREE
URL:https://www.sandiegofamily.com/things-to-do/events-calendar/event/49923
 -kids-bowl-free
END:VEVENT
BEGIN:VEVENT
UID:20260424T132726UTC-0316cVh12T@https://www.sandiegofamily.com/
DTSTAMP:20260424T132726Z
DESCRIPTION: https://www.sandiegofamily.com/things-to-do/events-calendar/ev
 ent/50060-u-pick-strawberry-fields
DTSTART;VALUE=DATE:20260504
LOCATION:Carlsbad Strawberry Fields (1050 Cannon Rd\, Carlsbad\, CA 92008\,
  USA)
SUMMARY:U-Pick Strawberry Fields
URL:https://www.sandiegofamily.com/things-to-do/events-calendar/event/50060
 -u-pick-strawberry-fields
END:VEVENT
BEGIN:VEVENT
UID:20260424T132726UTC-0316xCWLeJ@https://www.sandiegofamily.com/
DTSTAMP:20260424T132726Z
DESCRIPTION: https://www.sandiegofamily.com/things-to-do/events-calendar/ev
 ent/50121-spring-camping-series
DTSTART;VALUE=DATE:20260504
LOCATION:Lake Poway (14644 Lake Poway Rd\, Poway\, CA 92064\, USA)
SUMMARY:Spring Camping Series
URL:https://www.sandiegofamily.com/things-to-do/events-calendar/event/50121
 -spring-camping-series
END:VEVENT
BEGIN:VEVENT
UID:20260424T132726UTC-0317u4uNer@https://www.sandiegofamily.com/
DTSTAMP:20260424T132726Z
DESCRIPTION: https://www.sandiegofamily.com/things-to-do/events-calendar/ev
 ent/50181-orchids-in-the-wild
DTSTART;VALUE=DATE:20260504
LOCATION:San Diego Botanic Garden (230 Quail Gardens Dr\, Encinitas\, CA 92
 024\, USA)
SUMMARY:Orchids in the Wild
URL:https://www.sandiegofamily.com/things-to-do/events-calendar/event/50181
 -orchids-in-the-wild
END:VEVENT
END:VCALENDAR
