BEGIN:VCALENDAR
VERSION:2.0
PRODID:-//https://www.sandiegofamily.com///NONSGML kigkonsult.se iCalcreator 2.10.15//
METHOD:PUBLISH
BEGIN:VEVENT
UID:20260424T235400UTC-0906pahF07@https://www.sandiegofamily.com/
DTSTAMP:20260424T235400Z
DESCRIPTION: https://www.sandiegofamily.com/things-to-do/events-calendar/ev
 ent/48170-spreckels-organ-society-concerts
DTSTART;VALUE=DATE:20260503
LOCATION:Spreckels Organ Pavilion\, Balboa Park (2125 Pan American Rd E\, S
 an Diego\, CA 92101\, USA)
SUMMARY:Spreckels Organ Society Concerts
URL:https://www.sandiegofamily.com/things-to-do/events-calendar/event/48170
 -spreckels-organ-society-concerts
END:VEVENT
BEGIN:VEVENT
UID:20260424T235400UTC-09078b2l49@https://www.sandiegofamily.com/
DTSTAMP:20260424T235400Z
DESCRIPTION: https://www.sandiegofamily.com/things-to-do/events-calendar/ev
 ent/48860-the-flower-fields-at-carlsbad-ranch
DTSTART;VALUE=DATE:20260503
LOCATION:The Flower Fields at Carlsbad Ranch (5704 Paseo Del Norte\, Carlsb
 ad\, CA 92008\, USA)
SUMMARY:The Flower Fields at Carlsbad Ranch
URL:https://www.sandiegofamily.com/things-to-do/events-calendar/event/48860
 -the-flower-fields-at-carlsbad-ranch
END:VEVENT
BEGIN:VEVENT
UID:20260424T235400UTC-09086T0bta@https://www.sandiegofamily.com/
DTSTAMP:20260424T235400Z
DESCRIPTION: https://www.sandiegofamily.com/things-to-do/events-calendar/ev
 ent/49287-lego-galaxy
DTSTART;VALUE=DATE:20260503
LOCATION:LEGOLAND California Resort (1 Legoland Dr\, Carlsbad\, CA 92008\, 
 USA)
SUMMARY:LEGO Galaxy
URL:https://www.sandiegofamily.com/things-to-do/events-calendar/event/49287
 -lego-galaxy
END:VEVENT
BEGIN:VEVENT
UID:20260424T235400UTC-0909mudoEG@https://www.sandiegofamily.com/
DTSTAMP:20260424T235400Z
DESCRIPTION: https://www.sandiegofamily.com/things-to-do/events-calendar/ev
 ent/49394-sesame-place
DTSTART;VALUE=DATE:20260503
LOCATION:Sesame Place San Diego (2052 Entertainment Cir\, Chula Vista\, CA 
 91911\, USA)
SUMMARY:Sesame Place
URL:https://www.sandiegofamily.com/things-to-do/events-calendar/event/49394
 -sesame-place
END:VEVENT
BEGIN:VEVENT
UID:20260424T235400UTC-0910z8BROv@https://www.sandiegofamily.com/
DTSTAMP:20260424T235400Z
DESCRIPTION: https://www.sandiegofamily.com/things-to-do/events-calendar/ev
 ent/49451-free-legoland-tickets-for-first-responders
DTSTART;VALUE=DATE:20260503
LOCATION:LEGOLAND California Resort (1 Legoland Dr\, Carlsbad\, CA 92008\, 
 USA)
SUMMARY:FREE LEGOLAND Tickets for First Responders
URL:https://www.sandiegofamily.com/things-to-do/events-calendar/event/49451
 -free-legoland-tickets-for-first-responders
END:VEVENT
BEGIN:VEVENT
UID:20260424T235400UTC-09117giG1e@https://www.sandiegofamily.com/
DTSTAMP:20260424T235400Z
DESCRIPTION: https://www.sandiegofamily.com/things-to-do/events-calendar/ev
 ent/49552-belmont-in-bloom
DTSTART;VALUE=DATE:20260503
LOCATION:Belmont Park (3146 Mission Blvd\, San Diego\, CA 92109\, USA)
SUMMARY:Belmont in Bloom
URL:https://www.sandiegofamily.com/things-to-do/events-calendar/event/49552
 -belmont-in-bloom
END:VEVENT
BEGIN:VEVENT
UID:20260424T235400UTC-0912CZg6cf@https://www.sandiegofamily.com/
DTSTAMP:20260424T235400Z
DESCRIPTION: https://www.sandiegofamily.com/things-to-do/events-calendar/ev
 ent/49614-birch-after-hours
DTSTART;VALUE=DATE:20260503
LOCATION:Birch Aquarium at Scripps (2300 Expedition Way\, La Jolla\, CA 920
 37\, USA)
SUMMARY:Birch After Hours
URL:https://www.sandiegofamily.com/things-to-do/events-calendar/event/49614
 -birch-after-hours
END:VEVENT
BEGIN:VEVENT
UID:20260424T235400UTC-0913ZwDslG@https://www.sandiegofamily.com/
DTSTAMP:20260424T235400Z
DESCRIPTION: https://www.sandiegofamily.com/things-to-do/events-calendar/ev
 ent/49724-shrek-the-musical
DTSTART;VALUE=DATE:20260503
LOCATION:Casa del Prado Theatre\, Balboa Park (1600 Village Pl\, San Diego\
 , CA 92101\, USA)
SUMMARY:“Shrek the Musical.” 
URL:https://www.sandiegofamily.com/things-to-do/events-calendar/event/49724
 -shrek-the-musical
END:VEVENT
BEGIN:VEVENT
UID:20260424T235400UTC-0913OZUAbe@https://www.sandiegofamily.com/
DTSTAMP:20260424T235400Z
DESCRIPTION: https://www.sandiegofamily.com/things-to-do/events-calendar/ev
 ent/49751-escondido-renaissance-faire
DTSTART;VALUE=DATE:20260503
LOCATION:Escondido CA  ()
SUMMARY:Escondido Renaissance Faire
URL:https://www.sandiegofamily.com/things-to-do/events-calendar/event/49751
 -escondido-renaissance-faire
END:VEVENT
BEGIN:VEVENT
UID:20260424T235400UTC-0914wIoJGa@https://www.sandiegofamily.com/
DTSTAMP:20260424T235400Z
DESCRIPTION: https://www.sandiegofamily.com/things-to-do/events-calendar/ev
 ent/49759-the-cher-show
DTSTART;VALUE=DATE:20260503
LOCATION:Moonlight Amphitheater (1250 Vale Terrace Dr\, Vista\, CA 92084\, 
 USA)
SUMMARY:“The Cher Show.” 
URL:https://www.sandiegofamily.com/things-to-do/events-calendar/event/49759
 -the-cher-show
END:VEVENT
BEGIN:VEVENT
UID:20260424T235400UTC-0915p5X9RS@https://www.sandiegofamily.com/
DTSTAMP:20260424T235400Z
DESCRIPTION: https://www.sandiegofamily.com/things-to-do/events-calendar/ev
 ent/49773-foodies-4-foster-kids
DTSTART;VALUE=DATE:20260503
LOCATION:San Diego\, CA ()
SUMMARY:Foodies 4 Foster Kids
URL:https://www.sandiegofamily.com/things-to-do/events-calendar/event/49773
 -foodies-4-foster-kids
END:VEVENT
BEGIN:VEVENT
UID:20260424T235400UTC-0916Cvz2OH@https://www.sandiegofamily.com/
DTSTAMP:20260424T235400Z
DESCRIPTION: https://www.sandiegofamily.com/things-to-do/events-calendar/ev
 ent/49804-the-big-exchange
DTSTART;VALUE=DATE:20260503
LOCATION:San Diego\, CA ()
SUMMARY:The Big Exchange
URL:https://www.sandiegofamily.com/things-to-do/events-calendar/event/49804
 -the-big-exchange
END:VEVENT
BEGIN:VEVENT
UID:20260424T235400UTC-0916A09vl7@https://www.sandiegofamily.com/
DTSTAMP:20260424T235400Z
DESCRIPTION: https://www.sandiegofamily.com/things-to-do/events-calendar/ev
 ent/49821-star-wars-a-new-hope-in-concert
DTSTART;VALUE=DATE:20260503
LOCATION:The Rady Shell at Jacobs Park (Embarcadero Marina Park South\, 200
  Marina Park Way\, San Diego\, CA 92101\, USA)
SUMMARY:“Star Wars: A New Hope in Concert.” 
URL:https://www.sandiegofamily.com/things-to-do/events-calendar/event/49821
 -star-wars-a-new-hope-in-concert
END:VEVENT
BEGIN:VEVENT
UID:20260424T235400UTC-0918ejSWmw@https://www.sandiegofamily.com/
DTSTAMP:20260424T235400Z
DESCRIPTION: https://www.sandiegofamily.com/things-to-do/events-calendar/ev
 ent/49831-beau-jest
DTSTART;VALUE=DATE:20260503
LOCATION:North Coast Repertory Theatre (987 Lomas Santa Fe Dr\, Solana Beac
 h\, CA 92075\, USA)
SUMMARY:“Beau Jest.”
URL:https://www.sandiegofamily.com/things-to-do/events-calendar/event/49831
 -beau-jest
END:VEVENT
BEGIN:VEVENT
UID:20260424T235400UTC-0918WkvFLm@https://www.sandiegofamily.com/
DTSTAMP:20260424T235400Z
DESCRIPTION: https://www.sandiegofamily.com/things-to-do/events-calendar/ev
 ent/49845-imagine-wild-mountain-yellow-legged-frog
DTSTART;VALUE=DATE:20260503
LOCATION:Birch Aquarium at Scripps (2300 Expedition Way\, La Jolla\, CA 920
 37\, USA)
SUMMARY:Imagine Wild: Mountain Yellow-legged Frog
URL:https://www.sandiegofamily.com/things-to-do/events-calendar/event/49845
 -imagine-wild-mountain-yellow-legged-frog
END:VEVENT
BEGIN:VEVENT
UID:20260424T235400UTC-0919jNj3Wu@https://www.sandiegofamily.com/
DTSTAMP:20260424T235400Z
DESCRIPTION: https://www.sandiegofamily.com/things-to-do/events-calendar/ev
 ent/49906-padres-home-games
DTSTART;VALUE=DATE:20260503
LOCATION:Petco Park (100 Park Blvd\, San Diego\, CA 92101\, USA)
SUMMARY:Padres Home Games
URL:https://www.sandiegofamily.com/things-to-do/events-calendar/event/49906
 -padres-home-games
END:VEVENT
BEGIN:VEVENT
UID:20260424T235400UTC-0920tKSRpU@https://www.sandiegofamily.com/
DTSTAMP:20260424T235400Z
DESCRIPTION: https://www.sandiegofamily.com/things-to-do/events-calendar/ev
 ent/49922-kids-bowl-free
DTSTART;VALUE=DATE:20260503
LOCATION:San Diego\, CA ()
SUMMARY:Kids Bowl FREE
URL:https://www.sandiegofamily.com/things-to-do/events-calendar/event/49922
 -kids-bowl-free
END:VEVENT
BEGIN:VEVENT
UID:20260424T235400UTC-0921b6bu15@https://www.sandiegofamily.com/
DTSTAMP:20260424T235400Z
DESCRIPTION: https://www.sandiegofamily.com/things-to-do/events-calendar/ev
 ent/50037-riverdance
DTSTART;VALUE=DATE:20260503
LOCATION:San Diego Civic Theatre (1100 Third Ave\, San Diego\, CA 92101\, U
 SA)
SUMMARY:“Riverdance.” 
URL:https://www.sandiegofamily.com/things-to-do/events-calendar/event/50037
 -riverdance
END:VEVENT
BEGIN:VEVENT
UID:20260424T235400UTC-0922trMjsX@https://www.sandiegofamily.com/
DTSTAMP:20260424T235400Z
DESCRIPTION: https://www.sandiegofamily.com/things-to-do/events-calendar/ev
 ent/50040-viva-la-musica
DTSTART;VALUE=DATE:20260503
LOCATION:SeaWorld San Diego (500 Sea World Dr\, San Diego\, CA 92109\, USA)
SUMMARY:Viva La Musica
URL:https://www.sandiegofamily.com/things-to-do/events-calendar/event/50040
 -viva-la-musica
END:VEVENT
BEGIN:VEVENT
UID:20260424T235400UTC-0922Ek5p6G@https://www.sandiegofamily.com/
DTSTAMP:20260424T235400Z
DESCRIPTION: https://www.sandiegofamily.com/things-to-do/events-calendar/ev
 ent/50059-u-pick-strawberry-fields
DTSTART;VALUE=DATE:20260503
LOCATION:Carlsbad Strawberry Fields (1050 Cannon Rd\, Carlsbad\, CA 92008\,
  USA)
SUMMARY:U-Pick Strawberry Fields
URL:https://www.sandiegofamily.com/things-to-do/events-calendar/event/50059
 -u-pick-strawberry-fields
END:VEVENT
BEGIN:VEVENT
UID:20260424T235400UTC-0923RjuBUX@https://www.sandiegofamily.com/
DTSTAMP:20260424T235400Z
DESCRIPTION: https://www.sandiegofamily.com/things-to-do/events-calendar/ev
 ent/50120-spring-camping-series
DTSTART;VALUE=DATE:20260503
LOCATION:Lake Poway (14644 Lake Poway Rd\, Poway\, CA 92064\, USA)
SUMMARY:Spring Camping Series
URL:https://www.sandiegofamily.com/things-to-do/events-calendar/event/50120
 -spring-camping-series
END:VEVENT
BEGIN:VEVENT
UID:20260424T235400UTC-0924k31fDV@https://www.sandiegofamily.com/
DTSTAMP:20260424T235400Z
DESCRIPTION: https://www.sandiegofamily.com/things-to-do/events-calendar/ev
 ent/50149-mt-helix-academys-disneys-descendants-the-musical
DTSTART;VALUE=DATE:20260503
LOCATION:San Diego\, CA ()
SUMMARY:Mt. Helix Academy’s “Disney's Descendants: The Musical.” 
URL:https://www.sandiegofamily.com/things-to-do/events-calendar/event/50149
 -mt-helix-academys-disneys-descendants-the-musical
END:VEVENT
BEGIN:VEVENT
UID:20260424T235400UTC-0925nSz3Uf@https://www.sandiegofamily.com/
DTSTAMP:20260424T235400Z
DESCRIPTION: https://www.sandiegofamily.com/things-to-do/events-calendar/ev
 ent/50151-fiesta-cinco-de-mayo-in-old-town
DTSTART;VALUE=DATE:20260503
LOCATION:Old Town San Diego (San Diego Ave\, San Diego\, CA\, USA)
SUMMARY:Fiesta Cinco de Mayo in Old Town
URL:https://www.sandiegofamily.com/things-to-do/events-calendar/event/50151
 -fiesta-cinco-de-mayo-in-old-town
END:VEVENT
BEGIN:VEVENT
UID:20260424T235400UTC-09267uWkgr@https://www.sandiegofamily.com/
DTSTAMP:20260424T235400Z
DESCRIPTION: https://www.sandiegofamily.com/things-to-do/events-calendar/ev
 ent/50162-legoland-water-park
DTSTART;VALUE=DATE:20260503
LOCATION:LEGOLAND California Resort (1 Legoland Dr\, Carlsbad\, CA 92008\, 
 USA)
SUMMARY:LEGOLAND Water Park
URL:https://www.sandiegofamily.com/things-to-do/events-calendar/event/50162
 -legoland-water-park
END:VEVENT
BEGIN:VEVENT
UID:20260424T235400UTC-0927ZpILWw@https://www.sandiegofamily.com/
DTSTAMP:20260424T235400Z
DESCRIPTION: https://www.sandiegofamily.com/things-to-do/events-calendar/ev
 ent/50173-fern-street-circus
DTSTART;VALUE=DATE:20260503
LOCATION:San Diego\, CA ()
SUMMARY:Fern Street Circus
URL:https://www.sandiegofamily.com/things-to-do/events-calendar/event/50173
 -fern-street-circus
END:VEVENT
BEGIN:VEVENT
UID:20260424T235400UTC-0927UewOHK@https://www.sandiegofamily.com/
DTSTAMP:20260424T235400Z
DESCRIPTION: https://www.sandiegofamily.com/things-to-do/events-calendar/ev
 ent/50180-orchids-in-the-wild
DTSTART;VALUE=DATE:20260503
LOCATION:San Diego Botanic Garden (230 Quail Gardens Dr\, Encinitas\, CA 92
 024\, USA)
SUMMARY:Orchids in the Wild
URL:https://www.sandiegofamily.com/things-to-do/events-calendar/event/50180
 -orchids-in-the-wild
END:VEVENT
BEGIN:VEVENT
UID:20260424T235400UTC-0928oFlnur@https://www.sandiegofamily.com/
DTSTAMP:20260424T235400Z
DESCRIPTION: https://www.sandiegofamily.com/things-to-do/events-calendar/ev
 ent/50216-cinco-de-mayo-celebration-at-seaport-village
DTSTART;VALUE=DATE:20260503
LOCATION:Seaport Village (849 W. Harbor Dr.\, downtown San Diego)
SUMMARY:Cinco de Mayo Celebration at Seaport Village
URL:https://www.sandiegofamily.com/things-to-do/events-calendar/event/50216
 -cinco-de-mayo-celebration-at-seaport-village
END:VEVENT
BEGIN:VEVENT
UID:20260424T235400UTC-0929emVaPs@https://www.sandiegofamily.com/
DTSTAMP:20260424T235400Z
DESCRIPTION: https://www.sandiegofamily.com/things-to-do/events-calendar/ev
 ent/50217-kidsfest
DTSTART;VALUE=DATE:20260503
LOCATION:Petco Park (100 Park Blvd\, San Diego\, CA 92101\, USA)
SUMMARY:KidsFest
URL:https://www.sandiegofamily.com/things-to-do/events-calendar/event/50217
 -kidsfest
END:VEVENT
BEGIN:VEVENT
UID:20260424T235400UTC-0930Jfojst@https://www.sandiegofamily.com/
DTSTAMP:20260424T235400Z
DESCRIPTION: https://www.sandiegofamily.com/things-to-do/events-calendar/ev
 ent/50219-carlsbad-village-street-faire
DTSTART;VALUE=DATE:20260503
LOCATION:Carlsbad\, CA (Alga Norte Community Park\, 6565 Alicante Rd\, Carl
 sbad\, CA 92009\, USA)
SUMMARY:Carlsbad Village Street Faire
URL:https://www.sandiegofamily.com/things-to-do/events-calendar/event/50219
 -carlsbad-village-street-faire
END:VEVENT
BEGIN:VEVENT
UID:20260424T235400UTC-0931VuHKes@https://www.sandiegofamily.com/
DTSTAMP:20260424T235400Z
DESCRIPTION: https://www.sandiegofamily.com/things-to-do/events-calendar/ev
 ent/50220-first-sundays-art-for-all
DTSTART;VALUE=DATE:20260503
LOCATION:Oceanside Museum of Art (704 Pier View Way\, Oceanside\, CA 92054\
 , USA)
SUMMARY:First Sundays Art for All
URL:https://www.sandiegofamily.com/things-to-do/events-calendar/event/50220
 -first-sundays-art-for-all
END:VEVENT
BEGIN:VEVENT
UID:20260424T235400UTC-0931DtvgM9@https://www.sandiegofamily.com/
DTSTAMP:20260424T235400Z
DESCRIPTION: https://www.sandiegofamily.com/things-to-do/events-calendar/ev
 ent/50221-childrens-day
DTSTART;VALUE=DATE:20260503
LOCATION:Japanese Friendship Garden (2215 Pan American Rd E\, San Diego\, C
 A 92101\, USA)
SUMMARY:Children’s Day
URL:https://www.sandiegofamily.com/things-to-do/events-calendar/event/50221
 -childrens-day
END:VEVENT
BEGIN:VEVENT
UID:20260424T235400UTC-09320vK4Sj@https://www.sandiegofamily.com/
DTSTAMP:20260424T235400Z
DESCRIPTION: https://www.sandiegofamily.com/things-to-do/events-calendar/ev
 ent/50222-miracle-babies-superhero-5k
DTSTART;VALUE=DATE:20260503
LOCATION:NTC Park at Liberty Station (2455 Cushing Rd\, San Diego\, CA 9210
 6\, USA)
SUMMARY:Miracle Babies Superhero 5K
URL:https://www.sandiegofamily.com/things-to-do/events-calendar/event/50222
 -miracle-babies-superhero-5k
END:VEVENT
BEGIN:VEVENT
UID:20260424T235400UTC-0933v5HhBF@https://www.sandiegofamily.com/
DTSTAMP:20260424T235400Z
DESCRIPTION: https://www.sandiegofamily.com/things-to-do/events-calendar/ev
 ent/50223-growing-together
DTSTART;VALUE=DATE:20260503
LOCATION:La Jolla\, CA (Girard Ave\, La Jolla\, CA 92037\, USA)
SUMMARY:Growing Together
URL:https://www.sandiegofamily.com/things-to-do/events-calendar/event/50223
 -growing-together
END:VEVENT
END:VCALENDAR
