BEGIN:VCALENDAR
VERSION:2.0
PRODID:-//https://www.sandiegofamily.com///NONSGML kigkonsult.se iCalcreator 2.10.15//
METHOD:PUBLISH
BEGIN:VEVENT
UID:20260424T091020UTC-6821jN8nVK@https://www.sandiegofamily.com/
DTSTAMP:20260424T091020Z
DESCRIPTION: https://www.sandiegofamily.com/component/rseventspro/event/505
 07-sesame-summer-splash?Itemid=119
DTSTART;VALUE=DATE:20260707
LOCATION:Sesame Place San Diego (2052 Entertainment Cir\, Chula Vista\, CA 
 91911\, USA)
SUMMARY:Sesame Summer Splash
URL:https://www.sandiegofamily.com/component/rseventspro/event/50507-sesame
 -summer-splash?Itemid=119
END:VEVENT
END:VCALENDAR
