BEGIN:VCALENDAR
VERSION:2.0
PRODID:-//https://www.sandiegofamily.com///NONSGML kigkonsult.se iCalcreator 2.10.15//
METHOD:PUBLISH
BEGIN:VEVENT
UID:20260424T121307UTC-7199UaFHHg@https://www.sandiegofamily.com/
DTSTAMP:20260424T121307Z
DESCRIPTION: https://www.sandiegofamily.com/component/rseventspro/event/505
 04-sesame-summer-splash?Itemid=119
DTSTART;VALUE=DATE:20260704
LOCATION:Sesame Place San Diego (2052 Entertainment Cir\, Chula Vista\, CA 
 91911\, USA)
SUMMARY:Sesame Summer Splash
URL:https://www.sandiegofamily.com/component/rseventspro/event/50504-sesame
 -summer-splash?Itemid=119
END:VEVENT
END:VCALENDAR
