BEGIN:VCALENDAR
VERSION:2.0
PRODID:-//https://www.sandiegofamily.com///NONSGML kigkonsult.se iCalcreator 2.10.15//
METHOD:PUBLISH
BEGIN:VEVENT
UID:20260424T134240UTC-4657vuKw8i@https://www.sandiegofamily.com/
DTSTAMP:20260424T134240Z
DESCRIPTION: https://www.sandiegofamily.com/component/rseventspro/event/504
 76-sesame-summer-splash?Itemid=119
DTSTART;VALUE=DATE:20260606
LOCATION:Sesame Place San Diego (2052 Entertainment Cir\, Chula Vista\, CA 
 91911\, USA)
SUMMARY:Sesame Summer Splash
URL:https://www.sandiegofamily.com/component/rseventspro/event/50476-sesame
 -summer-splash?Itemid=119
END:VEVENT
END:VCALENDAR
