BEGIN:VCALENDAR
VERSION:2.0
PRODID:-//https://www.sandiegofamily.com///NONSGML kigkonsult.se iCalcreator 2.10.15//
METHOD:PUBLISH
BEGIN:VEVENT
UID:20260424T035339UTC-7875V7uRDt@https://www.sandiegofamily.com/
DTSTAMP:20260424T035339Z
DESCRIPTION: https://www.sandiegofamily.com/component/rseventspro/event/504
 53-santee-street-fair?Itemid=119
DTSTART;VALUE=DATE:20260523
LOCATION:Santee (10845 Woodside Ave\, Santee\, CA 92071\, USA)
SUMMARY:Santee Street Fair
URL:https://www.sandiegofamily.com/component/rseventspro/event/50453-santee
 -street-fair?Itemid=119
END:VEVENT
END:VCALENDAR
