BEGIN:VCALENDAR
VERSION:2.0
PRODID:-//https://www.sandiegofamily.com///NONSGML kigkonsult.se iCalcreator 2.10.15//
METHOD:PUBLISH
BEGIN:VEVENT
UID:20260424T064008UTC-12585LZoED@https://www.sandiegofamily.com/
DTSTAMP:20260424T064008Z
DESCRIPTION: https://www.sandiegofamily.com/component/rseventspro/event/503
 71-blue-star-museums-offers-free-admission?Itemid=119
DTSTART;VALUE=DATE:20260717
LOCATION:San Diego\, CA ()
SUMMARY:Blue Star Museums offers FREE admission
URL:https://www.sandiegofamily.com/component/rseventspro/event/50371-blue-s
 tar-museums-offers-free-admission?Itemid=119
END:VEVENT
END:VCALENDAR
