BEGIN:VCALENDAR
VERSION:2.0
PRODID:-//https://www.sandiegofamily.com///NONSGML kigkonsult.se iCalcreator 2.10.15//
METHOD:PUBLISH
BEGIN:VEVENT
UID:20260424T123438UTC-2589UEH7mW@https://www.sandiegofamily.com/
DTSTAMP:20260424T123438Z
DESCRIPTION: https://www.sandiegofamily.com/component/rseventspro/event/503
 30-blue-star-museums-offers-free-admission?Itemid=119
DTSTART;VALUE=DATE:20260606
LOCATION:San Diego\, CA ()
SUMMARY:Blue Star Museums offers FREE admission
URL:https://www.sandiegofamily.com/component/rseventspro/event/50330-blue-s
 tar-museums-offers-free-admission?Itemid=119
END:VEVENT
END:VCALENDAR
