BEGIN:VCALENDAR
VERSION:2.0
PRODID:-//https://www.sandiegofamily.com///NONSGML kigkonsult.se iCalcreator 2.10.15//
METHOD:PUBLISH
BEGIN:VEVENT
UID:20260424T170449UTC-2836WNhXvn@https://www.sandiegofamily.com/
DTSTAMP:20260424T170449Z
DESCRIPTION: https://www.sandiegofamily.com/component/rseventspro/event/502
 77-fiesta-de-los-penasquitos-street-fair?Itemid=119
DTSTART;VALUE=DATE:20260509
LOCATION:San Diego\, CA ()
SUMMARY:Fiesta De Los Peñasquitos Street Fair
URL:https://www.sandiegofamily.com/component/rseventspro/event/50277-fiesta
 -de-los-penasquitos-street-fair?Itemid=119
END:VEVENT
END:VCALENDAR
