BEGIN:VCALENDAR
VERSION:2.0
PRODID:-//https://www.sandiegofamily.com///NONSGML kigkonsult.se iCalcreator 2.10.15//
METHOD:PUBLISH
BEGIN:VEVENT
UID:20260424T153152UTC-0549LVL0eV@https://www.sandiegofamily.com/
DTSTAMP:20260424T153152Z
DESCRIPTION: https://www.sandiegofamily.com/component/rseventspro/event/502
 48-cajon-cruise?Itemid=119
DTSTART;VALUE=DATE:20260722
LOCATION:El Cajon (1017 S Mollison Ave\, El Cajon\, CA 92020\, USA)
SUMMARY:Cajon Cruise
URL:https://www.sandiegofamily.com/component/rseventspro/event/50248-cajon-
 cruise?Itemid=119
END:VEVENT
END:VCALENDAR
