BEGIN:VCALENDAR
VERSION:2.0
PRODID:-//https://www.sandiegofamily.com///NONSGML kigkonsult.se iCalcreator 2.10.15//
METHOD:PUBLISH
BEGIN:VEVENT
UID:20260424T080254UTC-0816nJLPCZ@https://www.sandiegofamily.com/
DTSTAMP:20260424T080254Z
DESCRIPTION: https://www.sandiegofamily.com/component/rseventspro/event/502
 45-cajon-cruise?Itemid=119
DTSTART;VALUE=DATE:20260701
LOCATION:El Cajon (1017 S Mollison Ave\, El Cajon\, CA 92020\, USA)
SUMMARY:Cajon Cruise
URL:https://www.sandiegofamily.com/component/rseventspro/event/50245-cajon-
 cruise?Itemid=119
END:VEVENT
END:VCALENDAR
