BEGIN:VCALENDAR
VERSION:2.0
PRODID:-//https://www.sandiegofamily.com///NONSGML kigkonsult.se iCalcreator 2.10.15//
METHOD:PUBLISH
BEGIN:VEVENT
UID:20260424T200140UTC-9989TUjEZN@https://www.sandiegofamily.com/
DTSTAMP:20260424T200140Z
DESCRIPTION: https://www.sandiegofamily.com/component/rseventspro/event/371
 54-golden-state-train-ride?Itemid=119
DTSTART;VALUE=DATE:20240914
LOCATION:Pacific Southwest Railway Museum (750 Depot St\, Campo\, CA 91906\
 , USA)
SUMMARY:Golden State Train Ride
URL:https://www.sandiegofamily.com/component/rseventspro/event/37154-golden
 -state-train-ride?Itemid=119
END:VEVENT
END:VCALENDAR
