BEGIN:VCALENDAR
VERSION:2.0
PRODID:-//https://www.sandiegofamily.com///NONSGML kigkonsult.se iCalcreator 2.10.15//
METHOD:PUBLISH
BEGIN:VEVENT
UID:20260423T225859UTC-34320uLGAU@https://www.sandiegofamily.com/
DTSTAMP:20260423T225859Z
DESCRIPTION: https://www.sandiegofamily.com/component/rseventspro/event/303
 79-fallbrook-scarecrow-days?Itemid=119
DTSTART;VALUE=DATE:20231024
LOCATION:Fallbrook\, CA (Fallbrook\, CA 92028\, USA)
SUMMARY:Fallbrook Scarecrow Days
URL:https://www.sandiegofamily.com/component/rseventspro/event/30379-fallbr
 ook-scarecrow-days?Itemid=119
END:VEVENT
END:VCALENDAR
