BEGIN:VCALENDAR
VERSION:2.0
PRODID:-//https://www.sandiegofamily.com///NONSGML kigkonsult.se iCalcreator 2.10.15//
METHOD:PUBLISH
BEGIN:VEVENT
UID:20260423T202722UTC-54765MDwsi@https://www.sandiegofamily.com/
DTSTAMP:20260423T202722Z
DESCRIPTION: https://www.sandiegofamily.com/component/rseventspro/event/287
 97-concerts-at-the-cove?Itemid=119
DTSTART;VALUE=DATE:20230810
LOCATION:Fletcher Cove\, Solana Beach (111 S Sierra Ave\, Solana Beach\, CA
  92075\, USA)
SUMMARY:Concerts at the Cove
URL:https://www.sandiegofamily.com/component/rseventspro/event/28797-concer
 ts-at-the-cove?Itemid=119
END:VEVENT
END:VCALENDAR
