BEGIN:VCALENDAR
VERSION:2.0
PRODID:-//https://www.sandiegofamily.com///NONSGML kigkonsult.se iCalcreator 2.10.15//
METHOD:PUBLISH
BEGIN:VEVENT
UID:20260423T184854UTC-8434nVZtiF@https://www.sandiegofamily.com/
DTSTAMP:20260423T184854Z
DESCRIPTION: https://www.sandiegofamily.com/component/rseventspro/event/284
 07-savage-gardens?Itemid=119
DTSTART;VALUE=DATE:20231019
LOCATION:San Diego Botanic Garden (230 Quail Gardens Dr\, Encinitas\, CA 92
 024\, USA)
SUMMARY:Savage Gardens
URL:https://www.sandiegofamily.com/component/rseventspro/event/28407-savage
 -gardens?Itemid=119
END:VEVENT
END:VCALENDAR
