BEGIN:VCALENDAR
VERSION:2.0
PRODID:-//https://www.sandiegofamily.com///NONSGML kigkonsult.se iCalcreator 2.10.15//
METHOD:PUBLISH
BEGIN:VEVENT
UID:20260423T214900UTC-0990tB3sLn@https://www.sandiegofamily.com/
DTSTAMP:20260423T214900Z
DESCRIPTION: https://www.sandiegofamily.com/component/rseventspro/event/232
 19-skating-by-the-sea?Itemid=119
DTSTART;VALUE=DATE:20221206
LOCATION:Hotel del Coronado  (1500 Orange Ave.\, Coronado)
SUMMARY:Skating by the Sea
URL:https://www.sandiegofamily.com/component/rseventspro/event/23219-skatin
 g-by-the-sea?Itemid=119
END:VEVENT
END:VCALENDAR
