BEGIN:VCALENDAR
VERSION:2.0
PRODID:-//https://www.sandiegofamily.com///NONSGML kigkonsult.se iCalcreator 2.10.15//
METHOD:PUBLISH
BEGIN:VEVENT
UID:20260424T085904UTC-0305mJXuau@https://www.sandiegofamily.com/
DTSTAMP:20260424T085904Z
DESCRIPTION: https://www.sandiegofamily.com/component/rseventspro/event/228
 39-california-farm-life-pumpkin-patch?Itemid=119
DTSTART;VALUE=DATE:20221019
LOCATION:Ramona\, CA ()
SUMMARY:California Farm Life Pumpkin Patch
URL:https://www.sandiegofamily.com/component/rseventspro/event/22839-califo
 rnia-farm-life-pumpkin-patch?Itemid=119
END:VEVENT
END:VCALENDAR
