BEGIN:VCALENDAR
VERSION:2.0
PRODID:-//https://www.sandiegofamily.com///NONSGML kigkonsult.se iCalcreator 2.10.15//
METHOD:PUBLISH
BEGIN:VEVENT
UID:20260423T220021UTC-0975STz3Bu@https://www.sandiegofamily.com/
DTSTAMP:20260423T220021Z
DESCRIPTION: https://www.sandiegofamily.com/component/rseventspro/event/219
 08-adams-avenue-street-fair?Itemid=119
DTSTART;VALUE=DATE:20220924
LOCATION:Adams Avenue (Adams Ave\, San Diego\, CA 92116\, USA)
SUMMARY:Adams Avenue Street Fair
URL:https://www.sandiegofamily.com/component/rseventspro/event/21908-adams-
 avenue-street-fair?Itemid=119
END:VEVENT
END:VCALENDAR
