BEGIN:VCALENDAR
VERSION:2.0
PRODID:-//https://www.sandiegofamily.com///NONSGML kigkonsult.se iCalcreator 2.10.15//
METHOD:PUBLISH
BEGIN:VEVENT
UID:20260424T213457UTC-5006k2D3o0@https://www.sandiegofamily.com/
DTSTAMP:20260424T213457Z
DESCRIPTION: https://www.sandiegofamily.com/component/rseventspro/event/216
 72-clairemont-family-day?Itemid=119
DTSTART:20220910T150000Z
DTEND:20220910T230000Z
LOCATION:South Clairemont Park (3605 Clairemont Dr\, San Diego\, CA 92117\,
  USA)
SUMMARY:Clairemont Family Day
URL:https://www.sandiegofamily.com/component/rseventspro/event/21672-claire
 mont-family-day?Itemid=119
END:VEVENT
END:VCALENDAR
