BEGIN:VCALENDAR
VERSION:2.0
PRODID:-//https://www.sandiegofamily.com///NONSGML kigkonsult.se iCalcreator 2.10.15//
METHOD:PUBLISH
BEGIN:VEVENT
UID:20260424T052446UTC-8383ESOVxM@https://www.sandiegofamily.com/
DTSTAMP:20260424T052446Z
DESCRIPTION: https://www.sandiegofamily.com/component/rseventspro/event/214
 61-san-diego-international-organ-festival?Itemid=119
DTSTART;VALUE=DATE:20220905
LOCATION:Balboa Park (Balboa Park\, San Diego\, CA\, USA)
SUMMARY:San Diego International Organ Festival
URL:https://www.sandiegofamily.com/component/rseventspro/event/21461-san-di
 ego-international-organ-festival?Itemid=119
END:VEVENT
END:VCALENDAR
