BEGIN:VCALENDAR
VERSION:2.0
PRODID:-//https://www.sandiegofamily.com///NONSGML kigkonsult.se iCalcreator 2.10.15//
METHOD:PUBLISH
BEGIN:VEVENT
UID:20260424T152708UTC-9509us9Gbl@https://www.sandiegofamily.com/
DTSTAMP:20260424T152708Z
DESCRIPTION: https://www.sandiegofamily.com/component/rseventspro/event/206
 26-balboa-park-twilight-concerts?Itemid=119
DTSTART;VALUE=DATE:20220706
LOCATION:Balboa Park (Balboa Park\, San Diego\, CA\, USA)
SUMMARY:Balboa Park Twilight Concerts
URL:https://www.sandiegofamily.com/component/rseventspro/event/20626-balboa
 -park-twilight-concerts?Itemid=119
END:VEVENT
END:VCALENDAR
