BEGIN:VCALENDAR
VERSION:2.0
PRODID:-//https://www.sandiegofamily.com///NONSGML kigkonsult.se iCalcreator 2.10.15//
METHOD:PUBLISH
BEGIN:VEVENT
UID:20260420T140646UTC-1309MA9PSB@https://www.sandiegofamily.com/
DTSTAMP:20260420T140646Z
DESCRIPTION: https://www.sandiegofamily.com/component/rseventspro/event/179
 00-teacher-fun-card-at-seaworld?Itemid=119
DTSTART;VALUE=DATE:20220220
LOCATION:SeaWorld San Diego (500 Sea World Dr\, San Diego\, CA 92109\, USA)
SUMMARY:Teacher Fun Card at SeaWorld
URL:https://www.sandiegofamily.com/component/rseventspro/event/17900-teache
 r-fun-card-at-seaworld?Itemid=119
END:VEVENT
END:VCALENDAR
