BEGIN:VCALENDAR
VERSION:2.0
PRODID:-//https://www.sandiegofamily.com///NONSGML kigkonsult.se iCalcreator 2.10.15//
METHOD:PUBLISH
BEGIN:VEVENT
UID:20260423T230242UTC-16156zfnUs@https://www.sandiegofamily.com/
DTSTAMP:20260423T230242Z
DESCRIPTION: https://www.sandiegofamily.com/component/rseventspro/event/169
 22-rady-childrens-ice-rink-at-liberty-station?Itemid=119
DTSTART;VALUE=DATE:20211207
LOCATION:Liberty Station (2875 Dewey Rd\, San Diego\, CA 92106\, USA)
SUMMARY:Rady Children’s Ice Rink at Liberty Station
URL:https://www.sandiegofamily.com/component/rseventspro/event/16922-rady-c
 hildrens-ice-rink-at-liberty-station?Itemid=119
END:VEVENT
END:VCALENDAR
