BEGIN:VCALENDAR
VERSION:2.0
PRODID:-//https://www.sandiegofamily.com///NONSGML kigkonsult.se iCalcreator 2.10.15//
METHOD:PUBLISH
BEGIN:VEVENT
UID:20260424T085713UTC-4803ovJ1ex@https://www.sandiegofamily.com/
DTSTAMP:20260424T085713Z
DESCRIPTION: https://www.sandiegofamily.com/component/rseventspro/event/137
 94-aquatica-san-diego?Itemid=119
DTSTART;VALUE=DATE:20210607
LOCATION:Aquatica San Diego (2052 Entertainment Cir\, Chula Vista\, CA 9191
 1\, USA)
SUMMARY:Aquatica San Diego
URL:https://www.sandiegofamily.com/component/rseventspro/event/13794-aquati
 ca-san-diego?Itemid=119
END:VEVENT
END:VCALENDAR
