BEGIN:VCALENDAR
VERSION:2.0
PRODID:-//https://www.sandiegofamily.com///NONSGML kigkonsult.se iCalcreator 2.10.15//
METHOD:PUBLISH
BEGIN:VEVENT
UID:20260424T073327UTC-7675wHbwII@https://www.sandiegofamily.com/
DTSTAMP:20260424T073327Z
DESCRIPTION: https://www.sandiegofamily.com/component/rseventspro/event/137
 47-cajon-classic-cruise-car-show?Itemid=119
DTSTART;VALUE=DATE:20210714
LOCATION:Downtown El Cajon (201 E Main St\, El Cajon\, CA 92020\, USA)
SUMMARY:Cajon Classic Cruise Car Show
URL:https://www.sandiegofamily.com/component/rseventspro/event/13747-cajon-
 classic-cruise-car-show?Itemid=119
END:VEVENT
END:VCALENDAR
